BEGIN:VCALENDAR
VERSION:2.0
PRODID:-//digitalHUB Aachen - ECPv6.15.20//NONSGML v1.0//EN
CALSCALE:GREGORIAN
METHOD:PUBLISH
X-WR-CALNAME:digitalHUB Aachen
X-ORIGINAL-URL:https://www.aachen.digital/en/
X-WR-CALDESC:Events for digitalHUB Aachen
REFRESH-INTERVAL;VALUE=DURATION:PT1H
X-Robots-Tag:noindex
X-PUBLISHED-TTL:PT1H
BEGIN:VTIMEZONE
TZID:Europe/Berlin
BEGIN:DAYLIGHT
TZOFFSETFROM:+0100
TZOFFSETTO:+0200
TZNAME:CEST
DTSTART:20230326T010000
END:DAYLIGHT
BEGIN:STANDARD
TZOFFSETFROM:+0200
TZOFFSETTO:+0100
TZNAME:CET
DTSTART:20231029T010000
END:STANDARD
BEGIN:DAYLIGHT
TZOFFSETFROM:+0100
TZOFFSETTO:+0200
TZNAME:CEST
DTSTART:20240331T010000
END:DAYLIGHT
BEGIN:STANDARD
TZOFFSETFROM:+0200
TZOFFSETTO:+0100
TZNAME:CET
DTSTART:20241027T010000
END:STANDARD
BEGIN:DAYLIGHT
TZOFFSETFROM:+0100
TZOFFSETTO:+0200
TZNAME:CEST
DTSTART:20250330T010000
END:DAYLIGHT
BEGIN:STANDARD
TZOFFSETFROM:+0200
TZOFFSETTO:+0100
TZNAME:CET
DTSTART:20251026T010000
END:STANDARD
BEGIN:DAYLIGHT
TZOFFSETFROM:+0100
TZOFFSETTO:+0200
TZNAME:CEST
DTSTART:20260329T010000
END:DAYLIGHT
BEGIN:STANDARD
TZOFFSETFROM:+0200
TZOFFSETTO:+0100
TZNAME:CET
DTSTART:20261025T010000
END:STANDARD
END:VTIMEZONE
BEGIN:VEVENT
DTSTART;TZID=Europe/Berlin:20251126T130000
DTEND;TZID=Europe/Berlin:20251126T170000
DTSTAMP:20260423T181636
CREATED:20251028T093131Z
LAST-MODIFIED:20251028T093155Z
UID:10007470-1764162000-1764176400@www.aachen.digital
SUMMARY:Infoveranstaltung: Cross-Innovationen
DESCRIPTION:Cross-Innovationen für eine gesunde und nachhaltige Region \nWandel und Fortschritt entstehen dort\, wo wir innovative Ideen über Branchengrenzen hinweg denken. Unser Ziel ist eine gesunde und nachhaltige Region. Lassen Sie uns gemeinsam Cross-Innovationen finden – Lösungen genau dort\, wo bisher noch nicht hingeschaut wurde. \nIm Rahmen der Informationsveranstaltung zeigen und diskutieren wir\, was Cross-Innovationen eigentlich sind\, warum sie relevant sind und wie wir sie nutzen können\, um unsere Region voranzubringen. \nFür Entscheider*innen\, Entwickler*innen\, Gestalter*innen aus Politik\, Gesundheit\, Wirtschaft und Forschung. \nTeilnahme kostenfrei. \nANMELDUNG
URL:https://www.aachen.digital/en/event/infoveranstaltung-cross-innovationen/
LOCATION:FIR-Konferenzzentrum auf dem RWTH Aachen Campus\, Campus-Boulevard 55\, Aachen\, 52074\, Germany
ATTACH;FMTTYPE=image/jpeg:https://www.aachen.digital/wp-content/uploads/2025/10/Bild1.jpg
END:VEVENT
BEGIN:VEVENT
DTSTART;TZID=Europe/Berlin:20250514T130000
DTEND;TZID=Europe/Berlin:20250515T140000
DTSTAMP:20260423T181636
CREATED:20250324T084422Z
LAST-MODIFIED:20250324T084422Z
UID:10007284-1747227600-1747317600@www.aachen.digital
SUMMARY:TuWAs-Netzwerktage
DESCRIPTION:Die Automobilindustrie erlebt gegenwärtig einen tiefgreifenden Wandel\, getrieben von mehreren gleichzeitig wirkenden Trends. Unternehmen stehen vor der Herausforderung\, ihre Wertschöpfungsketten und Geschäftsmodelle zukunftsorientiert auszurichten\, insbesondere\, wenn sie bisher als Zulieferer der Automobilindustrie Teile für den Verbrennungsmotor produzieren und nun den Übergang zur E-Mobilität erfolgreich gestalten müssen. \nErfahren Sie bei den zweiten TuWAs-Netzwerktagen\, wie Sie Ihre Wertschöpfungsmodelle im Strukturwandel der Automobilindustrie neu ausrichten sowie Produkte und Prozesse an geänderte Anforderungen anpassen können. Es erwarten Sie Fachvorträge und Praxisworkshops in den vier Themenfeldern Neue Märkte\, Energie\, Digitalisierung und Flexibilisierung der Produktion sowie eine Führung durch die Demonstrationsfabrik Aachen. \nDiskutieren Sie mit Expert:innen und Branchenvertreter:innen. Nutzen Sie die Nutzwerktage als Forum für Wissen und Austausch. \nHier kostenfrei anmelden!
URL:https://www.aachen.digital/en/event/tuwas-netzwerktage/
LOCATION:FIR-Konferenzzentrum auf dem RWTH Aachen Campus\, Campus-Boulevard 55\, Aachen\, 52074\, Germany
ATTACH;FMTTYPE=image/png:https://www.aachen.digital/wp-content/uploads/2025/03/TuWAs-Netzwerktage.png
END:VEVENT
BEGIN:VEVENT
DTSTART;TZID=Europe/Berlin:20241206T083000
DTEND;TZID=Europe/Berlin:20241206T140000
DTSTAMP:20260423T181636
CREATED:20241010T112417Z
LAST-MODIFIED:20241126T110541Z
UID:10006883-1733473800-1733493600@www.aachen.digital
SUMMARY:DiCES-Projekttreffen
DESCRIPTION:Wie lassen sich die Potenziale der Kreislaufwirtschaft vollständig nutzen?\nFIR an der RWTH Aachen  entwickelt mit dem Forschungsprojekt DiCES – Digital Transformation of Circular-Economy for Industrial Sustainability ein datenbasiertes Entscheidungsmodell zur Integration mehrerer Kreislaufstrategien. \nZiel\nDie Kreislaufwirtschaft entlang der gesamten Wertschöpfungskette zu etablieren und echte Nachhaltigkeit zu erzielen. \n  \nBeim aktuellen DiCES-Projekttreffen werden die neuesten Erkenntnisse aus dem Forschungsprojekt vorgestellt und praxisorientierte Einblicke in die Umsetzung von Kreislaufwirtschaftskonzepten gewährt. \nHighlight ist der Besuch der Demonstrationsfabrik Aachen (DFA)\, bei dem man Circular-Economy live in einer realen Produktionsumgebung erleben kann.\nDas Treffen bietet auch Gelegenheit\, sich mit Expert:Innen und Gleichgesinnten auszutauschen und Anknüpfungspunkte für mögliche Kooperationen zu finden\, um die Kreislaufwirtschaft gemeinsam voranzutreiben. \nDie Teilnahme ist für alle Interessierten offen und kostenfrei. \nProgramm\n\ndie Vorstellung von aktuellen Ergebnissen und Erkenntnissen aus dem\nDiCES-Projekt\,\nein Besuch der Demonstrationsfabrik Aachen mit Einblicken in die praktische Umsetzung der Circular-Economy\,\ninspirierende Gespräche mit unseren Spezialist:Innen\,\nNetworking und Austausch zu Kooperationsmöglichkeiten mit den Teilnehmenden und\nneues Wissen sowie Impulse für Ihren Weg zur echten Kreislaufwirtschaft.\n\nHier anmelden \n 
URL:https://www.aachen.digital/en/event/dices-projekttreffen/
LOCATION:FIR-Konferenzzentrum auf dem RWTH Aachen Campus\, Campus-Boulevard 55\, Aachen\, 52074\, Germany
ATTACH;FMTTYPE=image/jpeg:https://www.aachen.digital/wp-content/uploads/2024/10/DICES-Stage-1920-x-1080.jpg
ORGANIZER;CN="FIR an der RWTH Aachen":MAILTO:info@fir.rwth-aachen.de
END:VEVENT
END:VCALENDAR