BEGIN:VCALENDAR
VERSION:2.0
PRODID:-//digitalHUB Aachen - ECPv6.15.20//NONSGML v1.0//EN
CALSCALE:GREGORIAN
METHOD:PUBLISH
X-WR-CALNAME:digitalHUB Aachen
X-ORIGINAL-URL:https://www.aachen.digital/en/
X-WR-CALDESC:Events for digitalHUB Aachen
REFRESH-INTERVAL;VALUE=DURATION:PT1H
X-Robots-Tag:noindex
X-PUBLISHED-TTL:PT1H
BEGIN:VTIMEZONE
TZID:Europe/Berlin
BEGIN:DAYLIGHT
TZOFFSETFROM:+0100
TZOFFSETTO:+0200
TZNAME:CEST
DTSTART:20240331T010000
END:DAYLIGHT
BEGIN:STANDARD
TZOFFSETFROM:+0200
TZOFFSETTO:+0100
TZNAME:CET
DTSTART:20241027T010000
END:STANDARD
BEGIN:DAYLIGHT
TZOFFSETFROM:+0100
TZOFFSETTO:+0200
TZNAME:CEST
DTSTART:20250330T010000
END:DAYLIGHT
BEGIN:STANDARD
TZOFFSETFROM:+0200
TZOFFSETTO:+0100
TZNAME:CET
DTSTART:20251026T010000
END:STANDARD
BEGIN:DAYLIGHT
TZOFFSETFROM:+0100
TZOFFSETTO:+0200
TZNAME:CEST
DTSTART:20260329T010000
END:DAYLIGHT
BEGIN:STANDARD
TZOFFSETFROM:+0200
TZOFFSETTO:+0100
TZNAME:CET
DTSTART:20261025T010000
END:STANDARD
END:VTIMEZONE
BEGIN:VEVENT
DTSTART;TZID=Europe/Berlin:20250924T103000
DTEND;TZID=Europe/Berlin:20250924T203000
DTSTAMP:20260423T204331
CREATED:20250826T132002Z
LAST-MODIFIED:20250826T132112Z
UID:10007414-1758709800-1758745800@www.aachen.digital
SUMMARY:Ideenfutter Expo
DESCRIPTION:Innovation ist kein Zufall – sondern das Ergebnis von Perspektivwechseln\, Reibung\, Austausch. \n\nIn einer Zeit\, in der Märkte unsicher\, Ressourcen knapp und Anforderungen komplexer werden\, braucht es neue Lösungswege – und Räume\, in denen unterschiedliche Akteure gemeinsam an ihnen arbeiten. Die Ideenfutter Expo ist genau so ein Ort: ein Treffpunkt für alle\, die die Land- und Lebensmittelwirtschaft aktiv weiterdenken wollen – von der Forschung bis zum fertigen Produkt\, vom Start-up bis zum etablierten Betrieb. \nDenn Innovation ist ein Kontinuum: Sie beginnt mit einer Vision\, wird zur Idee\, durchläuft Erprobung\, Anpassung\, Markteintritt – und führt\, wenn viele entlang der Kette mitziehen\, zu echter Transformation. \nAuf der Ideenfutter Expo kannst du Innovation in allen Phasen erleben – und mitgestalten: \n\nkonkrete Lösungen\, die heute schon auf Feldern\, in Höfen\, Produktionslinien oder Läden zum Einsatz kommen\,\nentwicklungsreife Ideen\, die Partner für Pilotierung oder Skalierung suchen\,\nund zukunftsweisende Visionen\, die offenes Feedback\, Mitmacher:innen und kritische Perspektiven brauchen.\n\nWas die Ideenfutter besonders macht: der direkte Austausch. Hier treffen sich Menschen\, die sonst selten miteinander sprechen – Gründer:innen und Geschäftsführer:innen\, Forschende und Praktiker:innen\, Start-ups und Mittelstand\, Handel und Investoren. \nOb an den Ständen\, bei unseren Branchetalks um den runden Tisch oder bei einem Kaffee in der Lounge – hier entstehen Kooperationen\, neue Denkansätze und Impulse für eine nachhaltige und wettbewerbsfähige Land- und Ernährungswirtschaft. \nAm 24. September 2025 bringt die Ideenfutter Expo des Foodhub NRW e.V. bereits zum siebten Mal Macher:innen zusammen – auch in diesem Jahr wieder zusammen mit der Wirtschaftsförderung Rhein-Kreiss Neuss. Neu dabei ist das Projekt TransformERN als Inhaltepartner. Nach dem Motto „Transfer für Transformation“ geben wir zusammen mit TransformERN Ideen aus der Wissenschaft in diesem Jahr bewusst mehr Raum. \nSei dabei. Denk mit. Vernetz dich. \nWir freuen uns auf dich!
URL:https://www.aachen.digital/en/event/ideenfutter-expo/
LOCATION:Gare du Neuss\, Karl-Arnold-Strasse 3-5\, Neuss\, NRW\, 41462\, Germany
ATTACH;FMTTYPE=image/jpeg:https://www.aachen.digital/wp-content/uploads/2025/08/Ideenfutter-Expo.jpg
END:VEVENT
END:VCALENDAR