BEGIN:VCALENDAR
VERSION:2.0
PRODID:-//digitalHUB Aachen - ECPv6.15.20//NONSGML v1.0//EN
CALSCALE:GREGORIAN
METHOD:PUBLISH
X-WR-CALNAME:digitalHUB Aachen
X-ORIGINAL-URL:https://www.aachen.digital/en/
X-WR-CALDESC:Events for digitalHUB Aachen
REFRESH-INTERVAL;VALUE=DURATION:PT1H
X-Robots-Tag:noindex
X-PUBLISHED-TTL:PT1H
BEGIN:VTIMEZONE
TZID:Europe/Berlin
BEGIN:DAYLIGHT
TZOFFSETFROM:+0100
TZOFFSETTO:+0200
TZNAME:CEST
DTSTART:20180325T010000
END:DAYLIGHT
BEGIN:STANDARD
TZOFFSETFROM:+0200
TZOFFSETTO:+0100
TZNAME:CET
DTSTART:20181028T010000
END:STANDARD
BEGIN:DAYLIGHT
TZOFFSETFROM:+0100
TZOFFSETTO:+0200
TZNAME:CEST
DTSTART:20190331T010000
END:DAYLIGHT
BEGIN:STANDARD
TZOFFSETFROM:+0200
TZOFFSETTO:+0100
TZNAME:CET
DTSTART:20191027T010000
END:STANDARD
BEGIN:DAYLIGHT
TZOFFSETFROM:+0100
TZOFFSETTO:+0200
TZNAME:CEST
DTSTART:20200329T010000
END:DAYLIGHT
BEGIN:STANDARD
TZOFFSETFROM:+0200
TZOFFSETTO:+0100
TZNAME:CET
DTSTART:20201025T010000
END:STANDARD
END:VTIMEZONE
BEGIN:VEVENT
DTSTART;TZID=Europe/Berlin:20191001T180000
DTEND;TZID=Europe/Berlin:20191001T210000
DTSTAMP:20260423T230544
CREATED:20190909T123853Z
LAST-MODIFIED:20190909T123853Z
UID:10005375-1569952800-1569963600@www.aachen.digital
SUMMARY:Aachen Data & AI Meetup: User Experience of Data
DESCRIPTION:User Experience of Data – Visualizing Data for Actionable Insights\nUsing data is like following a treasure map. You follow it wherever it leads to find the X and dig up the treasure hidden below the surface. As a cooperation between the Aachen Usability Meetup and the Aachen Data & AI Meetup we’ll be talking about the user experience of data. We’ve invited four experts in this field to present their approaches to uncovering the treasure trove of information buried in the data. Over the course of the evening\, we’ll learn about how they produce insights from data and how you can apply these approaches yourselves. \nRené Stoffels-Fuchs\, BI Frontend Architect at Generali IT\, will give us a look into the proven and robust standards they apply to reporting\, making it easy for everyone in the room to focus on what’s important. Brightlands Smart Services Campus Prof Kay Schroder will drill deep into the third dimension of data visualisation\, while Ji-Seung Shin\, master student at the chair for Process and Data Science\, RWTH\, will add the dimension of time to the mix\, talking about animated visualisations. Last but not least\, Miriam Schmalen\, senior service designer at Cocomore AG will show us the value of transforming data into stories. \nFollowing the presentations\, the speakers will discuss the advantages and disadvantages to their approaches in different use cases. Should you wish\, you’ll have the opportunity to join the discussion with your own experiences\, insights and questions. As always\, the evening will be rounded out with networking over snacks and drinks. \nAGENDA & REGISTRATION
URL:https://www.aachen.digital/en/event/user-experience-of-data/
LOCATION:Generali Deutschland Informatik Service\, Anton-Kurze-Allee 16\, Aachen\, 52064\, Deutschland
ATTACH;FMTTYPE=image/jpeg:https://www.aachen.digital/wp-content/uploads/2019/09/user-experience-of-data.jpg
END:VEVENT
END:VCALENDAR