BEGIN:VCALENDAR
VERSION:2.0
PRODID:-//digitalHUB Aachen - ECPv6.15.20//NONSGML v1.0//EN
CALSCALE:GREGORIAN
METHOD:PUBLISH
X-WR-CALNAME:digitalHUB Aachen
X-ORIGINAL-URL:https://www.aachen.digital/en/
X-WR-CALDESC:Events for digitalHUB Aachen
REFRESH-INTERVAL;VALUE=DURATION:PT1H
X-Robots-Tag:noindex
X-PUBLISHED-TTL:PT1H
BEGIN:VTIMEZONE
TZID:Europe/Berlin
BEGIN:DAYLIGHT
TZOFFSETFROM:+0100
TZOFFSETTO:+0200
TZNAME:CEST
DTSTART:20230326T010000
END:DAYLIGHT
BEGIN:STANDARD
TZOFFSETFROM:+0200
TZOFFSETTO:+0100
TZNAME:CET
DTSTART:20231029T010000
END:STANDARD
BEGIN:DAYLIGHT
TZOFFSETFROM:+0100
TZOFFSETTO:+0200
TZNAME:CEST
DTSTART:20240331T010000
END:DAYLIGHT
BEGIN:STANDARD
TZOFFSETFROM:+0200
TZOFFSETTO:+0100
TZNAME:CET
DTSTART:20241027T010000
END:STANDARD
BEGIN:DAYLIGHT
TZOFFSETFROM:+0100
TZOFFSETTO:+0200
TZNAME:CEST
DTSTART:20250330T010000
END:DAYLIGHT
BEGIN:STANDARD
TZOFFSETFROM:+0200
TZOFFSETTO:+0100
TZNAME:CET
DTSTART:20251026T010000
END:STANDARD
END:VTIMEZONE
BEGIN:VEVENT
DTSTART;TZID=Europe/Berlin:20241009T160000
DTEND;TZID=Europe/Berlin:20241009T173000
DTSTAMP:20260423T201511
CREATED:20240109T114736Z
LAST-MODIFIED:20240123T143531Z
UID:10006043-1728489600-1728495000@www.aachen.digital
SUMMARY:IT-Notfallplan leicht gemacht - Roadshow für die Region Aachen
DESCRIPTION:Haben Sie eigentlich eine aktuelle Telefonliste parat\, falls der Bildschirm bei einem Hackerangriff schwarz bleibt? Ein gut entwickelter und regelmäßig getesteter IT-Notfallplan ist unerlässlich\, um im Falle eines Ausfalls der IT-Infrastruktur schnell und effizient reagieren zu können. Es geht dabei nicIT-Notfallplan leicht gemacht – Roadshow für die Region Aachenht nur um die Wiederherstellung von Systemen und Daten\, sondern auch darum\, das Vertrauen von Kunden\, Partnern und Mitarbeitern zu bewahren und den fortlaufenden Geschäftsbetrieb zu sichern. \nUm für den Ernstfall praxisnahe Lösungen zu bieten\, laden die IHK Aachen und DIGITAL.SICHER.NRW\, das Kompetenzzentrum für Cybersicherheit in der Wirtschaft\, zur Roadshow und Veranstaltungsreihe “IT-Notfallplan leicht gemacht” mit mehreren Terminen an verschiedenen Locations ein. \nInformationen zu den jeweiligen Terminen und zur kostenfreien Anmeldung finden Sie unter www.ihk.de/aachen/it-notfallplan \nZUR ANMELDUNG
URL:https://www.aachen.digital/en/event/it-notfallplan-leicht-gemacht-roadshow-fuer-die-region-aachen/
LOCATION:GeTeCe\, Gartenstraße 38\, Eschweiler\, 52249\, Deutschland
ATTACH;FMTTYPE=image/jpeg:https://www.aachen.digital/wp-content/uploads/2024/01/Stage_Cybersecurity_IHK.jpg
ORGANIZER;CN="IHK Aachen":MAILTO:info@ihkaachen.de
END:VEVENT
END:VCALENDAR