BEGIN:VCALENDAR
VERSION:2.0
PRODID:-//digitalHUB Aachen - ECPv6.15.20//NONSGML v1.0//EN
CALSCALE:GREGORIAN
METHOD:PUBLISH
X-ORIGINAL-URL:https://www.aachen.digital/en/
X-WR-CALDESC:Events for digitalHUB Aachen
REFRESH-INTERVAL;VALUE=DURATION:PT1H
X-Robots-Tag:noindex
X-PUBLISHED-TTL:PT1H
BEGIN:VTIMEZONE
TZID:Europe/Berlin
BEGIN:DAYLIGHT
TZOFFSETFROM:+0100
TZOFFSETTO:+0200
TZNAME:CEST
DTSTART:20230326T010000
END:DAYLIGHT
BEGIN:STANDARD
TZOFFSETFROM:+0200
TZOFFSETTO:+0100
TZNAME:CET
DTSTART:20231029T010000
END:STANDARD
BEGIN:DAYLIGHT
TZOFFSETFROM:+0100
TZOFFSETTO:+0200
TZNAME:CEST
DTSTART:20240331T010000
END:DAYLIGHT
BEGIN:STANDARD
TZOFFSETFROM:+0200
TZOFFSETTO:+0100
TZNAME:CET
DTSTART:20241027T010000
END:STANDARD
BEGIN:DAYLIGHT
TZOFFSETFROM:+0100
TZOFFSETTO:+0200
TZNAME:CEST
DTSTART:20250330T010000
END:DAYLIGHT
BEGIN:STANDARD
TZOFFSETFROM:+0200
TZOFFSETTO:+0100
TZNAME:CET
DTSTART:20251026T010000
END:STANDARD
END:VTIMEZONE
BEGIN:VEVENT
DTSTART;TZID=Europe/Berlin:20240927T180000
DTEND;TZID=Europe/Berlin:20240927T220000
DTSTAMP:20260423T215136
CREATED:20240805T112218Z
LAST-MODIFIED:20240805T112218Z
UID:10006197-1727460000-1727474400@www.aachen.digital
SUMMARY:ruhrSTARTUPWEEK | Abschlussparty
DESCRIPTION:Freut euch auf spannende Impulse von Special Guests\, die Krönung des “Start-up of the Year” mit dem ruhrHUB Award und eine unvergessliche Party zum Netzwerken. Genießt Food & Drinks for free und lasst uns gemeinsam feiern! \nSeid dabei\, wenn wir die Highlights der Woche Revue passieren lassen und neue Kontakte knüpfen. Sichert euch jetzt euer Ticket für eine Nacht voller Inspiration und Spaß! \nJetzt anmelden
URL:https://www.aachen.digital/en/event/ruhrstartupweek-abschlussparty/
LOCATION:Gleis 9 Bochum\, Am Kulturgleis 9\, Bochum\, Nordrhein-Westfalen\, 44787\, Germany
ATTACH;FMTTYPE=image/jpeg:https://www.aachen.digital/wp-content/uploads/2024/08/Design-ohne-Titel-26.jpg
ORGANIZER;CN="ruhrHUB":MAILTO:info@hub.ruhr
END:VEVENT
END:VCALENDAR