BEGIN:VCALENDAR
VERSION:2.0
PRODID:-//digitalHUB Aachen - ECPv6.15.20//NONSGML v1.0//EN
CALSCALE:GREGORIAN
METHOD:PUBLISH
X-WR-CALNAME:digitalHUB Aachen
X-ORIGINAL-URL:https://www.aachen.digital/en/
X-WR-CALDESC:Events for digitalHUB Aachen
REFRESH-INTERVAL;VALUE=DURATION:PT1H
X-Robots-Tag:noindex
X-PUBLISHED-TTL:PT1H
BEGIN:VTIMEZONE
TZID:Europe/Berlin
BEGIN:DAYLIGHT
TZOFFSETFROM:+0100
TZOFFSETTO:+0200
TZNAME:CEST
DTSTART:20180325T010000
END:DAYLIGHT
BEGIN:STANDARD
TZOFFSETFROM:+0200
TZOFFSETTO:+0100
TZNAME:CET
DTSTART:20181028T010000
END:STANDARD
BEGIN:DAYLIGHT
TZOFFSETFROM:+0100
TZOFFSETTO:+0200
TZNAME:CEST
DTSTART:20190331T010000
END:DAYLIGHT
BEGIN:STANDARD
TZOFFSETFROM:+0200
TZOFFSETTO:+0100
TZNAME:CET
DTSTART:20191027T010000
END:STANDARD
BEGIN:DAYLIGHT
TZOFFSETFROM:+0100
TZOFFSETTO:+0200
TZNAME:CEST
DTSTART:20200329T010000
END:DAYLIGHT
BEGIN:STANDARD
TZOFFSETFROM:+0200
TZOFFSETTO:+0100
TZNAME:CET
DTSTART:20201025T010000
END:STANDARD
END:VTIMEZONE
BEGIN:VEVENT
DTSTART;TZID=Europe/Berlin:20190219T130000
DTEND;TZID=Europe/Berlin:20190219T170000
DTSTAMP:20260424T022618
CREATED:20190205T092858Z
LAST-MODIFIED:20221213T132619Z
UID:10004715-1550581200-1550595600@www.aachen.digital
SUMMARY:HYPEREGIO - B2B Matchmaking “The Path to Digitalization of the Logistics Industry”
DESCRIPTION:The logistics industry benefits immensely from the latest technology and will continue to grow as more advances are made. On one hand this is a major challenge\, on the other hand it offers plenty of opportunities. Improved technology has increased productivity in the supply chain\, minimizing costs and errors. \nWhere do you start this digital transformation? And who are the companies that can assist in taking the first or next steps? \nAs part of the Interreg HYPEREGIO program “Innovation2Market”\, LIOF\, Basse-Meuse Développement (Belgium) and Kreis Euskirchen (Germany) organize a special matchmaking event on this theme. You will be informed about which chances there are for your company: Dutch\, German and Belgian companies will share their knowledge with you. During the event we will try to match the demand with the offering\, the problem with a solution and this in a cross-border way of cooperation. \nProgramme: \n\n12:00: Registration and business lunch\n13:00: Introduction Logistics Industry in Limburg by Dr. Joost van den Akker\, Regional Minister of Economic Affairs\n13:20: Presentation by Ahold Delhaize (NL) by Iris Freericks\n13:45: Presentation by RWTH Logistik Cluster (D) by Christian Maasem\n14:30: Start pitchround with short pitches of companies that are active in this field (Trapps Wise\, Global Software\, Pharox\, Sjoprz\, Mediaan\, Navabi Gmbh and more)\n15:40: Introduction to HYPEREGIO by Jorg van der Meij\n15:50: Start 1-on-1 meetings (matchmaking)\nNetworking and drinks\n\nThe location of the event is very fitting to the cross border nature of the event: at the beautiful Statenzaal of the Gouvernement aan de Maas in Maastricht the ‘Treaty on European Union’ was signed in 1992. \nYou can further information here. \nParticipation is free of charge\, but registration is mandatory.\nRegistration
URL:https://www.aachen.digital/en/event/hyperegio-b2b-matchmaking-the-path-to-digitalization-of-the-logistics-industry/
LOCATION:Gouvernement (Provincie Limburg)\, Limburglaan 10\, GA Maastricht\, 36229\, Niederlande
ATTACH;FMTTYPE=image/jpeg:https://www.aachen.digital/wp-content/uploads/2019/02/imageb2bmatchmakingeventsmartlogistics-2.jpg
END:VEVENT
END:VCALENDAR