BEGIN:VCALENDAR
VERSION:2.0
PRODID:-//digitalHUB Aachen - ECPv6.15.20//NONSGML v1.0//EN
CALSCALE:GREGORIAN
METHOD:PUBLISH
X-WR-CALNAME:digitalHUB Aachen
X-ORIGINAL-URL:https://www.aachen.digital/en/
X-WR-CALDESC:Events for digitalHUB Aachen
REFRESH-INTERVAL;VALUE=DURATION:PT1H
X-Robots-Tag:noindex
X-PUBLISHED-TTL:PT1H
BEGIN:VTIMEZONE
TZID:Europe/Berlin
BEGIN:DAYLIGHT
TZOFFSETFROM:+0100
TZOFFSETTO:+0200
TZNAME:CEST
DTSTART:20170326T010000
END:DAYLIGHT
BEGIN:STANDARD
TZOFFSETFROM:+0200
TZOFFSETTO:+0100
TZNAME:CET
DTSTART:20171029T010000
END:STANDARD
BEGIN:DAYLIGHT
TZOFFSETFROM:+0100
TZOFFSETTO:+0200
TZNAME:CEST
DTSTART:20180325T010000
END:DAYLIGHT
BEGIN:STANDARD
TZOFFSETFROM:+0200
TZOFFSETTO:+0100
TZNAME:CET
DTSTART:20181028T010000
END:STANDARD
BEGIN:DAYLIGHT
TZOFFSETFROM:+0100
TZOFFSETTO:+0200
TZNAME:CEST
DTSTART:20190331T010000
END:DAYLIGHT
BEGIN:STANDARD
TZOFFSETFROM:+0200
TZOFFSETTO:+0100
TZNAME:CET
DTSTART:20191027T010000
END:STANDARD
END:VTIMEZONE
BEGIN:VEVENT
DTSTART;TZID=Europe/Berlin:20180924T180000
DTEND;TZID=Europe/Berlin:20180924T200000
DTSTAMP:20260424T004147
CREATED:20180831T083631Z
LAST-MODIFIED:20181107T134059Z
UID:10004802-1537812000-1537819200@www.aachen.digital
SUMMARY:Preisverleihung des VISIONplus Unternehmerinnenpreises 2018
DESCRIPTION:Gemeinsam mit der Schirmherrin Christiane Claßen\, Geschäftsführerin der Hamacher Transporte Dürener Spedition GmbH & Co. KG aus Niederzier\, suchte die GründerRegion Aachen seit dem Wettbewerbsaufruf im April Unternehmerinnen\, die „Abfahren auf Erfolg!“. Der Preis soll das wirtschaftliche Potenzial von Unternehmerinnen sichtbar machen und anderen Frauen Mut machen\, Ihre unternehmerischen Visionen in die Tat umzusetzen. \nErleben Sie die Auszeichnung der Erfolg versprechendsten Visionen und die Verleihung der Preise an starke Unternehmerinnen aus der Region Aachen\, Düren\, Euskirchen\, Heinsberg. \nMelden Sie sich bei Interesse über den Online-Veranstaltungskalender an unter www.gruenderregion.de.
URL:https://www.aachen.digital/en/event/preisverleihung-des-visionplus-unternehmerinnenpreises-2018/
LOCATION:GründerRegion Aachen\, Theaterstraße 6 - 10\, Aachen\, NRW\, 52062\, Deutschland
ATTACH;FMTTYPE=image/jpeg:https://www.aachen.digital/wp-content/uploads/2018/10/AdobeStock_109959670.jpeg
ORGANIZER;CN="Gr%C3%BCnderRegion Aachen":MAILTO:info@gruenderregion.de
END:VEVENT
END:VCALENDAR