BEGIN:VCALENDAR
VERSION:2.0
PRODID:-//digitalHUB Aachen - ECPv6.15.20//NONSGML v1.0//EN
CALSCALE:GREGORIAN
METHOD:PUBLISH
X-ORIGINAL-URL:https://www.aachen.digital/en/
X-WR-CALDESC:Events for digitalHUB Aachen
REFRESH-INTERVAL;VALUE=DURATION:PT1H
X-Robots-Tag:noindex
X-PUBLISHED-TTL:PT1H
BEGIN:VTIMEZONE
TZID:Europe/Berlin
BEGIN:DAYLIGHT
TZOFFSETFROM:+0100
TZOFFSETTO:+0200
TZNAME:CEST
DTSTART:20180325T010000
END:DAYLIGHT
BEGIN:STANDARD
TZOFFSETFROM:+0200
TZOFFSETTO:+0100
TZNAME:CET
DTSTART:20181028T010000
END:STANDARD
BEGIN:DAYLIGHT
TZOFFSETFROM:+0100
TZOFFSETTO:+0200
TZNAME:CEST
DTSTART:20190331T010000
END:DAYLIGHT
BEGIN:STANDARD
TZOFFSETFROM:+0200
TZOFFSETTO:+0100
TZNAME:CET
DTSTART:20191027T010000
END:STANDARD
BEGIN:DAYLIGHT
TZOFFSETFROM:+0100
TZOFFSETTO:+0200
TZNAME:CEST
DTSTART:20200329T010000
END:DAYLIGHT
BEGIN:STANDARD
TZOFFSETFROM:+0200
TZOFFSETTO:+0100
TZNAME:CET
DTSTART:20201025T010000
END:STANDARD
END:VTIMEZONE
BEGIN:VEVENT
DTSTART;TZID=Europe/Berlin:20190904T180000
DTEND;TZID=Europe/Berlin:20190904T200000
DTSTAMP:20260425T030624
CREATED:20190604T094052Z
LAST-MODIFIED:20190604T094052Z
UID:10005057-1567620000-1567627200@www.aachen.digital
SUMMARY:Was ist neu bei iOS? Talk mit iOS-Entwickler Manuel Carrasco Molina
DESCRIPTION:Bei der WWDC 2019 (Worldwide Developers Conference) vom 3. bis 7. Juni in San Jose kommen die kreativsten und innovativsten Entwickler zusammen. Für Apple-Fans ist vor allem die Keynote interessant\, auf welcher die aktuellsten Neuheiten von Apple vorgestellt werden. \nIn Kooperation mit dem brandneuen Coworking-Space haupt|cw|artier veranstaltet Düren.Digital Network zwei Talks\, bei denen mit iOS-Entwickler Manuel Carrasco Molina in die Zukunft geblickt wird: Welche Möglichkeiten werden Machine Learning und Augmented Reality in Zukunft bieten? \nKurz und knackig fasst der Referent die Keynote zusammen und macht die Zukunft Apples für uns erlebbar. Inklusive anschließender Diskussion. \nZielgruppe: Vom einfachen Apple-User bis zum iOS-Entwickler ist jeder herzlich eingeladen sich über die neusten Apple-Funktionen zu informieren. \nFacts\n1. Veranstaltung: Mittwoch\, 05.06.2019\, 10:00 – 12:00 Uhr\n2. Veranstaltung: Dienstag\, 11.06.2019\, 18:00 – 20:00 Uhr \nAnmeldung erwünscht bei Düren.Digital Network-Manager Philipp Schlenkert per Mail an: p.schlenkert@windn.de
URL:https://www.aachen.digital/en/event/was-ist-neu-bei-ios-talk-mit-ios-entwickler-manuel-carrasco-molina/2019-09-04/
LOCATION:haupt|cw|artier\, Philippstr. 27\, Düren\, NRW\, 52349\, Deutschland
ATTACH;FMTTYPE=image/jpeg:https://www.aachen.digital/wp-content/uploads/2019/06/Hauptqwartier.jpg
END:VEVENT
BEGIN:VEVENT
DTSTART;TZID=Europe/Berlin:20190828T180000
DTEND;TZID=Europe/Berlin:20190828T200000
DTSTAMP:20260425T030624
CREATED:20190604T094052Z
LAST-MODIFIED:20190604T094052Z
UID:10005056-1567015200-1567022400@www.aachen.digital
SUMMARY:Was ist neu bei iOS? Talk mit iOS-Entwickler Manuel Carrasco Molina
DESCRIPTION:Bei der WWDC 2019 (Worldwide Developers Conference) vom 3. bis 7. Juni in San Jose kommen die kreativsten und innovativsten Entwickler zusammen. Für Apple-Fans ist vor allem die Keynote interessant\, auf welcher die aktuellsten Neuheiten von Apple vorgestellt werden. \nIn Kooperation mit dem brandneuen Coworking-Space haupt|cw|artier veranstaltet Düren.Digital Network zwei Talks\, bei denen mit iOS-Entwickler Manuel Carrasco Molina in die Zukunft geblickt wird: Welche Möglichkeiten werden Machine Learning und Augmented Reality in Zukunft bieten? \nKurz und knackig fasst der Referent die Keynote zusammen und macht die Zukunft Apples für uns erlebbar. Inklusive anschließender Diskussion. \nZielgruppe: Vom einfachen Apple-User bis zum iOS-Entwickler ist jeder herzlich eingeladen sich über die neusten Apple-Funktionen zu informieren. \nFacts\n1. Veranstaltung: Mittwoch\, 05.06.2019\, 10:00 – 12:00 Uhr\n2. Veranstaltung: Dienstag\, 11.06.2019\, 18:00 – 20:00 Uhr \nAnmeldung erwünscht bei Düren.Digital Network-Manager Philipp Schlenkert per Mail an: p.schlenkert@windn.de
URL:https://www.aachen.digital/en/event/was-ist-neu-bei-ios-talk-mit-ios-entwickler-manuel-carrasco-molina/2019-08-28/
LOCATION:haupt|cw|artier\, Philippstr. 27\, Düren\, NRW\, 52349\, Deutschland
ATTACH;FMTTYPE=image/jpeg:https://www.aachen.digital/wp-content/uploads/2019/06/Hauptqwartier.jpg
END:VEVENT
BEGIN:VEVENT
DTSTART;TZID=Europe/Berlin:20190821T180000
DTEND;TZID=Europe/Berlin:20190821T200000
DTSTAMP:20260425T030624
CREATED:20190604T094052Z
LAST-MODIFIED:20190604T094052Z
UID:10005055-1566410400-1566417600@www.aachen.digital
SUMMARY:Was ist neu bei iOS? Talk mit iOS-Entwickler Manuel Carrasco Molina
DESCRIPTION:Bei der WWDC 2019 (Worldwide Developers Conference) vom 3. bis 7. Juni in San Jose kommen die kreativsten und innovativsten Entwickler zusammen. Für Apple-Fans ist vor allem die Keynote interessant\, auf welcher die aktuellsten Neuheiten von Apple vorgestellt werden. \nIn Kooperation mit dem brandneuen Coworking-Space haupt|cw|artier veranstaltet Düren.Digital Network zwei Talks\, bei denen mit iOS-Entwickler Manuel Carrasco Molina in die Zukunft geblickt wird: Welche Möglichkeiten werden Machine Learning und Augmented Reality in Zukunft bieten? \nKurz und knackig fasst der Referent die Keynote zusammen und macht die Zukunft Apples für uns erlebbar. Inklusive anschließender Diskussion. \nZielgruppe: Vom einfachen Apple-User bis zum iOS-Entwickler ist jeder herzlich eingeladen sich über die neusten Apple-Funktionen zu informieren. \nFacts\n1. Veranstaltung: Mittwoch\, 05.06.2019\, 10:00 – 12:00 Uhr\n2. Veranstaltung: Dienstag\, 11.06.2019\, 18:00 – 20:00 Uhr \nAnmeldung erwünscht bei Düren.Digital Network-Manager Philipp Schlenkert per Mail an: p.schlenkert@windn.de
URL:https://www.aachen.digital/en/event/was-ist-neu-bei-ios-talk-mit-ios-entwickler-manuel-carrasco-molina/2019-08-21/
LOCATION:haupt|cw|artier\, Philippstr. 27\, Düren\, NRW\, 52349\, Deutschland
ATTACH;FMTTYPE=image/jpeg:https://www.aachen.digital/wp-content/uploads/2019/06/Hauptqwartier.jpg
END:VEVENT
BEGIN:VEVENT
DTSTART;TZID=Europe/Berlin:20190814T180000
DTEND;TZID=Europe/Berlin:20190814T200000
DTSTAMP:20260425T030624
CREATED:20190604T094052Z
LAST-MODIFIED:20190604T094052Z
UID:10005054-1565805600-1565812800@www.aachen.digital
SUMMARY:Was ist neu bei iOS? Talk mit iOS-Entwickler Manuel Carrasco Molina
DESCRIPTION:Bei der WWDC 2019 (Worldwide Developers Conference) vom 3. bis 7. Juni in San Jose kommen die kreativsten und innovativsten Entwickler zusammen. Für Apple-Fans ist vor allem die Keynote interessant\, auf welcher die aktuellsten Neuheiten von Apple vorgestellt werden. \nIn Kooperation mit dem brandneuen Coworking-Space haupt|cw|artier veranstaltet Düren.Digital Network zwei Talks\, bei denen mit iOS-Entwickler Manuel Carrasco Molina in die Zukunft geblickt wird: Welche Möglichkeiten werden Machine Learning und Augmented Reality in Zukunft bieten? \nKurz und knackig fasst der Referent die Keynote zusammen und macht die Zukunft Apples für uns erlebbar. Inklusive anschließender Diskussion. \nZielgruppe: Vom einfachen Apple-User bis zum iOS-Entwickler ist jeder herzlich eingeladen sich über die neusten Apple-Funktionen zu informieren. \nFacts\n1. Veranstaltung: Mittwoch\, 05.06.2019\, 10:00 – 12:00 Uhr\n2. Veranstaltung: Dienstag\, 11.06.2019\, 18:00 – 20:00 Uhr \nAnmeldung erwünscht bei Düren.Digital Network-Manager Philipp Schlenkert per Mail an: p.schlenkert@windn.de
URL:https://www.aachen.digital/en/event/was-ist-neu-bei-ios-talk-mit-ios-entwickler-manuel-carrasco-molina/2019-08-14/
LOCATION:haupt|cw|artier\, Philippstr. 27\, Düren\, NRW\, 52349\, Deutschland
ATTACH;FMTTYPE=image/jpeg:https://www.aachen.digital/wp-content/uploads/2019/06/Hauptqwartier.jpg
END:VEVENT
BEGIN:VEVENT
DTSTART;TZID=Europe/Berlin:20190807T180000
DTEND;TZID=Europe/Berlin:20190807T200000
DTSTAMP:20260425T030624
CREATED:20190604T094052Z
LAST-MODIFIED:20190604T094052Z
UID:10005053-1565200800-1565208000@www.aachen.digital
SUMMARY:Was ist neu bei iOS? Talk mit iOS-Entwickler Manuel Carrasco Molina
DESCRIPTION:Bei der WWDC 2019 (Worldwide Developers Conference) vom 3. bis 7. Juni in San Jose kommen die kreativsten und innovativsten Entwickler zusammen. Für Apple-Fans ist vor allem die Keynote interessant\, auf welcher die aktuellsten Neuheiten von Apple vorgestellt werden. \nIn Kooperation mit dem brandneuen Coworking-Space haupt|cw|artier veranstaltet Düren.Digital Network zwei Talks\, bei denen mit iOS-Entwickler Manuel Carrasco Molina in die Zukunft geblickt wird: Welche Möglichkeiten werden Machine Learning und Augmented Reality in Zukunft bieten? \nKurz und knackig fasst der Referent die Keynote zusammen und macht die Zukunft Apples für uns erlebbar. Inklusive anschließender Diskussion. \nZielgruppe: Vom einfachen Apple-User bis zum iOS-Entwickler ist jeder herzlich eingeladen sich über die neusten Apple-Funktionen zu informieren. \nFacts\n1. Veranstaltung: Mittwoch\, 05.06.2019\, 10:00 – 12:00 Uhr\n2. Veranstaltung: Dienstag\, 11.06.2019\, 18:00 – 20:00 Uhr \nAnmeldung erwünscht bei Düren.Digital Network-Manager Philipp Schlenkert per Mail an: p.schlenkert@windn.de
URL:https://www.aachen.digital/en/event/was-ist-neu-bei-ios-talk-mit-ios-entwickler-manuel-carrasco-molina/2019-08-07/
LOCATION:haupt|cw|artier\, Philippstr. 27\, Düren\, NRW\, 52349\, Deutschland
ATTACH;FMTTYPE=image/jpeg:https://www.aachen.digital/wp-content/uploads/2019/06/Hauptqwartier.jpg
END:VEVENT
BEGIN:VEVENT
DTSTART;TZID=Europe/Berlin:20190731T180000
DTEND;TZID=Europe/Berlin:20190731T200000
DTSTAMP:20260425T030624
CREATED:20190604T094052Z
LAST-MODIFIED:20190604T094052Z
UID:10005052-1564596000-1564603200@www.aachen.digital
SUMMARY:Was ist neu bei iOS? Talk mit iOS-Entwickler Manuel Carrasco Molina
DESCRIPTION:Bei der WWDC 2019 (Worldwide Developers Conference) vom 3. bis 7. Juni in San Jose kommen die kreativsten und innovativsten Entwickler zusammen. Für Apple-Fans ist vor allem die Keynote interessant\, auf welcher die aktuellsten Neuheiten von Apple vorgestellt werden. \nIn Kooperation mit dem brandneuen Coworking-Space haupt|cw|artier veranstaltet Düren.Digital Network zwei Talks\, bei denen mit iOS-Entwickler Manuel Carrasco Molina in die Zukunft geblickt wird: Welche Möglichkeiten werden Machine Learning und Augmented Reality in Zukunft bieten? \nKurz und knackig fasst der Referent die Keynote zusammen und macht die Zukunft Apples für uns erlebbar. Inklusive anschließender Diskussion. \nZielgruppe: Vom einfachen Apple-User bis zum iOS-Entwickler ist jeder herzlich eingeladen sich über die neusten Apple-Funktionen zu informieren. \nFacts\n1. Veranstaltung: Mittwoch\, 05.06.2019\, 10:00 – 12:00 Uhr\n2. Veranstaltung: Dienstag\, 11.06.2019\, 18:00 – 20:00 Uhr \nAnmeldung erwünscht bei Düren.Digital Network-Manager Philipp Schlenkert per Mail an: p.schlenkert@windn.de
URL:https://www.aachen.digital/en/event/was-ist-neu-bei-ios-talk-mit-ios-entwickler-manuel-carrasco-molina/2019-07-31/
LOCATION:haupt|cw|artier\, Philippstr. 27\, Düren\, NRW\, 52349\, Deutschland
ATTACH;FMTTYPE=image/jpeg:https://www.aachen.digital/wp-content/uploads/2019/06/Hauptqwartier.jpg
END:VEVENT
BEGIN:VEVENT
DTSTART;TZID=Europe/Berlin:20190724T180000
DTEND;TZID=Europe/Berlin:20190724T200000
DTSTAMP:20260425T030624
CREATED:20190604T094052Z
LAST-MODIFIED:20190604T094052Z
UID:10005051-1563991200-1563998400@www.aachen.digital
SUMMARY:Was ist neu bei iOS? Talk mit iOS-Entwickler Manuel Carrasco Molina
DESCRIPTION:Bei der WWDC 2019 (Worldwide Developers Conference) vom 3. bis 7. Juni in San Jose kommen die kreativsten und innovativsten Entwickler zusammen. Für Apple-Fans ist vor allem die Keynote interessant\, auf welcher die aktuellsten Neuheiten von Apple vorgestellt werden. \nIn Kooperation mit dem brandneuen Coworking-Space haupt|cw|artier veranstaltet Düren.Digital Network zwei Talks\, bei denen mit iOS-Entwickler Manuel Carrasco Molina in die Zukunft geblickt wird: Welche Möglichkeiten werden Machine Learning und Augmented Reality in Zukunft bieten? \nKurz und knackig fasst der Referent die Keynote zusammen und macht die Zukunft Apples für uns erlebbar. Inklusive anschließender Diskussion. \nZielgruppe: Vom einfachen Apple-User bis zum iOS-Entwickler ist jeder herzlich eingeladen sich über die neusten Apple-Funktionen zu informieren. \nFacts\n1. Veranstaltung: Mittwoch\, 05.06.2019\, 10:00 – 12:00 Uhr\n2. Veranstaltung: Dienstag\, 11.06.2019\, 18:00 – 20:00 Uhr \nAnmeldung erwünscht bei Düren.Digital Network-Manager Philipp Schlenkert per Mail an: p.schlenkert@windn.de
URL:https://www.aachen.digital/en/event/was-ist-neu-bei-ios-talk-mit-ios-entwickler-manuel-carrasco-molina/2019-07-24/
LOCATION:haupt|cw|artier\, Philippstr. 27\, Düren\, NRW\, 52349\, Deutschland
ATTACH;FMTTYPE=image/jpeg:https://www.aachen.digital/wp-content/uploads/2019/06/Hauptqwartier.jpg
END:VEVENT
BEGIN:VEVENT
DTSTART;TZID=Europe/Berlin:20190717T180000
DTEND;TZID=Europe/Berlin:20190717T200000
DTSTAMP:20260425T030624
CREATED:20190604T094052Z
LAST-MODIFIED:20190604T094052Z
UID:10005050-1563386400-1563393600@www.aachen.digital
SUMMARY:Was ist neu bei iOS? Talk mit iOS-Entwickler Manuel Carrasco Molina
DESCRIPTION:Bei der WWDC 2019 (Worldwide Developers Conference) vom 3. bis 7. Juni in San Jose kommen die kreativsten und innovativsten Entwickler zusammen. Für Apple-Fans ist vor allem die Keynote interessant\, auf welcher die aktuellsten Neuheiten von Apple vorgestellt werden. \nIn Kooperation mit dem brandneuen Coworking-Space haupt|cw|artier veranstaltet Düren.Digital Network zwei Talks\, bei denen mit iOS-Entwickler Manuel Carrasco Molina in die Zukunft geblickt wird: Welche Möglichkeiten werden Machine Learning und Augmented Reality in Zukunft bieten? \nKurz und knackig fasst der Referent die Keynote zusammen und macht die Zukunft Apples für uns erlebbar. Inklusive anschließender Diskussion. \nZielgruppe: Vom einfachen Apple-User bis zum iOS-Entwickler ist jeder herzlich eingeladen sich über die neusten Apple-Funktionen zu informieren. \nFacts\n1. Veranstaltung: Mittwoch\, 05.06.2019\, 10:00 – 12:00 Uhr\n2. Veranstaltung: Dienstag\, 11.06.2019\, 18:00 – 20:00 Uhr \nAnmeldung erwünscht bei Düren.Digital Network-Manager Philipp Schlenkert per Mail an: p.schlenkert@windn.de
URL:https://www.aachen.digital/en/event/was-ist-neu-bei-ios-talk-mit-ios-entwickler-manuel-carrasco-molina/2019-07-17/
LOCATION:haupt|cw|artier\, Philippstr. 27\, Düren\, NRW\, 52349\, Deutschland
ATTACH;FMTTYPE=image/jpeg:https://www.aachen.digital/wp-content/uploads/2019/06/Hauptqwartier.jpg
END:VEVENT
BEGIN:VEVENT
DTSTART;TZID=Europe/Berlin:20190710T180000
DTEND;TZID=Europe/Berlin:20190710T200000
DTSTAMP:20260425T030624
CREATED:20190604T094052Z
LAST-MODIFIED:20190604T094052Z
UID:10005049-1562781600-1562788800@www.aachen.digital
SUMMARY:Was ist neu bei iOS? Talk mit iOS-Entwickler Manuel Carrasco Molina
DESCRIPTION:Bei der WWDC 2019 (Worldwide Developers Conference) vom 3. bis 7. Juni in San Jose kommen die kreativsten und innovativsten Entwickler zusammen. Für Apple-Fans ist vor allem die Keynote interessant\, auf welcher die aktuellsten Neuheiten von Apple vorgestellt werden. \nIn Kooperation mit dem brandneuen Coworking-Space haupt|cw|artier veranstaltet Düren.Digital Network zwei Talks\, bei denen mit iOS-Entwickler Manuel Carrasco Molina in die Zukunft geblickt wird: Welche Möglichkeiten werden Machine Learning und Augmented Reality in Zukunft bieten? \nKurz und knackig fasst der Referent die Keynote zusammen und macht die Zukunft Apples für uns erlebbar. Inklusive anschließender Diskussion. \nZielgruppe: Vom einfachen Apple-User bis zum iOS-Entwickler ist jeder herzlich eingeladen sich über die neusten Apple-Funktionen zu informieren. \nFacts\n1. Veranstaltung: Mittwoch\, 05.06.2019\, 10:00 – 12:00 Uhr\n2. Veranstaltung: Dienstag\, 11.06.2019\, 18:00 – 20:00 Uhr \nAnmeldung erwünscht bei Düren.Digital Network-Manager Philipp Schlenkert per Mail an: p.schlenkert@windn.de
URL:https://www.aachen.digital/en/event/was-ist-neu-bei-ios-talk-mit-ios-entwickler-manuel-carrasco-molina/2019-07-10/
LOCATION:haupt|cw|artier\, Philippstr. 27\, Düren\, NRW\, 52349\, Deutschland
ATTACH;FMTTYPE=image/jpeg:https://www.aachen.digital/wp-content/uploads/2019/06/Hauptqwartier.jpg
END:VEVENT
BEGIN:VEVENT
DTSTART;TZID=Europe/Berlin:20190703T180000
DTEND;TZID=Europe/Berlin:20190703T200000
DTSTAMP:20260425T030624
CREATED:20190604T094052Z
LAST-MODIFIED:20190604T094052Z
UID:10005048-1562176800-1562184000@www.aachen.digital
SUMMARY:Was ist neu bei iOS? Talk mit iOS-Entwickler Manuel Carrasco Molina
DESCRIPTION:Bei der WWDC 2019 (Worldwide Developers Conference) vom 3. bis 7. Juni in San Jose kommen die kreativsten und innovativsten Entwickler zusammen. Für Apple-Fans ist vor allem die Keynote interessant\, auf welcher die aktuellsten Neuheiten von Apple vorgestellt werden. \nIn Kooperation mit dem brandneuen Coworking-Space haupt|cw|artier veranstaltet Düren.Digital Network zwei Talks\, bei denen mit iOS-Entwickler Manuel Carrasco Molina in die Zukunft geblickt wird: Welche Möglichkeiten werden Machine Learning und Augmented Reality in Zukunft bieten? \nKurz und knackig fasst der Referent die Keynote zusammen und macht die Zukunft Apples für uns erlebbar. Inklusive anschließender Diskussion. \nZielgruppe: Vom einfachen Apple-User bis zum iOS-Entwickler ist jeder herzlich eingeladen sich über die neusten Apple-Funktionen zu informieren. \nFacts\n1. Veranstaltung: Mittwoch\, 05.06.2019\, 10:00 – 12:00 Uhr\n2. Veranstaltung: Dienstag\, 11.06.2019\, 18:00 – 20:00 Uhr \nAnmeldung erwünscht bei Düren.Digital Network-Manager Philipp Schlenkert per Mail an: p.schlenkert@windn.de
URL:https://www.aachen.digital/en/event/was-ist-neu-bei-ios-talk-mit-ios-entwickler-manuel-carrasco-molina/2019-07-03/
LOCATION:haupt|cw|artier\, Philippstr. 27\, Düren\, NRW\, 52349\, Deutschland
ATTACH;FMTTYPE=image/jpeg:https://www.aachen.digital/wp-content/uploads/2019/06/Hauptqwartier.jpg
END:VEVENT
BEGIN:VEVENT
DTSTART;TZID=Europe/Berlin:20190626T180000
DTEND;TZID=Europe/Berlin:20190626T200000
DTSTAMP:20260425T030624
CREATED:20190604T094052Z
LAST-MODIFIED:20190604T094052Z
UID:10005047-1561572000-1561579200@www.aachen.digital
SUMMARY:Was ist neu bei iOS? Talk mit iOS-Entwickler Manuel Carrasco Molina
DESCRIPTION:Bei der WWDC 2019 (Worldwide Developers Conference) vom 3. bis 7. Juni in San Jose kommen die kreativsten und innovativsten Entwickler zusammen. Für Apple-Fans ist vor allem die Keynote interessant\, auf welcher die aktuellsten Neuheiten von Apple vorgestellt werden. \nIn Kooperation mit dem brandneuen Coworking-Space haupt|cw|artier veranstaltet Düren.Digital Network zwei Talks\, bei denen mit iOS-Entwickler Manuel Carrasco Molina in die Zukunft geblickt wird: Welche Möglichkeiten werden Machine Learning und Augmented Reality in Zukunft bieten? \nKurz und knackig fasst der Referent die Keynote zusammen und macht die Zukunft Apples für uns erlebbar. Inklusive anschließender Diskussion. \nZielgruppe: Vom einfachen Apple-User bis zum iOS-Entwickler ist jeder herzlich eingeladen sich über die neusten Apple-Funktionen zu informieren. \nFacts\n1. Veranstaltung: Mittwoch\, 05.06.2019\, 10:00 – 12:00 Uhr\n2. Veranstaltung: Dienstag\, 11.06.2019\, 18:00 – 20:00 Uhr \nAnmeldung erwünscht bei Düren.Digital Network-Manager Philipp Schlenkert per Mail an: p.schlenkert@windn.de
URL:https://www.aachen.digital/en/event/was-ist-neu-bei-ios-talk-mit-ios-entwickler-manuel-carrasco-molina/2019-06-26/
LOCATION:haupt|cw|artier\, Philippstr. 27\, Düren\, NRW\, 52349\, Deutschland
ATTACH;FMTTYPE=image/jpeg:https://www.aachen.digital/wp-content/uploads/2019/06/Hauptqwartier.jpg
END:VEVENT
BEGIN:VEVENT
DTSTART;TZID=Europe/Berlin:20190619T180000
DTEND;TZID=Europe/Berlin:20190619T200000
DTSTAMP:20260425T030624
CREATED:20190604T094052Z
LAST-MODIFIED:20190604T094052Z
UID:10005046-1560967200-1560974400@www.aachen.digital
SUMMARY:Was ist neu bei iOS? Talk mit iOS-Entwickler Manuel Carrasco Molina
DESCRIPTION:Bei der WWDC 2019 (Worldwide Developers Conference) vom 3. bis 7. Juni in San Jose kommen die kreativsten und innovativsten Entwickler zusammen. Für Apple-Fans ist vor allem die Keynote interessant\, auf welcher die aktuellsten Neuheiten von Apple vorgestellt werden. \nIn Kooperation mit dem brandneuen Coworking-Space haupt|cw|artier veranstaltet Düren.Digital Network zwei Talks\, bei denen mit iOS-Entwickler Manuel Carrasco Molina in die Zukunft geblickt wird: Welche Möglichkeiten werden Machine Learning und Augmented Reality in Zukunft bieten? \nKurz und knackig fasst der Referent die Keynote zusammen und macht die Zukunft Apples für uns erlebbar. Inklusive anschließender Diskussion. \nZielgruppe: Vom einfachen Apple-User bis zum iOS-Entwickler ist jeder herzlich eingeladen sich über die neusten Apple-Funktionen zu informieren. \nFacts\n1. Veranstaltung: Mittwoch\, 05.06.2019\, 10:00 – 12:00 Uhr\n2. Veranstaltung: Dienstag\, 11.06.2019\, 18:00 – 20:00 Uhr \nAnmeldung erwünscht bei Düren.Digital Network-Manager Philipp Schlenkert per Mail an: p.schlenkert@windn.de
URL:https://www.aachen.digital/en/event/was-ist-neu-bei-ios-talk-mit-ios-entwickler-manuel-carrasco-molina/2019-06-19/
LOCATION:haupt|cw|artier\, Philippstr. 27\, Düren\, NRW\, 52349\, Deutschland
ATTACH;FMTTYPE=image/jpeg:https://www.aachen.digital/wp-content/uploads/2019/06/Hauptqwartier.jpg
END:VEVENT
BEGIN:VEVENT
DTSTART;TZID=Europe/Berlin:20190612T180000
DTEND;TZID=Europe/Berlin:20190612T200000
DTSTAMP:20260425T030624
CREATED:20190604T094052Z
LAST-MODIFIED:20190604T094052Z
UID:10005045-1560362400-1560369600@www.aachen.digital
SUMMARY:Was ist neu bei iOS? Talk mit iOS-Entwickler Manuel Carrasco Molina
DESCRIPTION:Bei der WWDC 2019 (Worldwide Developers Conference) vom 3. bis 7. Juni in San Jose kommen die kreativsten und innovativsten Entwickler zusammen. Für Apple-Fans ist vor allem die Keynote interessant\, auf welcher die aktuellsten Neuheiten von Apple vorgestellt werden. \nIn Kooperation mit dem brandneuen Coworking-Space haupt|cw|artier veranstaltet Düren.Digital Network zwei Talks\, bei denen mit iOS-Entwickler Manuel Carrasco Molina in die Zukunft geblickt wird: Welche Möglichkeiten werden Machine Learning und Augmented Reality in Zukunft bieten? \nKurz und knackig fasst der Referent die Keynote zusammen und macht die Zukunft Apples für uns erlebbar. Inklusive anschließender Diskussion. \nZielgruppe: Vom einfachen Apple-User bis zum iOS-Entwickler ist jeder herzlich eingeladen sich über die neusten Apple-Funktionen zu informieren. \nFacts\n1. Veranstaltung: Mittwoch\, 05.06.2019\, 10:00 – 12:00 Uhr\n2. Veranstaltung: Dienstag\, 11.06.2019\, 18:00 – 20:00 Uhr \nAnmeldung erwünscht bei Düren.Digital Network-Manager Philipp Schlenkert per Mail an: p.schlenkert@windn.de
URL:https://www.aachen.digital/en/event/was-ist-neu-bei-ios-talk-mit-ios-entwickler-manuel-carrasco-molina/2019-06-12/
LOCATION:haupt|cw|artier\, Philippstr. 27\, Düren\, NRW\, 52349\, Deutschland
ATTACH;FMTTYPE=image/jpeg:https://www.aachen.digital/wp-content/uploads/2019/06/Hauptqwartier.jpg
END:VEVENT
BEGIN:VEVENT
DTSTART;TZID=Europe/Berlin:20190605T180000
DTEND;TZID=Europe/Berlin:20190605T200000
DTSTAMP:20260425T030624
CREATED:20190604T094052Z
LAST-MODIFIED:20190604T094052Z
UID:10005044-1559757600-1559764800@www.aachen.digital
SUMMARY:Was ist neu bei iOS? Talk mit iOS-Entwickler Manuel Carrasco Molina
DESCRIPTION:Bei der WWDC 2019 (Worldwide Developers Conference) vom 3. bis 7. Juni in San Jose kommen die kreativsten und innovativsten Entwickler zusammen. Für Apple-Fans ist vor allem die Keynote interessant\, auf welcher die aktuellsten Neuheiten von Apple vorgestellt werden. \nIn Kooperation mit dem brandneuen Coworking-Space haupt|cw|artier veranstaltet Düren.Digital Network zwei Talks\, bei denen mit iOS-Entwickler Manuel Carrasco Molina in die Zukunft geblickt wird: Welche Möglichkeiten werden Machine Learning und Augmented Reality in Zukunft bieten? \nKurz und knackig fasst der Referent die Keynote zusammen und macht die Zukunft Apples für uns erlebbar. Inklusive anschließender Diskussion. \nZielgruppe: Vom einfachen Apple-User bis zum iOS-Entwickler ist jeder herzlich eingeladen sich über die neusten Apple-Funktionen zu informieren. \nFacts\n1. Veranstaltung: Mittwoch\, 05.06.2019\, 10:00 – 12:00 Uhr\n2. Veranstaltung: Dienstag\, 11.06.2019\, 18:00 – 20:00 Uhr \nAnmeldung erwünscht bei Düren.Digital Network-Manager Philipp Schlenkert per Mail an: p.schlenkert@windn.de
URL:https://www.aachen.digital/en/event/was-ist-neu-bei-ios-talk-mit-ios-entwickler-manuel-carrasco-molina/2019-06-05/
LOCATION:haupt|cw|artier\, Philippstr. 27\, Düren\, NRW\, 52349\, Deutschland
ATTACH;FMTTYPE=image/jpeg:https://www.aachen.digital/wp-content/uploads/2019/06/Hauptqwartier.jpg
END:VEVENT
BEGIN:VEVENT
DTSTART;TZID=Europe/Berlin:20190514T180000
DTEND;TZID=Europe/Berlin:20190514T200000
DTSTAMP:20260425T030624
CREATED:20190425T112106Z
LAST-MODIFIED:20190425T112106Z
UID:10004767-1557856800-1557864000@www.aachen.digital
SUMMARY:YouTube Marketing Workshop
DESCRIPTION:Sie wollen YouTube als neuen Marketingkanal dauerhaft etablieren\, sind sich aber nicht sicher\, ob diese Plattform ein guter Weg ist? Oder verbringen Sie schon viel Zeit auf YouTube\, Ihr eigener Kanal könnte aber noch ein paar Follower vertragen?\nGut\, dass wir YouTube-Experte Jan Faßbender für das Projekt „Düren.Digital Network“ gewinnen konnten. Sie sind herzlich eingeladen zu seinem Workshop am \nDienstag\, 14. Mai 2019\n18:00 – ca. 20:00 Uhr\nim haupt|cw|artier\nPhilippstr. 27\, 52349 Düren \nBitte beachten Sie\, dass die Teilnehmer-Anzahl begrenzt ist. \nMelden Sie sich per E-Mail bei p.schlenkert@windn.de bis einschließlich Donnerstag\, 02. Mai 2019 an. Ihre Anmeldungsbestätigung erhalten an dem darauffolgenden Tag. \nEinen Veranstaltungs-Teaser mit mehr Informationen über den Workshop finden Sie auf der offiziellen Facebook-Seite.
URL:https://www.aachen.digital/en/event/youtube-marketing-workshop/
LOCATION:haupt|cw|artier\, Philippstr. 27\, Düren\, NRW\, 52349\, Deutschland
ATTACH;FMTTYPE=image/png:https://www.aachen.digital/wp-content/uploads/2019/04/Win-DN.png
END:VEVENT
END:VCALENDAR