BEGIN:VCALENDAR
VERSION:2.0
PRODID:-//digitalHUB Aachen - ECPv6.15.20//NONSGML v1.0//EN
CALSCALE:GREGORIAN
METHOD:PUBLISH
X-WR-CALNAME:digitalHUB Aachen
X-ORIGINAL-URL:https://www.aachen.digital/en/
X-WR-CALDESC:Events for digitalHUB Aachen
REFRESH-INTERVAL;VALUE=DURATION:PT1H
X-Robots-Tag:noindex
X-PUBLISHED-TTL:PT1H
BEGIN:VTIMEZONE
TZID:Europe/Berlin
BEGIN:DAYLIGHT
TZOFFSETFROM:+0100
TZOFFSETTO:+0200
TZNAME:CEST
DTSTART:20230326T010000
END:DAYLIGHT
BEGIN:STANDARD
TZOFFSETFROM:+0200
TZOFFSETTO:+0100
TZNAME:CET
DTSTART:20231029T010000
END:STANDARD
BEGIN:DAYLIGHT
TZOFFSETFROM:+0100
TZOFFSETTO:+0200
TZNAME:CEST
DTSTART:20240331T010000
END:DAYLIGHT
BEGIN:STANDARD
TZOFFSETFROM:+0200
TZOFFSETTO:+0100
TZNAME:CET
DTSTART:20241027T010000
END:STANDARD
BEGIN:DAYLIGHT
TZOFFSETFROM:+0100
TZOFFSETTO:+0200
TZNAME:CEST
DTSTART:20250330T010000
END:DAYLIGHT
BEGIN:STANDARD
TZOFFSETFROM:+0200
TZOFFSETTO:+0100
TZNAME:CET
DTSTART:20251026T010000
END:STANDARD
END:VTIMEZONE
BEGIN:VEVENT
DTSTART;TZID=Europe/Berlin:20240605T180000
DTEND;TZID=Europe/Berlin:20240605T193000
DTSTAMP:20260423T231325
CREATED:20240508T092037Z
LAST-MODIFIED:20240508T095831Z
UID:10006788-1717610400-1717615800@www.aachen.digital
SUMMARY:Verleihung des Gütesiegels „Made in Aachen“ des Aachener Industrie-Dialogs
DESCRIPTION:Bereits zum sechsten Mal wird der Aachener Industrie-Dialog sein Gütesiegel „Made in Aachen“ verleihen.\nAusgezeichnet werden Industrieunternehmen aus der Aachener Region\, die in der Region produzieren\, ausbilden\,\nmit regionalen Unternehmen kooperieren und sich aktiv in den Industrie-Dialog einbringen. Wir freuen uns\, Sie zur\nfeierlichen Verleihung des Gütesiegels 2024 herzlich einzuladen. \nWir freuen uns auf Ihre Anmeldung per Mail an:\ndw@3win.de \n 
URL:https://www.aachen.digital/en/event/verleihung-des-guetesiegels-made-in-aachen-des-aachener-industrie-dialogs/
LOCATION:Haus der Städteregion\, Zollernstraße 16\, Aachen\, Nordrhein-Westfalen\, 52070\, Germany
ATTACH;FMTTYPE=image/jpeg:https://www.aachen.digital/wp-content/uploads/2024/05/Industrie-Dialog-Stage-3.jpg
END:VEVENT
END:VCALENDAR