BEGIN:VCALENDAR
VERSION:2.0
PRODID:-//digitalHUB Aachen - ECPv6.15.20//NONSGML v1.0//EN
CALSCALE:GREGORIAN
METHOD:PUBLISH
X-ORIGINAL-URL:https://www.aachen.digital/en/
X-WR-CALDESC:Events for digitalHUB Aachen
REFRESH-INTERVAL;VALUE=DURATION:PT1H
X-Robots-Tag:noindex
X-PUBLISHED-TTL:PT1H
BEGIN:VTIMEZONE
TZID:Europe/Berlin
BEGIN:DAYLIGHT
TZOFFSETFROM:+0100
TZOFFSETTO:+0200
TZNAME:CEST
DTSTART:20180325T010000
END:DAYLIGHT
BEGIN:STANDARD
TZOFFSETFROM:+0200
TZOFFSETTO:+0100
TZNAME:CET
DTSTART:20181028T010000
END:STANDARD
BEGIN:DAYLIGHT
TZOFFSETFROM:+0100
TZOFFSETTO:+0200
TZNAME:CEST
DTSTART:20190331T010000
END:DAYLIGHT
BEGIN:STANDARD
TZOFFSETFROM:+0200
TZOFFSETTO:+0100
TZNAME:CET
DTSTART:20191027T010000
END:STANDARD
BEGIN:DAYLIGHT
TZOFFSETFROM:+0100
TZOFFSETTO:+0200
TZNAME:CEST
DTSTART:20200329T010000
END:DAYLIGHT
BEGIN:STANDARD
TZOFFSETFROM:+0200
TZOFFSETTO:+0100
TZNAME:CET
DTSTART:20201025T010000
END:STANDARD
END:VTIMEZONE
BEGIN:VEVENT
DTSTART;TZID=Europe/Berlin:20190411T081500
DTEND;TZID=Europe/Berlin:20190411T101500
DTSTAMP:20260423T231653
CREATED:20190326T134421Z
LAST-MODIFIED:20190326T134739Z
UID:10004979-1554970500-1554977700@www.aachen.digital
SUMMARY:HYPEREGIO - EarlyBirds: Technology Breakfast at Heinen Automation in Monschau
DESCRIPTION:Get up early and think about tomorrow! \nClever entrepreneurs deal at an early stage with questions of the future and key technologies that may be relevant for the development of their company.\nWith the “EarlyBirds” event series\, HYPEREGIO offers a networking platform in a relaxed (breakfast) atmosphere. Here entrepreneurs can exchange market trends with other entrepreneurs and also take advantage of the cooperation with the knowledge and research landscape in the Euregio Meuse-Rhine. \nThe next host is Heinen Automation. The company develops software for customers all over the world at its headquarter in Monschau and the development office at the RWTH Aachen Campus. The core competencies lie in automation technology and the manufacture of special machines. In addition to PLC programming and visualisation\, the field of activity includes electrical as well as mechanical design and manufacturing. \nThe extensive knowledge in robot programming and industrial image processing is frequently requested by the customers. Increasingly\, high-level language programming and the connection of databases are finding their way into the world of automation technology – Heinen Automation is successfully implementing them. \n  \nFind further information here: \nEarlyBirds The Technology Breakfast at Heinen Automation
URL:https://www.aachen.digital/en/event/hyperegio-earlybirds-technology-breakfast-at-heinen-automation-in-monschau/
LOCATION:Heinen Automation GmbH & CoKG\, Am Handwerkerzentrum 1\, Monschau\, 52156\, Deutschland
ATTACH;FMTTYPE=image/jpeg:https://www.aachen.digital/wp-content/uploads/2019/03/HYPEREGIO-EarlyBirds-Technology-Breakfast.jpg
END:VEVENT
END:VCALENDAR