BEGIN:VCALENDAR
VERSION:2.0
PRODID:-//digitalHUB Aachen - ECPv6.15.20//NONSGML v1.0//EN
CALSCALE:GREGORIAN
METHOD:PUBLISH
X-ORIGINAL-URL:https://www.aachen.digital/en/
X-WR-CALDESC:Events for digitalHUB Aachen
REFRESH-INTERVAL;VALUE=DURATION:PT1H
X-Robots-Tag:noindex
X-PUBLISHED-TTL:PT1H
BEGIN:VTIMEZONE
TZID:Europe/Berlin
BEGIN:DAYLIGHT
TZOFFSETFROM:+0100
TZOFFSETTO:+0200
TZNAME:CEST
DTSTART:20190331T010000
END:DAYLIGHT
BEGIN:STANDARD
TZOFFSETFROM:+0200
TZOFFSETTO:+0100
TZNAME:CET
DTSTART:20191027T010000
END:STANDARD
BEGIN:DAYLIGHT
TZOFFSETFROM:+0100
TZOFFSETTO:+0200
TZNAME:CEST
DTSTART:20200329T010000
END:DAYLIGHT
BEGIN:STANDARD
TZOFFSETFROM:+0200
TZOFFSETTO:+0100
TZNAME:CET
DTSTART:20201025T010000
END:STANDARD
BEGIN:DAYLIGHT
TZOFFSETFROM:+0100
TZOFFSETTO:+0200
TZNAME:CEST
DTSTART:20210328T010000
END:DAYLIGHT
BEGIN:STANDARD
TZOFFSETFROM:+0200
TZOFFSETTO:+0100
TZNAME:CET
DTSTART:20211031T010000
END:STANDARD
END:VTIMEZONE
BEGIN:VEVENT
DTSTART;TZID=Europe/Berlin:20200115T170000
DTEND;TZID=Europe/Berlin:20200115T181500
DTSTAMP:20260423T231351
CREATED:20200107T140311Z
LAST-MODIFIED:20200107T140311Z
UID:10005501-1579107600-1579112100@www.aachen.digital
SUMMARY:Vortrag und Diskussion: Quo Vadis Softwaresicherheit? Robuste Softwaresysteme im Jahr 2020
DESCRIPTION:Wirtschaftsspionage per Software-Trojaner\, erfolgreiche Einbrüche in das Netz von Bundesbehörden\, kompromittierte Industrieanglagen\, … Diese Liste ließe sich beliebig erweitern und wöchentlich werden neue Sicherheitsvorteile aufgedeckt. Dabei sind Softwarefehler eine der Grundursachen\, häufig bilden sie den ersten Schritt hinter erfolgreichen Angriffen. Entsprechend benötigen wir effiziente und effektive Methoden\, um komplexe Softwaresysteme robust gegen Angriffe zu machen. \nIm Rahmen dieses Vortrags werden zwei komplementäre Ansätze vorgestellt\, um Softwaresysteme zu härten: Einerseits stellt Prof. Dr. Thorsten Holz von dem Lehrstuhl für Systemsicherheit der Ruhr-Umiversität Bochum neue Ansätze zu Control-Flow Integrity (CFI) vor. Dies ist eine Technik zum proaktiven Schutz gegen die Ausnutzung von Softwareschwachstellen und er erläutert\, wie solche Verfahren heute bereits in der Praxis genutzt werden können. Anderseits stellt er Methoden zum automatisierten Testen von Softwaresystemen vor\, um Fehler möglichst frühzeitig im Entwicklungsprozess zu identifizieren. Es wird dabei vor allem eine Technik namens Fuzzing genutzt\, womit schon mehr als 100 Fehler in populären Programmen gefunden wurden\, die er anhand von Beispielen erläutere. \nIn Kooperation mit Fachgruppe Informatik der RWTH\, der Regionalgruppe der Gesellschaft für Informatik (RIA)\, des Regionalen Industrieclubs Informatik Aachen (REGINA e.V.) und der Gruppe des Deutschen Hochschulverbands. \nDie Veranstaltung ist kostenlos. Eine Anmeldung ist nicht erforderlich. Der Vortrag findet am 15. Januar 2020 von 17:00 – 18:15 Uhr im Hörsaal AH IV des Informatik-Zentrums der RWTH Aachen statt. \n 
URL:https://www.aachen.digital/en/event/vortrag-quo-vadis-softwaresicherheit-robuste-softwaresysteme-im-jahr-2020/
LOCATION:Hörsaal AH IV\, Ahornstr. 55\, Aachen\, 52074\, Deutschland
ATTACH;FMTTYPE=image/jpeg:https://www.aachen.digital/wp-content/uploads/2020/01/AdobeStock_127449468.jpeg
END:VEVENT
END:VCALENDAR