BEGIN:VCALENDAR
VERSION:2.0
PRODID:-//digitalHUB Aachen - ECPv6.15.20//NONSGML v1.0//EN
CALSCALE:GREGORIAN
METHOD:PUBLISH
X-WR-CALNAME:digitalHUB Aachen
X-ORIGINAL-URL:https://www.aachen.digital/en/
X-WR-CALDESC:Events for digitalHUB Aachen
REFRESH-INTERVAL;VALUE=DURATION:PT1H
X-Robots-Tag:noindex
X-PUBLISHED-TTL:PT1H
BEGIN:VTIMEZONE
TZID:Europe/Berlin
BEGIN:DAYLIGHT
TZOFFSETFROM:+0100
TZOFFSETTO:+0200
TZNAME:CEST
DTSTART:20190331T010000
END:DAYLIGHT
BEGIN:STANDARD
TZOFFSETFROM:+0200
TZOFFSETTO:+0100
TZNAME:CET
DTSTART:20191027T010000
END:STANDARD
BEGIN:DAYLIGHT
TZOFFSETFROM:+0100
TZOFFSETTO:+0200
TZNAME:CEST
DTSTART:20200329T010000
END:DAYLIGHT
BEGIN:STANDARD
TZOFFSETFROM:+0200
TZOFFSETTO:+0100
TZNAME:CET
DTSTART:20201025T010000
END:STANDARD
BEGIN:DAYLIGHT
TZOFFSETFROM:+0100
TZOFFSETTO:+0200
TZNAME:CEST
DTSTART:20210328T010000
END:DAYLIGHT
BEGIN:STANDARD
TZOFFSETFROM:+0200
TZOFFSETTO:+0100
TZNAME:CET
DTSTART:20211031T010000
END:STANDARD
END:VTIMEZONE
BEGIN:VEVENT
DTSTART;TZID=Europe/Berlin:20200212T180000
DTEND;TZID=Europe/Berlin:20200212T200000
DTSTAMP:20260423T204331
CREATED:20200123T144651Z
LAST-MODIFIED:20200123T144651Z
UID:10004905-1581530400-1581537600@www.aachen.digital
SUMMARY:Agile FuckUp Session
DESCRIPTION:Normalerweise stehen im Fokus unsere Treffen die vorzeige Projekte mit denen man gerne glänzt. Diesmal drehen wir den Spieß um und lassen unsere Mitglieder über das Scheitern berichten. Dabei können Sie auf unterhaltsame Art und Weise miterleben\, wie Fehler als Feedback verstanden werden können und Teil des Lernprozesses sind. \nFehler sind schließlich nicht nur häufig unvermeidbar\, sondern auf dem Weg zum Erfolg notwendig. Eine integrierte Fehlerkultur ist ein wesentlicher Erfolgsfaktor für die Zukunft eines Unternehmens. \nHIER GEHTS ZUR ANMELDUNG
URL:https://www.aachen.digital/en/event/agile-fuckup-session/
LOCATION:Hotel Europa\, Südstraße 54\, Aachen\, 52064\, Deutschland
ATTACH;FMTTYPE=image/jpeg:https://www.aachen.digital/wp-content/uploads/2020/01/Agile-FuckUp-Session-Stage.jpg
ORGANIZER;CN="REGINA e.V.":MAILTO:mail@regina.ac
END:VEVENT
END:VCALENDAR