BEGIN:VCALENDAR
VERSION:2.0
PRODID:-//digitalHUB Aachen - ECPv6.15.20//NONSGML v1.0//EN
CALSCALE:GREGORIAN
METHOD:PUBLISH
X-WR-CALNAME:digitalHUB Aachen
X-ORIGINAL-URL:https://www.aachen.digital/en/
X-WR-CALDESC:Events for digitalHUB Aachen
REFRESH-INTERVAL;VALUE=DURATION:PT1H
X-Robots-Tag:noindex
X-PUBLISHED-TTL:PT1H
BEGIN:VTIMEZONE
TZID:Europe/Berlin
BEGIN:DAYLIGHT
TZOFFSETFROM:+0100
TZOFFSETTO:+0200
TZNAME:CEST
DTSTART:20200329T010000
END:DAYLIGHT
BEGIN:STANDARD
TZOFFSETFROM:+0200
TZOFFSETTO:+0100
TZNAME:CET
DTSTART:20201025T010000
END:STANDARD
BEGIN:DAYLIGHT
TZOFFSETFROM:+0100
TZOFFSETTO:+0200
TZNAME:CEST
DTSTART:20210328T010000
END:DAYLIGHT
BEGIN:STANDARD
TZOFFSETFROM:+0200
TZOFFSETTO:+0100
TZNAME:CET
DTSTART:20211031T010000
END:STANDARD
BEGIN:DAYLIGHT
TZOFFSETFROM:+0100
TZOFFSETTO:+0200
TZNAME:CEST
DTSTART:20220327T010000
END:DAYLIGHT
BEGIN:STANDARD
TZOFFSETFROM:+0200
TZOFFSETTO:+0100
TZNAME:CET
DTSTART:20221030T010000
END:STANDARD
BEGIN:DAYLIGHT
TZOFFSETFROM:+0100
TZOFFSETTO:+0200
TZNAME:CEST
DTSTART:20230326T010000
END:DAYLIGHT
BEGIN:STANDARD
TZOFFSETFROM:+0200
TZOFFSETTO:+0100
TZNAME:CET
DTSTART:20231029T010000
END:STANDARD
BEGIN:DAYLIGHT
TZOFFSETFROM:+0100
TZOFFSETTO:+0200
TZNAME:CEST
DTSTART:20240331T010000
END:DAYLIGHT
BEGIN:STANDARD
TZOFFSETFROM:+0200
TZOFFSETTO:+0100
TZNAME:CET
DTSTART:20241027T010000
END:STANDARD
BEGIN:DAYLIGHT
TZOFFSETFROM:+0100
TZOFFSETTO:+0200
TZNAME:CEST
DTSTART:20250330T010000
END:DAYLIGHT
BEGIN:STANDARD
TZOFFSETFROM:+0200
TZOFFSETTO:+0100
TZNAME:CET
DTSTART:20251026T010000
END:STANDARD
END:VTIMEZONE
BEGIN:VEVENT
DTSTART;TZID=Europe/Berlin:20240524T130000
DTEND;TZID=Europe/Berlin:20240524T170000
DTSTAMP:20260423T192117
CREATED:20240419T094043Z
LAST-MODIFIED:20240419T110528Z
UID:10006769-1716555600-1716570000@www.aachen.digital
SUMMARY:CFD Training Series Introduction to Kernel-based approximation methods with applications to fluid dynamics
DESCRIPTION:When data is provided in an unstructured format or is high-dimensional\, classical interpolation or approximation schemes as Finite-Element Methods (FEM) struggle to be accurate and efficient. An alternative is provided by kernel-based approaches in the Reproducing Kernel Hilbert space (RKHS) framework. Common applications range from support vector machines in context of machine learning to reconstruction of image data. In this course\, we will introduce the framework for kernel-based approximation schemes and discuss how one can implement them efficiently. At the end we will look at possible applications of kernel-based methods in context of fluid dynamics and particle methods. \n  \nIn Kooperation mit dem EDIH Rheinland \n  \nZUR ANMELDUNG
URL:https://www.aachen.digital/en/event/cfd-training-series-introduction-to-kernel-based-approximation-methods-with-applications-to-fluid-dynamics/
LOCATION:Hybrid
ATTACH;FMTTYPE=image/jpeg:https://www.aachen.digital/wp-content/uploads/2024/04/stage-early-birds-1-1.jpg
END:VEVENT
BEGIN:VEVENT
DTSTART;TZID=Europe/Berlin:20240430T130000
DTEND;TZID=Europe/Berlin:20240430T170000
DTSTAMP:20260423T192117
CREATED:20240419T091359Z
LAST-MODIFIED:20240419T110627Z
UID:10006766-1714482000-1714496400@www.aachen.digital
SUMMARY:CFD Training Series Efficient HPC implementation for Lagrangian particle trackin
DESCRIPTION:In this course\, the basics of Lagrangian point particle methods for the application on HPC systems are covered. The course consists of an introduction to the applied method\, followed by a hands-on exercise using the in-house simulation framework m-AIA. The topics covered are spherical and non-spherical particles and the efficient implementation of point particle methods for the use in HPC. The course will be held in person at the Chair of Fluid Mechanics and Institute of Aerodynamics at RWTH Aachen University in Aachen. The presentations will also be available via online live stream. \n  \nZUR ANMELDUNG \nIn Kooperation mit dem EDIH Rheinland
URL:https://www.aachen.digital/en/event/cfd-training-series-efficient-hpc-implementation-for-lagrangian-particle-trackin/
LOCATION:Hybrid
ATTACH;FMTTYPE=image/jpeg:https://www.aachen.digital/wp-content/uploads/2024/04/stage-early-birds-1.jpg
END:VEVENT
BEGIN:VEVENT
DTSTART;VALUE=DATE:20230929
DTEND;VALUE=DATE:20231001
DTSTAMP:20260423T192117
CREATED:20230621T074446Z
LAST-MODIFIED:20230912T103025Z
UID:10006497-1695945600-1696118399@www.aachen.digital
SUMMARY:Bundestagung: Orientierung in turbulenten Zeiten
DESCRIPTION:Fachkräftemangel\, Inflation\, Künstliche Intelligenz\, Herausforderungen durch die Energiewende und ein vielstimmiger Chor widersprüchlicher Meinungen in Politik\, Kirche und Gesellschaft machen es schwer\, einen klaren Kurs zu halten. In Zeiten rasanter Veränderung will der BKU als „Stimme werteorientierter Unternehmen“ zu klarer Orientierung verhelfen. \nWährend der Bundestagung in Aachen sorgen daher Impulse aus der Wirtschaftspolitik\, der Digital- und Energiewirtschaft\, aber auch aus Bereichen wie der Meinungsforschung und der Umsetzung von Nachhaltigkeit für ein spannendes und abwechslungsreiches Programm. Ganz besonders wichtig ist dabei der Austausch unter den BKU-Mitgliedern selbst\, denn die Qualität dieser menschlichen und kollegialen Kontakte macht die Qualität unseres Verbandes aus! \nDie Teilnahme am Tagungsprogramm ist vor Ort in Aachen oder digital möglich. Digital können Sie das zentrale Programm im Livestream verfolgen und sich mit Ihren Fragen über den Chat einbringen. \nWeitere Informationen zu Agenda und Tagungsbeitrag finden Sie hier: \nBroschüre zur Bundestagung \nBitte melden Sie sich online über die Homepage des BKU an. Anmeldeschluss ist der 22. September 2023. \nZUR ANMELDUNG
URL:https://www.aachen.digital/en/event/bundestagung-orientierung-in-turbulenten-zeiten/
LOCATION:Hybrid
ATTACH;FMTTYPE=image/jpeg:https://www.aachen.digital/wp-content/uploads/2023/04/AdobeStock_67844411-1-scaled.jpeg
END:VEVENT
BEGIN:VEVENT
DTSTART;VALUE=DATE:20230902
DTEND;VALUE=DATE:20231207
DTSTAMP:20260423T192117
CREATED:20230726T130340Z
LAST-MODIFIED:20230726T130405Z
UID:10005925-1693612800-1701907199@www.aachen.digital
SUMMARY:ZebrAC - Do Good and Make Money
DESCRIPTION:Der erste NRW-weite Zebra–Accelerator für GreenTech Startups.\nFür dich ist Nachhaltigkeit nicht nur ein Buzzword\, sondern Realität und die Zukunft? Du bist davon überzeugt\, dass sich heutige und zukünftige Herausforderungen nur durch nachhaltige Innovationen lösen lassen und möchtest mit deiner Idee einen wirklichen Impact schaffen? Dann sind wir überzeugt davon\, der Zebra Accelerator ist genau das Richtige für dich\, um durchzustarten. \nHier bist du von Beginn an Teil eines tollen Netzwerks. Vernetze dich mit erfahrenen Expert:innen aus Wissenschaft und Wirtschaft sowie anderen Startups aus der Community. Während des 100-tägigen Programms schärfst du deine Geschäftsidee mit dem Ziel des Problem-Solution-Fit. Zudem helfen dir unsere Coaches bei unterschiedlichen Themen rund ums Gründen – so steht deinem Startup nichts mehr im Weg! \nDu bist der Meinung\, dass du das Zeug zum nächsten Zebra hast? Dann zögere nicht und bewirb dich jetzt für unser Accelerator Programm und werde Teil einer großartigen Community. Gemeinsam verfolgen wir unseren Leitsatz – „Do Good and Make Money“. \nBewirb dich bis zum 18.08.2023 für Batch #1! \nWeitere Informationen zum Programm usw. \nJETZT BEWERBEN
URL:https://www.aachen.digital/en/event/zebrac/
LOCATION:Hybrid
ATTACH;FMTTYPE=image/jpeg:https://www.aachen.digital/wp-content/uploads/2023/07/AdobeStock_181021829-scaled.jpeg
END:VEVENT
BEGIN:VEVENT
DTSTART;VALUE=DATE:20220614
DTEND;VALUE=DATE:20220615
DTSTAMP:20260423T192117
CREATED:20220210T090627Z
LAST-MODIFIED:20221212T131104Z
UID:10006107-1655164800-1655251199@www.aachen.digital
SUMMARY:ruhrSUMMIT 2022 - Goes hybrid
DESCRIPTION:Livestream aus der Jahrhunderthalle in Bochum\nDer Fokus liegt auf dem physischen Event.\nLass dich von digitalen Themen begeistern\, mit einer wunderbaren Community rund um Startups\, Unternehmen und Investor:innen netzwerken\, um den ruhrSUMMIT so zu DEINEM Highlight-Event zu machen. Freu dich auf richtungsweisende Trendthemen und Technologien zum Anfassen! Natürlich gibt es auch einen Zugang über eine digitale Plattform\, damit du auch teilnehmen kannst\, wenn du tatsächlich NICHT vor Ort sein kannst. \nSTAGES\nBeim ruhrSUMMIT 2022 erwartet dich eine Fülle an Trendthemen. Auf zwei Stages teilen hochkarätige Speaker ihr Wissen und ihre Erfahrungen mit einem großen Publikum. Beide Bühnen behandeln bestimmte Topics\, welche relevant für dich und dein Business sind. \nEXPERIENCE AREA\nIn der Experience Area hast du beim analogen Event vor Ort die Möglichkeit die neusten Trendtechnologien live zu erleben und neue Felder für dich zu entdecken! Hier versammeln sich technologieaffine Startups und bieten dir einen Ort zum Ausprobieren – ganz im Sinne der Startup Mentalität wird hier „einfach mal gemacht“. Teste die neusten Trends und komme direkt mit den Gründer:innen ins Gespräch! \nPOP-UP DISCUSSION CORNERS\nAuf dem gesamten Eventgelände findest du mehrere Pop-Up Discussion Corners\, welche dir neben dem Hauptprogramm auf den beiden Bühnen weitere Impulse zu Startup-spezifischen Themen bieten. Immer wieder werden die Corners unterschiedlich besetzt und behandeln verschiedenste Themen. So bekommst du facettenreiche Impulse und hast die Gelegenheit\, mit unterschiedlichsten Teilnehmer*innen Kontakt aufzunehmen. \nDIGITAL PITCH AREA\nDie Digital Pitch Area bietet dir die Möglichkeit\, Start-up Pitches aus bestimmten Themensegmenten anzuschauen. Anders als die Live-Formate ist die Digital Pitch Area ein on demand Format\, welches begleitend zum Eventgeschehen vor Ort angeboten wird. Das ist aber nicht alles: Nachdem du dir den ein- oder anderen Startup Pitch angeschaut hast\, kannst du dich über die virtuelle Plattform mit den Gründer:innen verabreden\, denn auch diese sind on Event dabei und freuen sich über jeden neuen Business-Kontakt! \nWARM-UP EVENTS FÜR DEN #RS2022! Vernetz’ dich schon vor Eventstart! Mehr Infos zu den Pre-Events folgen. \nACHTUNG Mitgliederrabatt: Unsere Mitglieder haben 22% Rabatt – meldet euch unter: events@hubaachen.de für eueren Rabatt-Code. \nInfos & Anmeldung. \n 
URL:https://www.aachen.digital/en/event/ruhrsummit-2022-goes-hybrid/
LOCATION:Hybrid
ATTACH;FMTTYPE=image/jpeg:https://www.aachen.digital/wp-content/uploads/2022/02/ruhrSUMMIT_stage.jpg
ORGANIZER;CN="ruhrHUB":MAILTO:info@hub.ruhr
END:VEVENT
BEGIN:VEVENT
DTSTART;TZID=Europe/Berlin:20220330T180000
DTEND;TZID=Europe/Berlin:20220330T220000
DTSTAMP:20260423T192117
CREATED:20220207T110826Z
LAST-MODIFIED:20220302T104224Z
UID:10006104-1648663200-1648677600@www.aachen.digital
SUMMARY:NRW Hub-Battle 2022
DESCRIPTION:Wo sitzt das spannendste digitale Startup in Nordrhein-Westfalen?\nDer ultimative NRW Hub-Battle #3 in Münster\, auf Fanbase-Partys in ganz NRW und im Livestream bringt es an den Tag! #NRWHubBattle \nOh ja! Der ultimative Startup-Wettstreit in NRW geht in Runde #3. Sieben Startups aus sieben Regionen kämpfen um den Titel des NRW-Startup-Champions. Jedes hat nur drei Minuten Zeit um die Jury und die Fanbases im gesamten Bundesland von sich zu überzeugen.
URL:https://www.aachen.digital/en/event/nrw-hub-battle-3-2022/
LOCATION:Hybrid
ATTACH;FMTTYPE=image/jpeg:https://www.aachen.digital/wp-content/uploads/2022/02/NRWhubbattle_stage.jpg
END:VEVENT
BEGIN:VEVENT
DTSTART;VALUE=DATE:20210914
DTEND;VALUE=DATE:20210917
DTSTAMP:20260423T192117
CREATED:20210712T084303Z
LAST-MODIFIED:20210830T090932Z
UID:10005496-1631577600-1631836799@www.aachen.digital
SUMMARY:#neuland - Creating the digital future together
DESCRIPTION:Der Kongress #neuland – Creating the digital future together stellt einen Think Tank für Vordenker auf dem Weg in eine effiziente\, aber ebenso ökologisch und ökonomisch nachhaltige Zukunft dar. Unsere Vision\, nicht für\, sondern durch mögliche Olympische und Paralympische Spiele in der Region Rhein-Ruhr\, wichtige Zukunftsthemen mit einem festen Zieldatum voranzutreiben\, hat durch die Covid-19 Pandemie noch mehr an Bedeutung gewonnen. \nUnter dem Aspekt der Nachhaltigkeit gilt es innovative Themen in der Metropolregion Rhein-Ruhr voranzutreiben und Umsetzungsmöglichkeiten in Verbund mit Wirtschaft\, Wissenschaft und Politik\, sowie Startups und Investoren zu diskutieren. \nMehr Informationen sowie die Anmeldung finden Sie unter: \nwww.neuland.today \nAnsprechpartner:\nDr.-Ing. Gerhard Gudergan\nCampus-Boulevard 55\nD – 52074 Aachen\nTel.: +49 241 47705 104
URL:https://www.aachen.digital/en/event/neuland-creating-the-digital-future-together-2021/
LOCATION:Hybrid
ATTACH;FMTTYPE=image/jpeg:https://www.aachen.digital/wp-content/uploads/2021/07/AdobeStock_105824762-scaled.jpeg
ORGANIZER;CN="FIR an der RWTH Aachen":MAILTO:info@fir.rwth-aachen.de
END:VEVENT
BEGIN:VEVENT
DTSTART;VALUE=DATE:20210909
DTEND;VALUE=DATE:20210910
DTSTAMP:20260423T192117
CREATED:20210728T111255Z
LAST-MODIFIED:20211203T113036Z
UID:10005967-1631145600-1631231999@www.aachen.digital
SUMMARY:DIGITAL DEMO DAY 2021
DESCRIPTION:The Future of Tech.\nDer DIGITAL DEMO DAY verbindet Technologie mit Business. Der digiHUB Düsseldorf Rheinland bringt Gründer\, Entscheider\, Investoren\, Experten und Shaper aus der ganzen Welt zusammen\, um Ideen über Spitzentechnologie zu diskutieren und auszutauschen. \nDer DIGITAL DEMO DAY 2021 ist Deutschlands größte Tech Startup Show & Konferenz und die Nummer 1\, um Top-Geschäftskontakte zu knüpfen. \nDas Event findet im AREAL BÖHLER in Düsseldorf und auch online statt. \nHUB-Mitglieder erhalten 30 % Rabatt auf die Tickets. Meldet euch dafür bei events@hubaachen.de.\nEarly Bird Tickets enden diese Woche am 30. Juli 2021. \nINFORMATIONEN UND TICKETS
URL:https://www.aachen.digital/en/event/digital-demo-day-2021/
LOCATION:Hybrid
ATTACH;FMTTYPE=image/jpeg:https://www.aachen.digital/wp-content/uploads/2021/07/demoday.jpg
ORGANIZER;CN="digihub D%C3%BCsseldorf Rheinland":MAILTO:info@digihub.de
END:VEVENT
BEGIN:VEVENT
DTSTART;TZID=Europe/Berlin:20210622T170000
DTEND;TZID=Europe/Berlin:20210622T203000
DTSTAMP:20260423T192117
CREATED:20210526T084359Z
LAST-MODIFIED:20210526T114033Z
UID:10005915-1624381200-1624393800@www.aachen.digital
SUMMARY:Nacht der Unternehmen Aachen
DESCRIPTION:Aachens erfolgreichste Jobmesse\, die „Nacht der Unternehmen“\, wird diesmal hybrid stattfinden\, also physisch vor Ort und virtuell im Internet. Studies werden Unternehmen mit attraktiven Karrierechancen aus der Region kennenlernen\, Kontakte knüpfen\, Eindrücke sammeln und sich informieren. Wann immer zulässig\, werden reale Gespräche vor Ort geführt\, Unternehmen live besichtigt. Fast fünfzig Unternehmen erwarten die Studierenden\, Absolventen und Young Professionals – entweder vor Ort oder aus dem Home Office. \nReal und digital\nGeplant ist die Nacht der Unternehmen (NdU) als hybrides Event. Das bedeutet: Wenn die Inzidenzwerte so sinken\, dass eine „reale“ Veranstaltung möglich ist\, findet die NDU wieder im Technologiezentrum (TZA) am Europaplatz statt – selbstverständlich mit einem Sicherheits- und Hygienekonzept\, um die Gesundheit aller Beteiligten zu schützen. Auch Bustouren werden angeboten\, mit der Gelegenheit\, einige der ausstellenden Unternehmen direkt vor Ort an ihrem Firmensitz kennenzulernen. Parallel gibt es eine digitale NdU. Auf den virtuellen Ständen der Aussteller findet man dort umfangreiche Informationen und auch eine persönliche Kontaktaufnahme und Gespräche sind online möglich. \nBeste Job-Chancen in der Region\nAussteller auf der NDU\, real vor Ort und virtuell\, sind Unternehmen und Institutionen aus der Region. Sie alle haben brauchen qualifizierte und engagierte Mitarbeiter*innen. Sie alle haben ein großes Interesse daran\, dafür auch das „Human Capital“ zu nutzen\, welches an den Schulen und Hochschulen der Region und auch in den Unternehmen ausgebildet und\nqualifiziert wird. Ein Arbeitsplatz in der Region bietet mindestens zwei große Vorteile: Man erspart sich den Umzug und kann seine gewohnten sozialen Kontakte aufrechterhalten. Außerdem ist man bei den regionalen Unternehmen nicht ein anonymer Arbeitsnehmer unter hunderten anderen\, wie oft bei großen Konzernen\, und hat auch bessere Karrierechancen. \nOrganisation\, Sicherheit und Zugang \nAuf Grund der Corona-Sicherheitsbestimmungen ist eine Anmeldung zwingend erforderlich. Diese ist möglich über die Website der NdU. Diese bietet auch immer wieder aktualisierte Informationen\, z.B. zu den Ausstellern und am Veranstaltungstag auch den Zugang zur virtuellen NdU.\nVoraussetzung für den persönlichen Besuch im TZA ist auch – so wie bei „click & meet“ – ein negatives Testergebnis\, das nicht älter als 24 Stunden sein darf\, bzw. der Nachweis\, dass man zum Kreis der vollständig Geimpften oder Genesenen gehört. Obligatorisch ist das Tragen einer FFP2-Maske oder vergleichbar. \nErfolgreiches Format mit vielen Unterstützern\nErfinder der „Nacht der Unternehmen“ ist das Aachener Marketing Unternehmen TEMA AG. Die TEMA AG führt die NDU seit 2008 in Aachen und anderen Städte erfolgreich durch. Die Aachener Nacht der Unternehmen wird unterstützt durch die Hochschulen RWTH Aachen und FH Aachen\, die Stadt Aachen und die StädteRegion Aachen\, die Industrie- und Handelskammer\, die Arbeitsagentur Aachen sowie den Verein REGINA (Regionaler Industrieclub Informatik Aachen). \nVorherige Anmeldung erwünscht. Die Veranstaltung findet parallel auch Online statt. \nAnmeldung & Informationen
URL:https://www.aachen.digital/en/event/nacht-der-unternehmen-am-22-juni-2021-diesmal-hybrid/
LOCATION:Hybrid
ATTACH;FMTTYPE=image/jpeg:https://www.aachen.digital/wp-content/uploads/2021/05/stage_nachtderunternehmen-1.jpg
END:VEVENT
END:VCALENDAR