BEGIN:VCALENDAR
VERSION:2.0
PRODID:-//digitalHUB Aachen - ECPv6.15.20//NONSGML v1.0//EN
CALSCALE:GREGORIAN
METHOD:PUBLISH
X-ORIGINAL-URL:https://www.aachen.digital/en/
X-WR-CALDESC:Events for digitalHUB Aachen
REFRESH-INTERVAL;VALUE=DURATION:PT1H
X-Robots-Tag:noindex
X-PUBLISHED-TTL:PT1H
BEGIN:VTIMEZONE
TZID:Europe/Berlin
BEGIN:DAYLIGHT
TZOFFSETFROM:+0100
TZOFFSETTO:+0200
TZNAME:CEST
DTSTART:20180325T010000
END:DAYLIGHT
BEGIN:STANDARD
TZOFFSETFROM:+0200
TZOFFSETTO:+0100
TZNAME:CET
DTSTART:20181028T010000
END:STANDARD
BEGIN:DAYLIGHT
TZOFFSETFROM:+0100
TZOFFSETTO:+0200
TZNAME:CEST
DTSTART:20190331T010000
END:DAYLIGHT
BEGIN:STANDARD
TZOFFSETFROM:+0200
TZOFFSETTO:+0100
TZNAME:CET
DTSTART:20191027T010000
END:STANDARD
BEGIN:DAYLIGHT
TZOFFSETFROM:+0100
TZOFFSETTO:+0200
TZNAME:CEST
DTSTART:20200329T010000
END:DAYLIGHT
BEGIN:STANDARD
TZOFFSETFROM:+0200
TZOFFSETTO:+0100
TZNAME:CET
DTSTART:20201025T010000
END:STANDARD
END:VTIMEZONE
BEGIN:VEVENT
DTSTART;TZID=Europe/Berlin:20190212T090000
DTEND;TZID=Europe/Berlin:20190212T160000
DTSTAMP:20260424T011626
CREATED:20190206T152605Z
LAST-MODIFIED:20190214T142122Z
UID:10004737-1549962000-1549987200@www.aachen.digital
SUMMARY:Arbeitskreis "Service-Business": Wissensmanagement und E-Learning im Service
DESCRIPTION:Das 26. Treffen des Arbeitskreises Service-Business findet am 12. Februar 2019 ab 9:00 Uhr bei InfraServ Knapsack in Hürth-Knapsack statt. Das Thema des Treffens ist “Wissensmanagement und E-Learning im Service”. \nInhalte:\nIm Rahmen des Termins möchten wir u. a. den folgenden Fragen nachgehen: \n\nWas bringt Wissensmanagement im Service für Unternehmen?\nWie sieht ein modernes E-Learning-System für Mitarbeiter aus?\nWelche Hürden und Herausforderungen ergeben sich im Wissensmanagement und wie kann man diese überwinden?\nWelche Qualifikationsprofile ergeben sich für Mitarbeiter im Service im Zuge der Digitalisierung?\nWie haben Unternehmen\, wie InfraServ Knapsack\, erfolgreich ein Wissensmanagement eingeführt?\nWas sind konkrete Anwendungsbeispiele aus dem technischen Service?\n\nNeben einem Workshop vom FIR zu Qualifikationsprofilen im technischen Service im Zuge der Digitalisierung\, referiert InfraServ Knapsack über seine Erfahrungen bei der Einführung eines umfangreichen Wissensmanagements. Darüber hinaus erhalten Sie die Möglichkeit\, an einer Führung durch den Chemiepark in Hürth-Knapsack teilzunehmen. \nDie Teilnahme am “Arbeitskreis “Service-Business” ist kostenfrei. Eine Anmeldung ist erforderlich. Die Teilnehmerzahl ist begrenzt – es gilt: “First come – first serve”. \nWeitere Infos sowie die Anmeldung finden Sie hier:\nWissensmanagement und E-Learning im Service
URL:https://www.aachen.digital/en/event/arbeitskreis-service-business-wissensmanagement-und-e-learning-im-service/
LOCATION:InfraServ GmbH & Co. Knapsack KG\, Chemiepark Knapsack\, Hürth\, 50354
ATTACH;FMTTYPE=image/png:https://www.aachen.digital/wp-content/uploads/2019/02/FIR-Logo_125.png
END:VEVENT
END:VCALENDAR