BEGIN:VCALENDAR
VERSION:2.0
PRODID:-//digitalHUB Aachen - ECPv6.15.20//NONSGML v1.0//EN
CALSCALE:GREGORIAN
METHOD:PUBLISH
X-WR-CALNAME:digitalHUB Aachen
X-ORIGINAL-URL:https://www.aachen.digital/en/
X-WR-CALDESC:Events for digitalHUB Aachen
REFRESH-INTERVAL;VALUE=DURATION:PT1H
X-Robots-Tag:noindex
X-PUBLISHED-TTL:PT1H
BEGIN:VTIMEZONE
TZID:Europe/Berlin
BEGIN:DAYLIGHT
TZOFFSETFROM:+0100
TZOFFSETTO:+0200
TZNAME:CEST
DTSTART:20180325T010000
END:DAYLIGHT
BEGIN:STANDARD
TZOFFSETFROM:+0200
TZOFFSETTO:+0100
TZNAME:CET
DTSTART:20181028T010000
END:STANDARD
BEGIN:DAYLIGHT
TZOFFSETFROM:+0100
TZOFFSETTO:+0200
TZNAME:CEST
DTSTART:20190331T010000
END:DAYLIGHT
BEGIN:STANDARD
TZOFFSETFROM:+0200
TZOFFSETTO:+0100
TZNAME:CET
DTSTART:20191027T010000
END:STANDARD
BEGIN:DAYLIGHT
TZOFFSETFROM:+0100
TZOFFSETTO:+0200
TZNAME:CEST
DTSTART:20200329T010000
END:DAYLIGHT
BEGIN:STANDARD
TZOFFSETFROM:+0200
TZOFFSETTO:+0100
TZNAME:CET
DTSTART:20201025T010000
END:STANDARD
END:VTIMEZONE
BEGIN:VEVENT
DTSTART;TZID=Europe/Berlin:20191009T180000
DTEND;TZID=Europe/Berlin:20191009T210000
DTSTAMP:20260423T204249
CREATED:20190924T095452Z
LAST-MODIFIED:20190924T095452Z
UID:10005422-1570644000-1570654800@www.aachen.digital
SUMMARY:Management-Treffen von REGINA e.V.
DESCRIPTION:Weiterbildung der Zukunft: Anforderungen\, Trends und Formate\nAls Referenten begrüßen wir:\nDr. Patrick Blum\, Geschäftsführer inside Unternehmensgruppe\nLernen & Leisten in der digitalen Transformation\nDie digitale Transformation schreitet voran und hat große Auswirkungen auf den Berufsalltag: Mitarbeiter in Unternehmen müssen sich kontinuierlich neuen Herausforderungen stellen\, sich auf neue Prozesse\, Methoden\, Verfahren und Systeme einlassen. Sie müssen permanent über aktuelles Wissen verfügen und dieses anwenden. Das alles führt zu einem kontinuierlichen und steigendenden Qualifizierungsbedarf.\nErfahren Sie in diesem Vortrag\, warum das klassische “Lernen auf Vorrat”\, zeitlich und örtlich losgelöst vom Arbeitsplatz\, die Anforderungen an das Lernen von heute alleine nicht mehr erfüllen kann. Neue Formen des Lernens\, eine Kombination verschiedener Lernformen\, räumliche und zeitliche Flexibilität und eine Integration des Lernens in den Arbeitsprozess gewinnen zunehmend an Bedeutung. \nPatrick Neubert\, CEO Polarstern Education\nOnlinekurse und Nutzer-generierten Content erfolgreich in Organisationen implementieren\nDigitale Lernformate in Form von Webinaren\, Onlinekursen oder Content Bibliotheken sind bereits ein weit verbreitetes Werkzeug um Mitarbeiter kosteneffizient und skalierbar zu schulen. Doch eLearning hat ein Imageproblem\, denn zu viele digitale Angebote sind schlecht gemacht. Lernen soll und muss Spaß machen. Deshalb verraten wir Ihnen einige unserer Techniken zur Erstellung fesselnder Onlinekurse und geben Ihnen unsere praxiserprobte Anleitung zur Onlinekurserstellung. \nWeiter Informationen hier. \nDie Teilnahme ist für Mitglieder und Gäste kostenlos. \nHIER GEHTS ZUR ANMELDUNG
URL:https://www.aachen.digital/en/event/management-treffen-regina/
LOCATION:inside Unternehmensgruppe\, Auf der Hüls 190\, Aachen\, 52068\, Deutschland
ATTACH;FMTTYPE=image/jpeg:https://www.aachen.digital/wp-content/uploads/2019/05/Regina-e.V..jpg
ORGANIZER;CN="REGINA e.V.":MAILTO:mail@regina.ac
END:VEVENT
END:VCALENDAR