BEGIN:VCALENDAR
VERSION:2.0
PRODID:-//digitalHUB Aachen - ECPv6.15.20//NONSGML v1.0//EN
CALSCALE:GREGORIAN
METHOD:PUBLISH
X-ORIGINAL-URL:https://www.aachen.digital/en/
X-WR-CALDESC:Events for digitalHUB Aachen
REFRESH-INTERVAL;VALUE=DURATION:PT1H
X-Robots-Tag:noindex
X-PUBLISHED-TTL:PT1H
BEGIN:VTIMEZONE
TZID:Europe/Berlin
BEGIN:DAYLIGHT
TZOFFSETFROM:+0100
TZOFFSETTO:+0200
TZNAME:CEST
DTSTART:20240331T010000
END:DAYLIGHT
BEGIN:STANDARD
TZOFFSETFROM:+0200
TZOFFSETTO:+0100
TZNAME:CET
DTSTART:20241027T010000
END:STANDARD
BEGIN:DAYLIGHT
TZOFFSETFROM:+0100
TZOFFSETTO:+0200
TZNAME:CEST
DTSTART:20250330T010000
END:DAYLIGHT
BEGIN:STANDARD
TZOFFSETFROM:+0200
TZOFFSETTO:+0100
TZNAME:CET
DTSTART:20251026T010000
END:STANDARD
BEGIN:DAYLIGHT
TZOFFSETFROM:+0100
TZOFFSETTO:+0200
TZNAME:CEST
DTSTART:20260329T010000
END:DAYLIGHT
BEGIN:STANDARD
TZOFFSETFROM:+0200
TZOFFSETTO:+0100
TZNAME:CET
DTSTART:20261025T010000
END:STANDARD
END:VTIMEZONE
BEGIN:VEVENT
DTSTART;TZID=Europe/Berlin:20250627T150000
DTEND;TZID=Europe/Berlin:20250627T183000
DTSTAMP:20260423T204330
CREATED:20250617T140242Z
LAST-MODIFIED:20250617T140242Z
UID:10007366-1751036400-1751049000@www.aachen.digital
SUMMARY:9. Treffen „Netzwerk Digital Rhein-Erft“
DESCRIPTION:Die Wirtschaftsförderung Rhein-Erft GmbH und ihre Partner laden dich ein zum \n9. Treffen „Netzwerk Digital Rhein-Erft“ am Freitag\, 27. Juni 2025\, ab 15 Uhr bei INSIGMA IT Engineering GmbH in der Europaallee 31\, 50226 Frechen. \nBei diesem erfolgreichen Networking-Format treffen sich Digitalisierer\, IT-Entscheider und Unternehmerinnen und Unternehmer aus der Region zum Erfahrungsaustausch bei Limo\, Kölsch und Snacks. Diesmal präsentiert sich INSIGMA IT Engineering GmbH. Bei schönem Wetter findet das Treffen auf dem Open-Air-Grillplatz hinter dem INSIGMA Headquarter statt. Der inhaltliche Austausch dreht sich um das Thema Business Continuity Management (BCM) und Desaster Recovery (DR) anhand eines praktischen Erfahrungsberichts. \nFreue dich auf den Austausch mit weiteren Akteuren\, um die Digitalisierung im Rhein-Erft-Kreis am bundesweiten Digitaltag 2025 einen weiteren Schritt voranzubringen. Die Veranstaltung wird in Kooperation mit der Wirtschaftsförderung der Stadt Frechen sowie Brühl digital e.V. durchgeführt. \nZUR ANMELDUNG
URL:https://www.aachen.digital/en/event/9-treffen-netzwerk-digital-rhein-erft/
LOCATION:INSIGMA IT Engineering GmbH\, Europaallee 31\, Frechen\, NRW\, 50226\, Germany
ATTACH;FMTTYPE=image/jpeg:https://www.aachen.digital/wp-content/uploads/2025/06/20250321_Netzwerk_Digital412.jpg
END:VEVENT
END:VCALENDAR