BEGIN:VCALENDAR
VERSION:2.0
PRODID:-//digitalHUB Aachen - ECPv6.15.20//NONSGML v1.0//EN
CALSCALE:GREGORIAN
METHOD:PUBLISH
X-WR-CALNAME:digitalHUB Aachen
X-ORIGINAL-URL:https://www.aachen.digital/en/
X-WR-CALDESC:Events for digitalHUB Aachen
REFRESH-INTERVAL;VALUE=DURATION:PT1H
X-Robots-Tag:noindex
X-PUBLISHED-TTL:PT1H
BEGIN:VTIMEZONE
TZID:Europe/Berlin
BEGIN:DAYLIGHT
TZOFFSETFROM:+0100
TZOFFSETTO:+0200
TZNAME:CEST
DTSTART:20230326T010000
END:DAYLIGHT
BEGIN:STANDARD
TZOFFSETFROM:+0200
TZOFFSETTO:+0100
TZNAME:CET
DTSTART:20231029T010000
END:STANDARD
BEGIN:DAYLIGHT
TZOFFSETFROM:+0100
TZOFFSETTO:+0200
TZNAME:CEST
DTSTART:20240331T010000
END:DAYLIGHT
BEGIN:STANDARD
TZOFFSETFROM:+0200
TZOFFSETTO:+0100
TZNAME:CET
DTSTART:20241027T010000
END:STANDARD
BEGIN:DAYLIGHT
TZOFFSETFROM:+0100
TZOFFSETTO:+0200
TZNAME:CEST
DTSTART:20250330T010000
END:DAYLIGHT
BEGIN:STANDARD
TZOFFSETFROM:+0200
TZOFFSETTO:+0100
TZNAME:CET
DTSTART:20251026T010000
END:STANDARD
END:VTIMEZONE
BEGIN:VEVENT
DTSTART;TZID=Europe/Berlin:20240531T140000
DTEND;TZID=Europe/Berlin:20240602T200000
DTSTAMP:20260423T225813
CREATED:20240514T083040Z
LAST-MODIFIED:20240514T094226Z
UID:10006142-1717164000-1717358400@www.aachen.digital
SUMMARY:CSD Aachen
DESCRIPTION:Queer are family. Selbstbestimmt. Unterschiedlich. Zusammen.\nAuch in diesem Jahr möchte die queere Community in Aachen wieder ein Ausrufezeichen für Vielfalt und Akzeptanz setzen. Unsere Gesellschaft ist in Bewegung. Menschen spüren\, dass sie sich engagieren müssen\, um ein Gegengewicht zu Isolation\, Ausgrenzung und Abschottung zu setzen. Diese Menschen kommen aus der gesamten Gesellschaft\, aus ihrer Mitte ebenso wie von ihren Rändern. Gemein ist diesen Menschen das Bedürfnis\, respektiert und wahrgenommen zu werden. \nDer CSD-Demonstrationszug ist das Herzstück des CSD Wochenendes.\nEs ist die friedliche Demonstration für die Verbesserung der Lebenssituation von queeren Menschen und gleichzeitig ein lebensbejahendes und kraftvolles Zeichen für eine bunte und tolerante Gesellschaft. Die Demonstration startet dieses Jahr vom Frankenberger Park (Bismarckstraße) und geht bis in die Innenstadt. Dort\, rund um das Rathaus wird es das ganze Wochenende das CSD-Straßenfest mit einem großen Kulturprogramm auf Katschhof und Markt geben. \nAlle Infos findet ihr hier
URL:https://www.aachen.digital/en/event/aachen-pride-2024/
LOCATION:Katschhof & Markt
ATTACH;FMTTYPE=image/png:https://www.aachen.digital/wp-content/uploads/2024/05/CSD-1.png
ORGANIZER;CN="Aachen Pride gUG":MAILTO:redaktion@textwelle.de
END:VEVENT
END:VCALENDAR