BEGIN:VCALENDAR
VERSION:2.0
PRODID:-//digitalHUB Aachen - ECPv6.15.20//NONSGML v1.0//EN
CALSCALE:GREGORIAN
METHOD:PUBLISH
X-ORIGINAL-URL:https://www.aachen.digital/en/
X-WR-CALDESC:Events for digitalHUB Aachen
REFRESH-INTERVAL;VALUE=DURATION:PT1H
X-Robots-Tag:noindex
X-PUBLISHED-TTL:PT1H
BEGIN:VTIMEZONE
TZID:Europe/Berlin
BEGIN:DAYLIGHT
TZOFFSETFROM:+0100
TZOFFSETTO:+0200
TZNAME:CEST
DTSTART:20210328T010000
END:DAYLIGHT
BEGIN:STANDARD
TZOFFSETFROM:+0200
TZOFFSETTO:+0100
TZNAME:CET
DTSTART:20211031T010000
END:STANDARD
BEGIN:DAYLIGHT
TZOFFSETFROM:+0100
TZOFFSETTO:+0200
TZNAME:CEST
DTSTART:20220327T010000
END:DAYLIGHT
BEGIN:STANDARD
TZOFFSETFROM:+0200
TZOFFSETTO:+0100
TZNAME:CET
DTSTART:20221030T010000
END:STANDARD
BEGIN:DAYLIGHT
TZOFFSETFROM:+0100
TZOFFSETTO:+0200
TZNAME:CEST
DTSTART:20230326T010000
END:DAYLIGHT
BEGIN:STANDARD
TZOFFSETFROM:+0200
TZOFFSETTO:+0100
TZNAME:CET
DTSTART:20231029T010000
END:STANDARD
END:VTIMEZONE
BEGIN:VEVENT
DTSTART;TZID=Europe/Berlin:20221201T193000
DTEND;TZID=Europe/Berlin:20221201T213000
DTSTAMP:20260424T011627
CREATED:20221024T081454Z
LAST-MODIFIED:20221024T081454Z
UID:10006334-1669923000-1669930200@www.aachen.digital
SUMMARY:Faktencheck – Jan Hofer berichtet aus dem Alltag großer Nachrichtenredaktionen
DESCRIPTION:Wer entscheidet\, welche Nachrichten wir sehen? Wie erkennt man Falschmeldungen? Jan Hofer\, ehemaliger Nachrichtenchef der Tagesschau und Frontmann von RTL Direkt\, berichtet aus dem Alltag der Nachrichtenredaktionen. \nIn seinem Vortrag präsentiert Jan Hofer dem ostbelgischen Publikum eindrücklich\, wie sehr sich im Laufe seiner langen Karriere als Nachrichtensprecher und Talkmaster die Recherchearbeit der Redaktionen verändert hat. \nTiefgreifende Fälschung \nDurch so genannte Deep Fakes hat die Täuschung eine neue Dimension erreicht. Mit Hilfe künstlicher Intelligenz können \n\nBilder\nAudio\nVideo\n\nso gefälscht werden\, dass sie täuschend echte Inhalte vorgaukeln. Öffentliche Portale wie zum Beispiel der Faktenfinder der ZDF-Nachrichtenredaktion helfen Bürgern und Journalisten bei der Prüfung von Quellen und entlarven Urheber und Absichten von Falschmeldungen. \nPraxischeck am eigenen Handy \nIm Anschluss an den Vortrag von Jan Hofer zeigt Journalistin Caroline Lindekamp von CORRECTIV\, wie das Publikum mit digitalen Tools auf dem eigenen Handy selbst Nachrichtenchecks durchführen kann. \nZUR ANMELDUNG
URL:https://www.aachen.digital/en/event/faktencheck-jan-hofer-berichtet-aus-dem-alltag-grosser-nachrichtenredaktionen/
LOCATION:Kinosaal Jünglingshaus\, Neustraße 86\, Eupen\, 47000\, Belgien
ATTACH;FMTTYPE=image/jpeg:https://www.aachen.digital/wp-content/uploads/2022/10/faktencheck_stage.jpg
END:VEVENT
BEGIN:VEVENT
DTSTART;TZID=Europe/Berlin:20221031T193000
DTEND;TZID=Europe/Berlin:20221031T220000
DTSTAMP:20260424T011627
CREATED:20221024T075009Z
LAST-MODIFIED:20221024T075711Z
UID:10006333-1667244600-1667253600@www.aachen.digital
SUMMARY:How I met my Idea\, Vol. 18 – Youngsters Spezial
DESCRIPTION:Wie arbeitet eine Cosplay-Designerin? Wie wird man Tätowierer? Was muss man als Möbel-Up-Cycler alles draufhaben? Antworten auf diese Fragen und mehr gibt es auf der Bühne des Jünglingshauses in Eupen. Mit anschließender DJ-Party im Foyer! \nBei dieser Spezialausgabe von „How I met my Idea“ stellen sich acht Kreativ-Youngsters mit ihren Ideen und Unternehmungen vor. Mit dabei sind: \n\nAaron Beckers – Eye dunno\, Künstler\nMark Vomberg – Möbelkiste & mingbud\nFrancesca Krings – BGABG-by guess and by gosh\nMax Scholl – mehl + wasser\nCamille Godesar – StimmCode\nDominique Wolkener – The Dodo Cosplay\nFelix Scholzen & Ioannis Hietbrink – JUKESPOT\nSimen van Meensel – Kulturakteur\, Eastbelgica\n\nDas Programm: \nJeder Kreative hat acht Minuten Zeit\, um sein Projekt aus der ostbelgischen und euregionalen Kreativszene dem Publikum zu präsentieren. \nIm Anschluss sorgt die Afterparty by Strange Agency mit den DJs \nHerz und Schrittmacher\nPokayoke\nMarkus Königs \nmit ihrer tanzbaren Musik für Stimmung.
URL:https://www.aachen.digital/en/event/how-i-met-my-idea-vol-18-youngsters-spezial/
LOCATION:Kinosaal Jünglingshaus\, Neustraße 86\, Eupen\, 47000\, Belgien
ATTACH;FMTTYPE=image/png:https://www.aachen.digital/wp-content/uploads/2022/10/Kopie-von-pitchandprost_nl3.png
END:VEVENT
END:VCALENDAR