BEGIN:VCALENDAR
VERSION:2.0
PRODID:-//digitalHUB Aachen - ECPv6.15.20//NONSGML v1.0//EN
CALSCALE:GREGORIAN
METHOD:PUBLISH
X-WR-CALNAME:digitalHUB Aachen
X-ORIGINAL-URL:https://www.aachen.digital/en/
X-WR-CALDESC:Events for digitalHUB Aachen
REFRESH-INTERVAL;VALUE=DURATION:PT1H
X-Robots-Tag:noindex
X-PUBLISHED-TTL:PT1H
BEGIN:VTIMEZONE
TZID:Europe/Berlin
BEGIN:DAYLIGHT
TZOFFSETFROM:+0100
TZOFFSETTO:+0200
TZNAME:CEST
DTSTART:20240331T010000
END:DAYLIGHT
BEGIN:STANDARD
TZOFFSETFROM:+0200
TZOFFSETTO:+0100
TZNAME:CET
DTSTART:20241027T010000
END:STANDARD
BEGIN:DAYLIGHT
TZOFFSETFROM:+0100
TZOFFSETTO:+0200
TZNAME:CEST
DTSTART:20250330T010000
END:DAYLIGHT
BEGIN:STANDARD
TZOFFSETFROM:+0200
TZOFFSETTO:+0100
TZNAME:CET
DTSTART:20251026T010000
END:STANDARD
BEGIN:DAYLIGHT
TZOFFSETFROM:+0100
TZOFFSETTO:+0200
TZNAME:CEST
DTSTART:20260329T010000
END:DAYLIGHT
BEGIN:STANDARD
TZOFFSETFROM:+0200
TZOFFSETTO:+0100
TZNAME:CET
DTSTART:20261025T010000
END:STANDARD
END:VTIMEZONE
BEGIN:VEVENT
DTSTART;TZID=Europe/Berlin:20250122T090000
DTEND;TZID=Europe/Berlin:20250122T120000
DTSTAMP:20260423T164722
CREATED:20241122T091547Z
LAST-MODIFIED:20241126T122801Z
UID:10006953-1737536400-1737547200@www.aachen.digital
SUMMARY:Digital. Praktisch. Nah. – Handwerk 4.0: Digital\, Menschlich\, Nachhaltig
DESCRIPTION:Nachhaltige Lösung\, mit dem dem Menschen im Mittelpunkt – wie die Tischlerei KORR GmbH die Digitalisierung nutzt.  \nIn dieser Veranstaltung werden exklusive Einblicke in den Transformationsprozess der KORR GmbH gegeben\, die von einer klassischen hin zu einer selbst bestimmten\, menschzentrierten Organisation übergeht. \nDas erwartet Sie: \n\nRundgang in der Tischlerei KORR\, in der hochindividuelle und technologisch anspruchsvolle Lösungen vorgestellt werden\nVortrag des Mittelstand-Digital Zentrums Handwerk\, der die praxisnahe Umsetzung digitaler Tools und Prozesse beleuchten\nVorstellung von Services und Angeboten\, die mittelständische Unter­nehmen bei ihrer digitalen Transformation unterstützen\n\nGewinnen Sie praktische Einblicke & Inspiration und profitieren Sie vom Austausch mit Branchenkollegen & Digitalisierungs-Expert:innen. \nZUR ANMELDUNG \n 
URL:https://www.aachen.digital/en/event/digital-praktisch-nah-handwerk-4-0-digital-menschlich-nachhaltig/
LOCATION:KORR GmbH\, Rombachstraße 40\, Aachen\, NRW\, 52078\, Germany
ATTACH;FMTTYPE=image/jpeg:https://www.aachen.digital/wp-content/uploads/2024/11/Digital-Praktisch-Nah-Stage-1920-x-1080.jpg
END:VEVENT
END:VCALENDAR