BEGIN:VCALENDAR
VERSION:2.0
PRODID:-//digitalHUB Aachen - ECPv6.15.20//NONSGML v1.0//EN
CALSCALE:GREGORIAN
METHOD:PUBLISH
X-ORIGINAL-URL:https://www.aachen.digital/en/
X-WR-CALDESC:Events for digitalHUB Aachen
REFRESH-INTERVAL;VALUE=DURATION:PT1H
X-Robots-Tag:noindex
X-PUBLISHED-TTL:PT1H
BEGIN:VTIMEZONE
TZID:Europe/Berlin
BEGIN:DAYLIGHT
TZOFFSETFROM:+0100
TZOFFSETTO:+0200
TZNAME:CEST
DTSTART:20180325T010000
END:DAYLIGHT
BEGIN:STANDARD
TZOFFSETFROM:+0200
TZOFFSETTO:+0100
TZNAME:CET
DTSTART:20181028T010000
END:STANDARD
BEGIN:DAYLIGHT
TZOFFSETFROM:+0100
TZOFFSETTO:+0200
TZNAME:CEST
DTSTART:20190331T010000
END:DAYLIGHT
BEGIN:STANDARD
TZOFFSETFROM:+0200
TZOFFSETTO:+0100
TZNAME:CET
DTSTART:20191027T010000
END:STANDARD
BEGIN:DAYLIGHT
TZOFFSETFROM:+0100
TZOFFSETTO:+0200
TZNAME:CEST
DTSTART:20200329T010000
END:DAYLIGHT
BEGIN:STANDARD
TZOFFSETFROM:+0200
TZOFFSETTO:+0100
TZNAME:CET
DTSTART:20201025T010000
END:STANDARD
BEGIN:DAYLIGHT
TZOFFSETFROM:+0100
TZOFFSETTO:+0200
TZNAME:CEST
DTSTART:20210328T010000
END:DAYLIGHT
BEGIN:STANDARD
TZOFFSETFROM:+0200
TZOFFSETTO:+0100
TZNAME:CET
DTSTART:20211031T010000
END:STANDARD
END:VTIMEZONE
BEGIN:VEVENT
DTSTART;TZID=Europe/Berlin:20201103T100000
DTEND;TZID=Europe/Berlin:20201103T160000
DTSTAMP:20260423T215707
CREATED:20201021T102337Z
LAST-MODIFIED:20201021T102337Z
UID:10005661-1604397600-1604419200@www.aachen.digital
SUMMARY:EXISTENZIA (Kreis Euskirchen)
DESCRIPTION:Erfolg ist das Ergebnis zielgerichteter und strategischer Arbeit\, die auf einem fundierten Wissen aufbaut. Gießen Sie Ihr stabiles Fundament für den Aufbau einer langfristig tragfähigen und gewinnbringenden Existenz. \nLaufen lernt man am besten an einer sicheren Hand! \nEgal\, ob Sie schon eine konkrete Idee für Ihr eigenes Unternehmen haben\, oder\, ob Sie sich allgemein über alle wichtigen Fragen im Zusammenhang mit der Unternehmensgründung informieren möchten\, wir bieten Ihnen dazu Informationen\, Tipps und Orientierung an. Das Seminar für Existenzgründer geht dazu auf alle notwendigen Grundlagen und Schritte ein: Von der persönlichen Eignung über Anmeldeformalitäten\, betriebliche und private Versicherungen\, bis hin zur Investitionsplanung und Rentabilitätsvorschau. Wir begleiten seit vielen Jahren die konzeptionelle Entwicklung von Geschäftsmodellen und deren Umsetzung – nutzen Sie unser Wissen und unsere Erfahrung für Ihren eigenen Erfolgsweg. \nAuf eigenen Beinen sicher durch den Behördendschungel! \nFördergelder und zinsgünstige Darlehen erleichtern Ihnen sicher den Start. Die clevere Finanzierung und Liquiditätsplanung für die Existenzgründungsphase der ersten Jahre ist ein zentraler Erfolgsfaktor. Wir zeigen Ihnen die aktuellen Angebote\, aber auch die Wege und Möglichkeiten\, diese zu nutzen. \nMachen Sie sich auf den Weg und melden Sie sich an! \nHIER GEHT’S ZUR ANMELDUNG. \nSeminargebühr incl. Seminarunterlagen und Teilnahmebescheinigung\n20 Euro \nKontakt \nTel.: 0241 471-130\,  E-Mail: startercenter@gruenderregion.de \nEntgelt \n20 Euro
URL:https://www.aachen.digital/en/event/existenzia-kreis-euskirchen/
LOCATION:Kreisverwaltung Euskirchen\, Jülicher Ring 32\, Euskirchen\, 53879\, Deutschland
ATTACH;FMTTYPE=image/jpeg:https://www.aachen.digital/wp-content/uploads/2019/05/gruenderegion.jpg
END:VEVENT
BEGIN:VEVENT
DTSTART;TZID=Europe/Berlin:20200901T100000
DTEND;TZID=Europe/Berlin:20200901T130000
DTSTAMP:20260423T215707
CREATED:20200710T075404Z
LAST-MODIFIED:20200812T132422Z
UID:10005593-1598954400-1598965200@www.aachen.digital
SUMMARY:EXISTENZIA (Region: Kreis Euskirchen)
DESCRIPTION:Laufen lernt man am besten an einer sicheren Hand!\nErfolg ist das Ergebnis zielgerichteter und strategischer Arbeit\, die auf einem fundierten Wissen aufbaut. Gießen Sie Ihr stabiles Fundament für den Aufbau einer langfristig tragfähigen und gewinnbringenden Existenz. \nEgal\, ob Sie schon eine konkrete Idee für Ihr eigenes Unternehmen haben\, oder\, ob Sie sich allgemein über alle wichtigen Fragen im Zusammenhang mit der Unternehmensgründung informieren möchten\, wir bieten Ihnen dazu Informationen\, Tipps und Orientierung an. \nDas Seminar für Existenzgründer geht dazu auf alle notwendigen Grundlagen und Schritte ein: Von der persönlichen Eignung über Anmeldeformalitäten\, betriebliche und private Versicherungen\, bis hin zur Investitionsplanung und Rentabilitätsvorschau. Wir begleiten seit vielen Jahren die konzeptionelle Entwicklung von Geschäftsmodellen und deren Umsetzung – nutzen Sie unser Wissen und unsere Erfahrung für Ihren eigenen Erfolgsweg. \nAuf eigenen Beinen sicher durch den Behördendschungel! \nFördergelder und zinsgünstige Darlehen erleichtern Ihnen sicher den Start. Die clevere Finanzierung und Liquiditätsplanung für die Existenzgründungsphase der ersten Jahre ist ein zentraler Erfolgsfaktor. Wir zeigen Ihnen die aktuellen Angebote\, aber auch die Wege und Möglichkeiten\, diese zu nutzen. \nMachen Sie sich auf den Weg und melden Sie sich an!\nSeminargebühr incl. Seminarunterlagen und Teilnahmebescheinigung: 20 Euro. \nKontakt: startercenter@gruenderregion.de \nWEITERE INFOS & ANMELDUNG
URL:https://www.aachen.digital/en/event/existenzia-31/
LOCATION:Kreisverwaltung Euskirchen\, Jülicher Ring 32\, Euskirchen\, 53879\, Deutschland
ATTACH;FMTTYPE=image/jpeg:https://www.aachen.digital/wp-content/uploads/2019/08/stage_gruenderregion-1.jpg
END:VEVENT
BEGIN:VEVENT
DTSTART;TZID=Europe/Berlin:20191024T150000
DTEND;TZID=Europe/Berlin:20191024T170000
DTSTAMP:20260423T215707
CREATED:20190902T153212Z
LAST-MODIFIED:20190904T110534Z
UID:10005363-1571929200-1571936400@www.aachen.digital
SUMMARY:Digital. Praktisch. Nah. – Industrie 4.0 für den Mittel­stand
DESCRIPTION:
URL:https://www.aachen.digital/en/event/digital-praktisch-nah-industrie-4-0-fuer-den-mittelstand-2/
LOCATION:Kreisverwaltung Euskirchen\, Jülicher Ring 32\, Euskirchen\, 53879\, Deutschland
ATTACH;FMTTYPE=image/jpeg:https://www.aachen.digital/wp-content/uploads/2019/09/Digital.praktisch.nah_12_5.jpg
END:VEVENT
BEGIN:VEVENT
DTSTART;TZID=Europe/Berlin:20191001T130000
DTEND;TZID=Europe/Berlin:20191001T160000
DTSTAMP:20260423T215707
CREATED:20190909T124135Z
LAST-MODIFIED:20190909T124135Z
UID:10005379-1569934800-1569945600@www.aachen.digital
SUMMARY:EXISTENZIA
DESCRIPTION:Egal\, ob Sie schon eine konkrete Idee für Ihr eigenes Unternehmen haben\, oder\, ob Sie sich allgemein über alle wichtigen Fragen im Zusammenhang mit der Unternehmensgründung informieren möchten\, wir bieten Ihnen dazu Informationen\, Tipps und Orientierung an. \nDas Seminar für Existenzgründer geht dazu auf alle notwendigen Grundlagen und Schritte ein: Von der persönlichen Eignung über Anmeldeformalitäten\, betriebliche und private Versicherungen\, bis hin zur Investitionsplanung und Rentabilitätsvorschau. Wir begleiten seit vielen Jahren die konzeptionelle Entwicklung von Geschäftsmodellen und deren Umsetzung – nutzen Sie unser Wissen und unsere Erfahrung für Ihren eigenen Erfolgsweg. \nAuf eigenen Beinen sicher durch den Behördendschungel! \nFördergelder und zinsgünstige Darlehen erleichtern Ihnen sicher den Start. Die clevere Finanzierung und Liquiditätsplanung für die Existenzgründungsphase der ersten Jahre ist ein zentraler Erfolgsfaktor. Wir zeigen Ihnen die aktuellen Angebote\, aber auch die Wege und Möglichkeiten\, diese zu nutzen. \nMachen Sie sich auf den Weg und melden Sie sich an!\nSeminargebühr incl. Seminarunterlagen und Teilnahmebescheinigung: 20 Euro. \nKontakt: startercenter@gruenderregion.de \nWEITERE INFOS & ANMELDUNG
URL:https://www.aachen.digital/en/event/existenzia-26/
LOCATION:Kreisverwaltung Euskirchen\, Jülicher Ring 32\, Euskirchen\, 53879\, Deutschland
ATTACH;FMTTYPE=image/jpeg:https://www.aachen.digital/wp-content/uploads/2019/08/stage_gruenderregion-1.jpg
ORGANIZER;CN="Gr%C3%BCnderRegion Aachen%2C D%C3%BCren%2C Euskirchen%2C Heinsberg":MAILTO:info@gruenderregion.de
END:VEVENT
BEGIN:VEVENT
DTSTART;TZID=Europe/Berlin:20190514T100000
DTEND;TZID=Europe/Berlin:20190514T130000
DTSTAMP:20260423T215707
CREATED:20190206T102401Z
LAST-MODIFIED:20190214T143509Z
UID:10004923-1557828000-1557838800@www.aachen.digital
SUMMARY:EXISTENZIA
DESCRIPTION:Egal\, ob Sie schon eine konkrete Idee für Ihr eigenes Unternehmen haben\, oder\, ob Sie sich allgemein über alle wichtigen Fragen im Zusammenhang mit der Unternehmensgründung informieren möchten\, wir bieten Ihnen dazu Informationen\, Tipps und Orientierung an. \nDas Seminar für Existenzgründer geht dazu auf alle notwendigen Grundlagen und Schritte ein: Von der persönlichen Eignung über Anmeldeformalitäten\, betriebliche und private Versicherungen\, bis hin zur Investitionsplanung und Rentabilitätsvorschau. Wir begleiten seit vielen Jahren die konzeptionelle Entwicklung von Geschäftsmodellen und deren Umsetzung – nutzen Sie unser Wissen und unsere Erfahrung für Ihren eigenen Erfolgsweg. \nAuf eigenen Beinen sicher durch den Behördendschungel! \nFördergelder und zinsgünstige Darlehen erleichtern Ihnen sicher den Start. Die clevere Finanzierung und Liquiditätsplanung für die Existenzgründungsphase der ersten Jahre ist ein zentraler Erfolgsfaktor. Wir zeigen Ihnen die aktuellen Angebote\, aber auch die Wege und Möglichkeiten\, diese zu nutzen. \nMachen Sie sich auf den Weg und melden Sie sich an!\nSeminargebühr incl. Seminarunterlagen und Teilnahmebescheinigung: 20 Euro. \n  \nKontakt: startercenter@gruenderregion.de \nWeitere Infos sowie das Anmeldeformular finden Sie hier: \nGründerRegion Aachen
URL:https://www.aachen.digital/en/event/existenzia-5/
LOCATION:Kreisverwaltung Euskirchen\, Jülicher Ring 32\, Euskirchen\, 53879\, Deutschland
ATTACH;FMTTYPE=image/png:https://www.aachen.digital/wp-content/uploads/2018/04/gruender-region-aachen.png
ORGANIZER;CN="Gr%C3%BCnderRegion Aachen%2C D%C3%BCren%2C Euskirchen%2C Heinsberg":MAILTO:info@gruenderregion.de
END:VEVENT
BEGIN:VEVENT
DTSTART;TZID=Europe/Berlin:20190326T130000
DTEND;TZID=Europe/Berlin:20190326T160000
DTSTAMP:20260423T215707
CREATED:20190206T102404Z
LAST-MODIFIED:20190214T142845Z
UID:10004939-1553605200-1553616000@www.aachen.digital
SUMMARY:EXISTENZIA
DESCRIPTION:Egal\, ob Sie schon eine konkrete Idee für Ihr eigenes Unternehmen haben\, oder\, ob Sie sich allgemein über alle wichtigen Fragen im Zusammenhang mit der Unternehmensgründung informieren möchten\, wir bieten Ihnen dazu Informationen\, Tipps und Orientierung an. \nDas Seminar für Existenzgründer geht dazu auf alle notwendigen Grundlagen und Schritte ein: Von der persönlichen Eignung über Anmeldeformalitäten\, betriebliche und private Versicherungen\, bis hin zur Investitionsplanung und Rentabilitätsvorschau. Wir begleiten seit vielen Jahren die konzeptionelle Entwicklung von Geschäftsmodellen und deren Umsetzung – nutzen Sie unser Wissen und unsere Erfahrung für Ihren eigenen Erfolgsweg. \nAuf eigenen Beinen sicher durch den Behördendschungel! \nFördergelder und zinsgünstige Darlehen erleichtern Ihnen sicher den Start. Die clevere Finanzierung und Liquiditätsplanung für die Existenzgründungsphase der ersten Jahre ist ein zentraler Erfolgsfaktor. Wir zeigen Ihnen die aktuellen Angebote\, aber auch die Wege und Möglichkeiten\, diese zu nutzen. \nMachen Sie sich auf den Weg und melden Sie sich an!\nSeminargebühr incl. Seminarunterlagen und Teilnahmebescheinigung: 20 Euro. \n  \nKontakt: startercenter@gruenderregion.de \nWeitere Infos sowie das Anmeldeformular finden Sie hier: \nGründerRegion Aachen
URL:https://www.aachen.digital/en/event/existenzia-12/
LOCATION:Kreisverwaltung Euskirchen\, Jülicher Ring 32\, Euskirchen\, 53879\, Deutschland
ATTACH;FMTTYPE=image/png:https://www.aachen.digital/wp-content/uploads/2018/04/gruender-region-aachen.png
ORGANIZER;CN="Gr%C3%BCnderRegion Aachen%2C D%C3%BCren%2C Euskirchen%2C Heinsberg":MAILTO:info@gruenderregion.de
END:VEVENT
BEGIN:VEVENT
DTSTART;TZID=Europe/Berlin:20190226T100000
DTEND;TZID=Europe/Berlin:20190226T130000
DTSTAMP:20260423T215707
CREATED:20190206T102405Z
LAST-MODIFIED:20190214T142819Z
UID:10004943-1551175200-1551186000@www.aachen.digital
SUMMARY:EXISTENZIA
DESCRIPTION:Egal\, ob Sie schon eine konkrete Idee für Ihr eigenes Unternehmen haben\, oder\, ob Sie sich allgemein über alle wichtigen Fragen im Zusammenhang mit der Unternehmensgründung informieren möchten\, wir bieten Ihnen dazu Informationen\, Tipps und Orientierung an. \nDas Seminar für Existenzgründer geht dazu auf alle notwendigen Grundlagen und Schritte ein: Von der persönlichen Eignung über Anmeldeformalitäten\, betriebliche und private Versicherungen\, bis hin zur Investitionsplanung und Rentabilitätsvorschau. Wir begleiten seit vielen Jahren die konzeptionelle Entwicklung von Geschäftsmodellen und deren Umsetzung – nutzen Sie unser Wissen und unsere Erfahrung für Ihren eigenen Erfolgsweg. \nAuf eigenen Beinen sicher durch den Behördendschungel! \nFördergelder und zinsgünstige Darlehen erleichtern Ihnen sicher den Start. Die clevere Finanzierung und Liquiditätsplanung für die Existenzgründungsphase der ersten Jahre ist ein zentraler Erfolgsfaktor. Wir zeigen Ihnen die aktuellen Angebote\, aber auch die Wege und Möglichkeiten\, diese zu nutzen. \nMachen Sie sich auf den Weg und melden Sie sich an!\nSeminargebühr incl. Seminarunterlagen und Teilnahmebescheinigung: 20 Euro. \n  \nKontakt: startercenter@gruenderregion.de \nWeitere Infos sowie das Anmeldeformular finden Sie hier: \nGründerRegion Aachen
URL:https://www.aachen.digital/en/event/existenzia-16/
LOCATION:Kreisverwaltung Euskirchen\, Jülicher Ring 32\, Euskirchen\, 53879\, Deutschland
ATTACH;FMTTYPE=image/png:https://www.aachen.digital/wp-content/uploads/2018/04/gruender-region-aachen.png
ORGANIZER;CN="Gr%C3%BCnderRegion Aachen%2C D%C3%BCren%2C Euskirchen%2C Heinsberg":MAILTO:info@gruenderregion.de
END:VEVENT
END:VCALENDAR