BEGIN:VCALENDAR
VERSION:2.0
PRODID:-//digitalHUB Aachen - ECPv6.15.20//NONSGML v1.0//EN
CALSCALE:GREGORIAN
METHOD:PUBLISH
X-ORIGINAL-URL:https://www.aachen.digital/en/
X-WR-CALDESC:Events for digitalHUB Aachen
REFRESH-INTERVAL;VALUE=DURATION:PT1H
X-Robots-Tag:noindex
X-PUBLISHED-TTL:PT1H
BEGIN:VTIMEZONE
TZID:Europe/Berlin
BEGIN:DAYLIGHT
TZOFFSETFROM:+0100
TZOFFSETTO:+0200
TZNAME:CEST
DTSTART:20230326T010000
END:DAYLIGHT
BEGIN:STANDARD
TZOFFSETFROM:+0200
TZOFFSETTO:+0100
TZNAME:CET
DTSTART:20231029T010000
END:STANDARD
BEGIN:DAYLIGHT
TZOFFSETFROM:+0100
TZOFFSETTO:+0200
TZNAME:CEST
DTSTART:20240331T010000
END:DAYLIGHT
BEGIN:STANDARD
TZOFFSETFROM:+0200
TZOFFSETTO:+0100
TZNAME:CET
DTSTART:20241027T010000
END:STANDARD
BEGIN:DAYLIGHT
TZOFFSETFROM:+0100
TZOFFSETTO:+0200
TZNAME:CEST
DTSTART:20250330T010000
END:DAYLIGHT
BEGIN:STANDARD
TZOFFSETFROM:+0200
TZOFFSETTO:+0100
TZNAME:CET
DTSTART:20251026T010000
END:STANDARD
END:VTIMEZONE
BEGIN:VEVENT
DTSTART;TZID=Europe/Berlin:20240601T140000
DTEND;TZID=Europe/Berlin:20240601T170000
DTSTAMP:20260423T235829
CREATED:20240531T070113Z
LAST-MODIFIED:20240531T090602Z
UID:10006810-1717250400-1717261200@www.aachen.digital
SUMMARY:Repaircafe im LabAix
DESCRIPTION:Unter dem Motto ‘Reparieren statt wegschmeißen’ kann man(n) (und Frau) hier an jedem ersten Samstag im Monat von 14.00-17.00 Uhr unter professioneller Anleitung reparieren und vielleicht auch etwas dazulernen. \nAlle Arten von defekten elektronischen und mechanischen Geräten können mitgebracht und repariert werden\, vom Bügeleisen bis zum Rasenmäher. Im Cafe sind außerdem alle Arten von Leckereien und Kaffee erhältlich. \nWenn du auch ein kaputtes Gerät hast\, elektronisch oder nicht\, dann schau doch einfach mal vorbei. \nDie Teilnahme ist ohne Anmeldung spontan möglich\, jede und jeder ist herzlich willkommen.
URL:https://www.aachen.digital/en/event/repaircafe-im-labaix/
LOCATION:Lab Aix\, Lukasstraße 1\, Aachen\, 52074
ATTACH;FMTTYPE=image/jpeg:https://www.aachen.digital/wp-content/uploads/2024/05/Design-ohne-Titel-6.jpg
END:VEVENT
END:VCALENDAR