BEGIN:VCALENDAR
VERSION:2.0
PRODID:-//digitalHUB Aachen - ECPv6.15.20//NONSGML v1.0//EN
CALSCALE:GREGORIAN
METHOD:PUBLISH
X-WR-CALNAME:digitalHUB Aachen
X-ORIGINAL-URL:https://www.aachen.digital/en/
X-WR-CALDESC:Events for digitalHUB Aachen
REFRESH-INTERVAL;VALUE=DURATION:PT1H
X-Robots-Tag:noindex
X-PUBLISHED-TTL:PT1H
BEGIN:VTIMEZONE
TZID:Europe/Berlin
BEGIN:DAYLIGHT
TZOFFSETFROM:+0100
TZOFFSETTO:+0200
TZNAME:CEST
DTSTART:20180325T010000
END:DAYLIGHT
BEGIN:STANDARD
TZOFFSETFROM:+0200
TZOFFSETTO:+0100
TZNAME:CET
DTSTART:20181028T010000
END:STANDARD
BEGIN:DAYLIGHT
TZOFFSETFROM:+0100
TZOFFSETTO:+0200
TZNAME:CEST
DTSTART:20190331T010000
END:DAYLIGHT
BEGIN:STANDARD
TZOFFSETFROM:+0200
TZOFFSETTO:+0100
TZNAME:CET
DTSTART:20191027T010000
END:STANDARD
BEGIN:DAYLIGHT
TZOFFSETFROM:+0100
TZOFFSETTO:+0200
TZNAME:CEST
DTSTART:20200329T010000
END:DAYLIGHT
BEGIN:STANDARD
TZOFFSETFROM:+0200
TZOFFSETTO:+0100
TZNAME:CET
DTSTART:20201025T010000
END:STANDARD
END:VTIMEZONE
BEGIN:VEVENT
DTSTART;TZID=Europe/Berlin:20191021T183000
DTEND;TZID=Europe/Berlin:20191021T203000
DTSTAMP:20260423T202638
CREATED:20191014T075800Z
LAST-MODIFIED:20191014T075800Z
UID:10005438-1571682600-1571689800@www.aachen.digital
SUMMARY:Scrumtisch Aachen: "Distributed Agile Development"
DESCRIPTION:Are you sick of the colleagues in your office? Hire an external team! \nNot only will they do everything you demand\, you will also enjoy things like cultural differences\, communication screw-ups\, language barriers\, technical impediments and timezone confusion. And once you start implementing agile workflows on top of that\, things get wonderfully weird. \nIn this talk\, we will look at distributed agile development in general\, and the speaker will share some of the experience they have made at TUI with off-site teams and near-shoring. \nScrumtisch Aachen would like to say thanks to Alexander Günsche from TUI Deutschland GmbH who is going to present the topic as well as to Maria Kaparaki from Lancom Systems GmbH for hosting the event. \nREGISTER HERE
URL:https://www.aachen.digital/en/event/scrumtisch-aachen/
LOCATION:LANCOM Systems GmbH\, Adenauerstraße 20\, Würselen\, 52146\, Deutschland
ATTACH;FMTTYPE=image/jpeg:https://www.aachen.digital/wp-content/uploads/2019/08/AachenerDom.jpg
ORGANIZER;CN="REGINA e.V.":MAILTO:mail@regina.ac
END:VEVENT
END:VCALENDAR