BEGIN:VCALENDAR
VERSION:2.0
PRODID:-//digitalHUB Aachen - ECPv6.15.20//NONSGML v1.0//EN
CALSCALE:GREGORIAN
METHOD:PUBLISH
X-ORIGINAL-URL:https://www.aachen.digital/en/
X-WR-CALDESC:Events for digitalHUB Aachen
REFRESH-INTERVAL;VALUE=DURATION:PT1H
X-Robots-Tag:noindex
X-PUBLISHED-TTL:PT1H
BEGIN:VTIMEZONE
TZID:Europe/Berlin
BEGIN:DAYLIGHT
TZOFFSETFROM:+0100
TZOFFSETTO:+0200
TZNAME:CEST
DTSTART:20240331T010000
END:DAYLIGHT
BEGIN:STANDARD
TZOFFSETFROM:+0200
TZOFFSETTO:+0100
TZNAME:CET
DTSTART:20241027T010000
END:STANDARD
BEGIN:DAYLIGHT
TZOFFSETFROM:+0100
TZOFFSETTO:+0200
TZNAME:CEST
DTSTART:20250330T010000
END:DAYLIGHT
BEGIN:STANDARD
TZOFFSETFROM:+0200
TZOFFSETTO:+0100
TZNAME:CET
DTSTART:20251026T010000
END:STANDARD
BEGIN:DAYLIGHT
TZOFFSETFROM:+0100
TZOFFSETTO:+0200
TZNAME:CEST
DTSTART:20260329T010000
END:DAYLIGHT
BEGIN:STANDARD
TZOFFSETFROM:+0200
TZOFFSETTO:+0100
TZNAME:CET
DTSTART:20261025T010000
END:STANDARD
END:VTIMEZONE
BEGIN:VEVENT
DTSTART;TZID=Europe/Berlin:20250829T153000
DTEND;TZID=Europe/Berlin:20250829T173000
DTSTAMP:20260423T180146
CREATED:20250714T093152Z
LAST-MODIFIED:20250813T100539Z
UID:10007393-1756481400-1756488600@www.aachen.digital
SUMMARY:Podiumsdiskussion: Technologiestandort Aachen – Lebensqualität als Schlüssel zur Fachkräftebindung
DESCRIPTION:Auf dem Podium werden begrüßt: \n· Sibylle Keupen\, OB-Kandidatin von Bündnis 90/Die Grünen \n· Michael Servos\, OB-Kandidat der SPD \n· Dr. Michael Ziemons\, OB-Kandidat der CDU \nGemeinsam wird diskutiert:\nWas braucht unsere Stadt\, um noch lebenswerter zu werden?\nWelche Ideen und Visionen haben die politischen Vertreterinnen und Vertreter für Aachens Zukunft? Und was sagt die aktuelle REGINA-Studie „Lebensqualität in Aachen“ dazu? \nIhre Stimme zählt!\nBringen Sie Ihre Perspektive ein\, stellen Sie Fragen\, diskutieren Sie mit und knüpfen Sie neue Netzwerke – denn nur gemeinsam können wir Aachen aktiv mitgestalten. \nHier können Sie noch an der Umfrage zur Lebensqualität teilnehmen \nJetzt bis zum 22. August 2025 anmelden!
URL:https://www.aachen.digital/en/event/podiumsdiskussion-technologiestandort-aachen-lebensqualitaet-als-schluessel-zur-fachkraeftebindung/
LOCATION:Learn for Life\, Dahmengraben\, Aachen\, NRW\, 52062\, Germany
ATTACH;FMTTYPE=image/jpeg:https://www.aachen.digital/wp-content/uploads/2025/07/Regina.jpg
ORGANIZER;CN="REGINA e.V.":MAILTO:mail@regina.ac
END:VEVENT
END:VCALENDAR