BEGIN:VCALENDAR
VERSION:2.0
PRODID:-//digitalHUB Aachen - ECPv6.15.20//NONSGML v1.0//EN
CALSCALE:GREGORIAN
METHOD:PUBLISH
X-ORIGINAL-URL:https://www.aachen.digital/en/
X-WR-CALDESC:Events for digitalHUB Aachen
REFRESH-INTERVAL;VALUE=DURATION:PT1H
X-Robots-Tag:noindex
X-PUBLISHED-TTL:PT1H
BEGIN:VTIMEZONE
TZID:Europe/Berlin
BEGIN:DAYLIGHT
TZOFFSETFROM:+0100
TZOFFSETTO:+0200
TZNAME:CEST
DTSTART:20180325T010000
END:DAYLIGHT
BEGIN:STANDARD
TZOFFSETFROM:+0200
TZOFFSETTO:+0100
TZNAME:CET
DTSTART:20181028T010000
END:STANDARD
BEGIN:DAYLIGHT
TZOFFSETFROM:+0100
TZOFFSETTO:+0200
TZNAME:CEST
DTSTART:20190331T010000
END:DAYLIGHT
BEGIN:STANDARD
TZOFFSETFROM:+0200
TZOFFSETTO:+0100
TZNAME:CET
DTSTART:20191027T010000
END:STANDARD
BEGIN:DAYLIGHT
TZOFFSETFROM:+0100
TZOFFSETTO:+0200
TZNAME:CEST
DTSTART:20200329T010000
END:DAYLIGHT
BEGIN:STANDARD
TZOFFSETFROM:+0200
TZOFFSETTO:+0100
TZNAME:CET
DTSTART:20201025T010000
END:STANDARD
END:VTIMEZONE
BEGIN:VEVENT
DTSTART;TZID=Europe/Berlin:20191127T140000
DTEND;TZID=Europe/Berlin:20191127T220000
DTSTAMP:20260424T014044
CREATED:20191002T081632Z
LAST-MODIFIED:20191007T075630Z
UID:10004851-1574863200-1574892000@www.aachen.digital
SUMMARY:ERCIS Launchpad
DESCRIPTION:Am 27.11. findet zum 12. Mal der digitale Ideenwettbewerb ERCIS Launch Pad statt. \nDas ERCIS Launch Pad ist ein jährlicher Ideenwettbewerb für Startups und Gründungswillige an der WWU Münster mit interessanten Ideen für IT-Produkte oder -Services. Beim Launch Pad präsentieren die Teilnehmer Ideen\, Prototypen oder fertige Produkte\, um diese mit anderen Gründern und Geldgebern zu diskutieren\, Kontakte zu knüpfen und Preise zu gewinnen. \nOrganisiert wird dieser gemeinsam von der WWU Münster und dem Digital Hub münsterLAND. \nFür Startups und Gründungswillige bietet sich die Chance Preisgelder in Höhe von 15.000 Euro zu gewinnen und zudem wertvolle Kontakte zu Forschern\, Investoren\, Unternehmern in die Startup-Szene am Wissenschaftsstandort Münster zu knüpfen. Ganz im Sinne des Networkings wird der Abend nach der Pitch-Veranstaltung mit einer Party im innovativen M44 Meeting Center abgerundet. \nStartups und Gründungswillige können sich noch bis zum 27.10.2019  hier als Teilnehmer bewerben.\nDie Teilnahme ist sowohl für Einzelpersonen als auch für Startup-Teams möglich. Falls das Unternehmen schon gegründet wurde\, darf es nicht älter als 1 Jahr sein. \nWEITERE INFORMATIONEN & ANMELDUNG
URL:https://www.aachen.digital/en/event/ercis-launchpad/
LOCATION:Leonardo Campus\, Leonardo-Campus 18\, Münster\, 48149\, Deutschland
ATTACH;FMTTYPE=image/png:https://www.aachen.digital/wp-content/uploads/2019/10/ercis-3.png
ORGANIZER;CN="Digital Hub M%C3%BCnsterLAND":MAILTO:info@muensterland.digital
END:VEVENT
END:VCALENDAR