BEGIN:VCALENDAR
VERSION:2.0
PRODID:-//digitalHUB Aachen - ECPv6.15.20//NONSGML v1.0//EN
CALSCALE:GREGORIAN
METHOD:PUBLISH
X-ORIGINAL-URL:https://www.aachen.digital/en/
X-WR-CALDESC:Events for digitalHUB Aachen
REFRESH-INTERVAL;VALUE=DURATION:PT1H
X-Robots-Tag:noindex
X-PUBLISHED-TTL:PT1H
BEGIN:VTIMEZONE
TZID:Europe/Berlin
BEGIN:DAYLIGHT
TZOFFSETFROM:+0100
TZOFFSETTO:+0200
TZNAME:CEST
DTSTART:20220327T010000
END:DAYLIGHT
BEGIN:STANDARD
TZOFFSETFROM:+0200
TZOFFSETTO:+0100
TZNAME:CET
DTSTART:20221030T010000
END:STANDARD
BEGIN:DAYLIGHT
TZOFFSETFROM:+0100
TZOFFSETTO:+0200
TZNAME:CEST
DTSTART:20230326T010000
END:DAYLIGHT
BEGIN:STANDARD
TZOFFSETFROM:+0200
TZOFFSETTO:+0100
TZNAME:CET
DTSTART:20231029T010000
END:STANDARD
BEGIN:DAYLIGHT
TZOFFSETFROM:+0100
TZOFFSETTO:+0200
TZNAME:CEST
DTSTART:20240331T010000
END:DAYLIGHT
BEGIN:STANDARD
TZOFFSETFROM:+0200
TZOFFSETTO:+0100
TZNAME:CET
DTSTART:20241027T010000
END:STANDARD
END:VTIMEZONE
BEGIN:VEVENT
DTSTART;TZID=Europe/Berlin:20231019T090000
DTEND;TZID=Europe/Berlin:20231019T190000
DTSTAMP:20260423T201553
CREATED:20231019T080151Z
LAST-MODIFIED:20231019T080151Z
UID:10006613-1697706000-1697742000@www.aachen.digital
SUMMARY:Startup-Wettbewerb Stage Two
DESCRIPTION:Stage Two ist der größte paneuropäische Wettbewerb für die besten Startups\, die aus führenden Universitäten hervorgehen. Der Wettbewerb versammelt Startups im Frühstadium\, die von universitätsnahen Entrepreneurship-Zentren während der Universitätsrunden vorausgewählt werden. Das beste Startup jeder Universität wird bei Stage Two live vor europäischen Top-Investoren und Branchenführern pitchen. \nLive-Pitching von mehr als 50 Start-ups\, die von mehr als 40 Top-Universitäten aus mehr als 20 europäischen Ländern nominiert wurden\, und 4 Wildcard-Inhabern von Corporate Wildcard Picks \nStage Two Livestream | YouTube \nMehr Informationen: stagetwo.io \n  \nStage Two wurde initiiert von der RWTH Aachen University und der HHL Leipzig Graduate School of Management. Als digitalHUB Aachen sind wir einer der Partner.
URL:https://www.aachen.digital/en/event/startup-wettbewerb-stage-two/
LOCATION:Livestream
ATTACH;FMTTYPE=image/jpeg:https://www.aachen.digital/wp-content/uploads/2023/10/Stage-Two_Stage-1632x644-1.jpg
ORGANIZER;CN="digitalHUB Aachen":MAILTO:kontakt@hubaachen.de
END:VEVENT
END:VCALENDAR