BEGIN:VCALENDAR
VERSION:2.0
PRODID:-//digitalHUB Aachen - ECPv6.15.20//NONSGML v1.0//EN
CALSCALE:GREGORIAN
METHOD:PUBLISH
X-WR-CALNAME:digitalHUB Aachen
X-ORIGINAL-URL:https://www.aachen.digital/en/
X-WR-CALDESC:Events for digitalHUB Aachen
REFRESH-INTERVAL;VALUE=DURATION:PT1H
X-Robots-Tag:noindex
X-PUBLISHED-TTL:PT1H
BEGIN:VTIMEZONE
TZID:Europe/Berlin
BEGIN:DAYLIGHT
TZOFFSETFROM:+0100
TZOFFSETTO:+0200
TZNAME:CEST
DTSTART:20180325T010000
END:DAYLIGHT
BEGIN:STANDARD
TZOFFSETFROM:+0200
TZOFFSETTO:+0100
TZNAME:CET
DTSTART:20181028T010000
END:STANDARD
BEGIN:DAYLIGHT
TZOFFSETFROM:+0100
TZOFFSETTO:+0200
TZNAME:CEST
DTSTART:20190331T010000
END:DAYLIGHT
BEGIN:STANDARD
TZOFFSETFROM:+0200
TZOFFSETTO:+0100
TZNAME:CET
DTSTART:20191027T010000
END:STANDARD
BEGIN:DAYLIGHT
TZOFFSETFROM:+0100
TZOFFSETTO:+0200
TZNAME:CEST
DTSTART:20200329T010000
END:DAYLIGHT
BEGIN:STANDARD
TZOFFSETFROM:+0200
TZOFFSETTO:+0100
TZNAME:CET
DTSTART:20201025T010000
END:STANDARD
END:VTIMEZONE
BEGIN:VEVENT
DTSTART;TZID=Europe/Berlin:20190509T190000
DTEND;TZID=Europe/Berlin:20190509T210000
DTSTAMP:20260424T002442
CREATED:20190425T144504Z
LAST-MODIFIED:20221213T132556Z
UID:10004994-1557428400-1557435600@www.aachen.digital
SUMMARY:Phil-AIXchange: Parallelgesellschaft der Maschinen
DESCRIPTION:Digitalisierung ist in aller Munde. In Phil-AIXchange werden wir uns aus philosophischer und geisteswissenschaftlicher Sicht dem Themenkomplex „Digitalisierung und globaler Wandel“ nähern.\nWie wird die Digitalisierung das Zusammenleben auf diesem Planeten verändern? Wir nehmen aktuelle Entwicklungen unter die Lupe und überlegen\, wie Digitalisierung dazu beitragen kann\, die globalen Herausforderungen zu lösen. \nPARALLELGESELLSCHAFT DER MASCHINEN \nGabriele Gramelsberger | Professorin für Wissenschaftstheorie und Technikphilosophie an der RWTH Aachen\nDonnerstag\, 9. Mai 2019 | 19:00 Uhr\nLOGOI | Jakobstraße 25a\, 52064 Aachen \nBis 2020 werden ca. 30 Milliarden Geräte\, Sensoren oder Maschinen miteinander kommunizieren. So entsteht eine Parallelgesellschaft vernetzter Maschinen\, die immer mehr Bereiche automatisiert. Der Vortrag thematisiert\, welche globalen Folgen diese Entwicklung hat und welche Bedeutung ihr für unseren Alltag und für unser subjektives Selbstverständnis zukommt.\nGabriele Gramelsberger ist Professorin für Wissenschaftstheorie und Technikphilosophie an der RWTH Aachen. Sie beschäftigt sich in ihrer Forschung mit der Digitalisierung von Wissenschaft und Technologie sowie deren Auswirkungen auf die Gesellschaft. \nDer Eintritt ist frei.
URL:https://www.aachen.digital/en/event/phil-aixchange-parallelgesellschaft-der-maschinen/
LOCATION:LOGOI\, Jakobstraße 25a\, Aachen\, Deutschland
ATTACH;FMTTYPE=image/png:https://www.aachen.digital/wp-content/uploads/2019/04/phil-aix.png
END:VEVENT
END:VCALENDAR