BEGIN:VCALENDAR
VERSION:2.0
PRODID:-//digitalHUB Aachen - ECPv6.15.20//NONSGML v1.0//EN
CALSCALE:GREGORIAN
METHOD:PUBLISH
X-ORIGINAL-URL:https://www.aachen.digital/en/
X-WR-CALDESC:Events for digitalHUB Aachen
REFRESH-INTERVAL;VALUE=DURATION:PT1H
X-Robots-Tag:noindex
X-PUBLISHED-TTL:PT1H
BEGIN:VTIMEZONE
TZID:Europe/Berlin
BEGIN:DAYLIGHT
TZOFFSETFROM:+0100
TZOFFSETTO:+0200
TZNAME:CEST
DTSTART:20180325T010000
END:DAYLIGHT
BEGIN:STANDARD
TZOFFSETFROM:+0200
TZOFFSETTO:+0100
TZNAME:CET
DTSTART:20181028T010000
END:STANDARD
BEGIN:DAYLIGHT
TZOFFSETFROM:+0100
TZOFFSETTO:+0200
TZNAME:CEST
DTSTART:20190331T010000
END:DAYLIGHT
BEGIN:STANDARD
TZOFFSETFROM:+0200
TZOFFSETTO:+0100
TZNAME:CET
DTSTART:20191027T010000
END:STANDARD
BEGIN:DAYLIGHT
TZOFFSETFROM:+0100
TZOFFSETTO:+0200
TZNAME:CEST
DTSTART:20200329T010000
END:DAYLIGHT
BEGIN:STANDARD
TZOFFSETFROM:+0200
TZOFFSETTO:+0100
TZNAME:CET
DTSTART:20201025T010000
END:STANDARD
BEGIN:DAYLIGHT
TZOFFSETFROM:+0100
TZOFFSETTO:+0200
TZNAME:CEST
DTSTART:20210328T010000
END:DAYLIGHT
BEGIN:STANDARD
TZOFFSETFROM:+0200
TZOFFSETTO:+0100
TZNAME:CET
DTSTART:20211031T010000
END:STANDARD
BEGIN:DAYLIGHT
TZOFFSETFROM:+0100
TZOFFSETTO:+0200
TZNAME:CEST
DTSTART:20220327T010000
END:DAYLIGHT
BEGIN:STANDARD
TZOFFSETFROM:+0200
TZOFFSETTO:+0100
TZNAME:CET
DTSTART:20221030T010000
END:STANDARD
BEGIN:DAYLIGHT
TZOFFSETFROM:+0100
TZOFFSETTO:+0200
TZNAME:CEST
DTSTART:20230326T010000
END:DAYLIGHT
BEGIN:STANDARD
TZOFFSETFROM:+0200
TZOFFSETTO:+0100
TZNAME:CET
DTSTART:20231029T010000
END:STANDARD
BEGIN:DAYLIGHT
TZOFFSETFROM:+0100
TZOFFSETTO:+0200
TZNAME:CEST
DTSTART:20240331T010000
END:DAYLIGHT
BEGIN:STANDARD
TZOFFSETFROM:+0200
TZOFFSETTO:+0100
TZNAME:CET
DTSTART:20241027T010000
END:STANDARD
BEGIN:DAYLIGHT
TZOFFSETFROM:+0100
TZOFFSETTO:+0200
TZNAME:CEST
DTSTART:20250330T010000
END:DAYLIGHT
BEGIN:STANDARD
TZOFFSETFROM:+0200
TZOFFSETTO:+0100
TZNAME:CET
DTSTART:20251026T010000
END:STANDARD
BEGIN:DAYLIGHT
TZOFFSETFROM:+0100
TZOFFSETTO:+0200
TZNAME:CEST
DTSTART:20260329T010000
END:DAYLIGHT
BEGIN:STANDARD
TZOFFSETFROM:+0200
TZOFFSETTO:+0100
TZNAME:CET
DTSTART:20261025T010000
END:STANDARD
BEGIN:DAYLIGHT
TZOFFSETFROM:+0100
TZOFFSETTO:+0200
TZNAME:CEST
DTSTART:20270328T010000
END:DAYLIGHT
BEGIN:STANDARD
TZOFFSETFROM:+0200
TZOFFSETTO:+0100
TZNAME:CET
DTSTART:20271031T010000
END:STANDARD
END:VTIMEZONE
BEGIN:VEVENT
DTSTART;TZID=Europe/Berlin:20260312T180000
DTEND;TZID=Europe/Berlin:20260312T200000
DTSTAMP:20260423T181733
CREATED:20260302T153635Z
LAST-MODIFIED:20260302T153732Z
UID:10007693-1773338400-1773345600@www.aachen.digital
SUMMARY:Körperlose Zukunft? Eine Diskussion über das Verhältnis von Mensch und Maschine
DESCRIPTION:Mit Philosophin Prof. Dr. Suzana Alpsancar\, Heinz Nixdorf Institut\, Universität Paderborn; dem Psychologen Dr. Jürgen Buder\, Leibniz-Institut für Wissensmedien\, Tübingen; der Ökonomin Dr. Marina Chugunova\, Max-Planck-Institut für Innovation und Wettbewerb\, München und dem Soziologen Prof. Dr. Roger Häußling\, Institut für Soziologie\, RWTH Aachen\nModeration: Christian Schiffer\, Leiter des Ressorts „Netzwelt“\, Bayrischer Rundfunk \nIm Rahmen der Ausstellung KI$$ KI$$ von Shu Lea Cheang diskutieren renommierte Wissenschaftlerinnen und Wissenschaftler über unsere Zukunft im Zeitalter intelligenter Maschinen. \nAußer Kontrolle geratene Roboter\, ein KI-gesteuerter Avatar sowie die Kompostierung von digitalen Abfällen – die künstlerischen Welten der taiwanesisch-Amerikanischen Künstlerin öffnen uns einen spannenden wie spielerischen Einblick in ihre Zukunftsvisionen – und fordern uns gleichzeitig heraus\, die möglichen Konsequenzen technologischer Entwicklungen zu reflektieren. \nSeien Sie dabei und diskutieren Sie mit\, wenn im Ludwig Forum grundlegende Fragen zum Verhältnis von Mensch und Maschine\, Künstlicher Intelligenz\, Innovation und ihren gesellschaftlichen Folgen in den Fokus rücken. \nEinlass ab 17.30 Uhr. Die Veranstaltung findet in deutscher Sprache statt.\nEintritt frei. \nZUR ANMELDUNG
URL:https://www.aachen.digital/en/event/koerperlose-zukunft-eine-diskussion-ueber-das-verhaeltnis-von-mensch-und-maschine/
LOCATION:Ludwig Forum für Internationale Kunst\, Jülicher Str. 97-109\, Aachen\, 52070\, Deutschland
ATTACH;FMTTYPE=image/jpeg:https://www.aachen.digital/wp-content/uploads/2026/03/Design-ohne-Titel-52.jpg
END:VEVENT
BEGIN:VEVENT
DTSTART;VALUE=DATE:20240816
DTEND;VALUE=DATE:20240819
DTSTAMP:20260423T181733
CREATED:20240809T064005Z
LAST-MODIFIED:20240809T064005Z
UID:10006202-1723766400-1724025599@www.aachen.digital
SUMMARY:KIMIKO - Isle of Art Festival 2024
DESCRIPTION:Vom 16-18.8. 2024 geht das Kimiko im Ludwig Forum\, an den drei Tagen warten unter anderem Artists wie Ennio\, Paulinko&Chris Brid auf euch. \nMehr Infos!
URL:https://www.aachen.digital/en/event/kimiko-isle-of-art-festival-2024/
LOCATION:Ludwig Forum für Internationale Kunst\, Jülicher Str. 97-109\, Aachen\, 52070\, Deutschland
ATTACH;FMTTYPE=image/jpeg:https://www.aachen.digital/wp-content/uploads/2024/08/Kopie-von-Stage_Vorlage-1632x644-3.jpg
END:VEVENT
BEGIN:VEVENT
DTSTART;TZID=Europe/Berlin:20191106T100000
DTEND;TZID=Europe/Berlin:20191107T170000
DTSTAMP:20260423T181733
CREATED:20190917T092728Z
LAST-MODIFIED:20190917T092728Z
UID:10005414-1573034400-1573146000@www.aachen.digital
SUMMARY:Ausstellung "Arbeit 4.0 erleben!"
DESCRIPTION:Let’s talk about Digitalisierung\nWir laden Sie herzlich dazu ein\, das Thema Digitalisierung mit uns zu entdecken. \nUnter dem Motto „Arbeit 4.0 erleben!“ wollen wir mit regionalen Bildungsträgern\, Unternehmen und Start-Ups unterschiedliche Möglichkeiten und Formen des digitalen Wandels in der Arbeitswelt aufzeigen. \nGewinnen Sie als Arbeitnehmer mit uns neue Erkenntnisse rund um diese zukunftsweisende Entwicklung\, die heute schon in den verschiedensten Branchen stattfindet.\nAber auch als Unternehmer bieten wir Ihnen die Chance\, Ihre Innovationen vorzustellen und den Besuchern einen Einblick zu gewähren\, wie Sie die digitale Zukunft bereits heute leben. \n 
URL:https://www.aachen.digital/en/event/ausstellung-arbeit-4-0-erleben/
LOCATION:Ludwig Forum für Internationale Kunst\, Jülicher Str. 97-109\, Aachen\, 52070\, Deutschland
ATTACH;FMTTYPE=image/jpeg:https://www.aachen.digital/wp-content/uploads/2019/09/arbeit-4.0-12zu5.jpg
END:VEVENT
BEGIN:VEVENT
DTSTART;TZID=Europe/Berlin:20190618T190000
DTEND;TZID=Europe/Berlin:20190618T210000
DTSTAMP:20260423T181733
CREATED:20190528T101649Z
LAST-MODIFIED:20190528T104844Z
UID:10005034-1560884400-1560891600@www.aachen.digital
SUMMARY:Virtuelle Realität. Die Suche nach Illusionen
DESCRIPTION:Dreams are my reality…\nGesprächsrunde zum Thema Virtuelle Realität \nWie es scheint\, ist uns die Welt\, allein wie sie ist\, unerträglich. Wir suchen die Illusion\, die uns den Weg aus den Niederungen leuchtet. Auch wenn man meint\, man ließe sich nicht gerne täuschen\, dann verspielt man das Eigentliche: Die Illusion öffnet die Welt für Neues\, lässt aber auch unsere Beschränkungen erkennen. So sprengen die vom Computer eröffneten Welten des Virtuellen vieles auf\, werden zum Gegenmodell der Wirklichkeit\, laufen aber Gefahr\, sich als ähnlich profan und verarmt wie diese zu erweisen. \nMit Dr. rer. nat. Universitätsprofessorin Astrid Rosenthal-von der Pütten\, Lehrstuhl für Technik und Individuum\, Human Technology Center der RWTH Aachen; Manuel Roßner\, Begründer und Artistic Director der virtuellen Float Gallery. \nModeration: Dr. phil. Jürgen Kippenhan\, LOGOI Institut für Philosophie und Diskurs. \nEine Kooperation von LOGOI und Ludwig Forum Aachen\, im Rahmen der Ausstellung „Lust der Täuschung“. \nFreier Eintritt! \nWeitere Informationen
URL:https://www.aachen.digital/en/event/virtuelle-realitaet-die-suche-nach-illusionen/
LOCATION:Ludwig Forum für Internationale Kunst\, Jülicher Str. 97-109\, Aachen\, 52070\, Deutschland
ATTACH;FMTTYPE=image/jpeg:https://www.aachen.digital/wp-content/uploads/2019/05/05-Hans-Peter-Reuter-Kachelraum-ohne-Ding-Nr.-110-720x611.jpg
END:VEVENT
END:VCALENDAR