BEGIN:VCALENDAR
VERSION:2.0
PRODID:-//digitalHUB Aachen - ECPv6.15.20//NONSGML v1.0//EN
CALSCALE:GREGORIAN
METHOD:PUBLISH
X-WR-CALNAME:digitalHUB Aachen
X-ORIGINAL-URL:https://www.aachen.digital/en/
X-WR-CALDESC:Events for digitalHUB Aachen
REFRESH-INTERVAL;VALUE=DURATION:PT1H
X-Robots-Tag:noindex
X-PUBLISHED-TTL:PT1H
BEGIN:VTIMEZONE
TZID:Europe/Berlin
BEGIN:DAYLIGHT
TZOFFSETFROM:+0100
TZOFFSETTO:+0200
TZNAME:CEST
DTSTART:20180325T010000
END:DAYLIGHT
BEGIN:STANDARD
TZOFFSETFROM:+0200
TZOFFSETTO:+0100
TZNAME:CET
DTSTART:20181028T010000
END:STANDARD
BEGIN:DAYLIGHT
TZOFFSETFROM:+0100
TZOFFSETTO:+0200
TZNAME:CEST
DTSTART:20190331T010000
END:DAYLIGHT
BEGIN:STANDARD
TZOFFSETFROM:+0200
TZOFFSETTO:+0100
TZNAME:CET
DTSTART:20191027T010000
END:STANDARD
BEGIN:DAYLIGHT
TZOFFSETFROM:+0100
TZOFFSETTO:+0200
TZNAME:CEST
DTSTART:20200329T010000
END:DAYLIGHT
BEGIN:STANDARD
TZOFFSETFROM:+0200
TZOFFSETTO:+0100
TZNAME:CET
DTSTART:20201025T010000
END:STANDARD
BEGIN:DAYLIGHT
TZOFFSETFROM:+0100
TZOFFSETTO:+0200
TZNAME:CEST
DTSTART:20210328T010000
END:DAYLIGHT
BEGIN:STANDARD
TZOFFSETFROM:+0200
TZOFFSETTO:+0100
TZNAME:CET
DTSTART:20211031T010000
END:STANDARD
BEGIN:DAYLIGHT
TZOFFSETFROM:+0100
TZOFFSETTO:+0200
TZNAME:CEST
DTSTART:20220327T010000
END:DAYLIGHT
BEGIN:STANDARD
TZOFFSETFROM:+0200
TZOFFSETTO:+0100
TZNAME:CET
DTSTART:20221030T010000
END:STANDARD
BEGIN:DAYLIGHT
TZOFFSETFROM:+0100
TZOFFSETTO:+0200
TZNAME:CEST
DTSTART:20230326T010000
END:DAYLIGHT
BEGIN:STANDARD
TZOFFSETFROM:+0200
TZOFFSETTO:+0100
TZNAME:CET
DTSTART:20231029T010000
END:STANDARD
BEGIN:DAYLIGHT
TZOFFSETFROM:+0100
TZOFFSETTO:+0200
TZNAME:CEST
DTSTART:20240331T010000
END:DAYLIGHT
BEGIN:STANDARD
TZOFFSETFROM:+0200
TZOFFSETTO:+0100
TZNAME:CET
DTSTART:20241027T010000
END:STANDARD
BEGIN:DAYLIGHT
TZOFFSETFROM:+0100
TZOFFSETTO:+0200
TZNAME:CEST
DTSTART:20250330T010000
END:DAYLIGHT
BEGIN:STANDARD
TZOFFSETFROM:+0200
TZOFFSETTO:+0100
TZNAME:CET
DTSTART:20251026T010000
END:STANDARD
BEGIN:DAYLIGHT
TZOFFSETFROM:+0100
TZOFFSETTO:+0200
TZNAME:CEST
DTSTART:20260329T010000
END:DAYLIGHT
BEGIN:STANDARD
TZOFFSETFROM:+0200
TZOFFSETTO:+0100
TZNAME:CET
DTSTART:20261025T010000
END:STANDARD
END:VTIMEZONE
BEGIN:VEVENT
DTSTART;TZID=Europe/Berlin:20250902T130000
DTEND;TZID=Europe/Berlin:20250902T170000
DTSTAMP:20260423T204329
CREATED:20250901T073150Z
LAST-MODIFIED:20250901T073150Z
UID:10007417-1756818000-1756832400@www.aachen.digital
SUMMARY:Cross-Innovation Werkstatt: Bauen und Energie
DESCRIPTION:Worum geht’s?\nDie Cross-Innovations-Werkstatt bringt Fachleute aus Bauwesen\, Energietechnik\, Gesundheitsversorgung und Forschung zusammen. Im Fokus stehen nachhaltige und energieeffiziente Lösungen für Gebäude im Gesundheitswesen – von der Planung bis zum Betrieb. \nTeilnehmende erwartet ein interaktives Format mit Impulsen\, Workshops und viel Raum für Austausch über Branchen hinweg. \nZielgruppe:\n• Planer*innen\, Architekt*innen\, Ingenieur*innen\n• Vertreter*innen von Krankenhäusern\, Pflegeeinrichtungen & Verwaltung\n• Forschende & Innovationstreibende im Bereich Bau\, Energie & Gesundheit \nTeilnahme: kostenfrei – begrenzte Plätze \nJetzt anmelden \n 
URL:https://www.aachen.digital/en/event/cross-innovation-werkstatt-bauen-und-energie/
LOCATION:Manfred-Weck-Haus\, Steinbachstraße 19\, Aachen\, 52074\, Deutschland
ATTACH;FMTTYPE=image/jpeg:https://www.aachen.digital/wp-content/uploads/2025/06/cross-innovations-werkstatt.jpg
END:VEVENT
BEGIN:VEVENT
DTSTART;TZID=Europe/Berlin:20190927T140000
DTEND;TZID=Europe/Berlin:20190927T170000
DTSTAMP:20260423T204329
CREATED:20190528T073418Z
LAST-MODIFIED:20190528T073638Z
UID:10005018-1569592800-1569603600@www.aachen.digital
SUMMARY:ScienceLink: F&E ONSITE! zu Gast bei... "Exzellenzcluster Internet of Production (IoP)"
DESCRIPTION:Das Exzellenzcluster Internet of Production (IoP) bietet im Rahmen der Veranstaltung einen Einblick in Forschungsschwerpunkte vor Ort. \nHierzu lädt das IoP in das Werkzeugmaschinenlabor WZL\, einem von insgesamt 35 Instituten\, die gemeinsam Lösungen zu Leitthemen der Zukunft erarbeiten. Dem IoP liegt die Vision zugrunde\, ein neues Niveau der domänenübergreifen Kollaboration zu ermöglichen. \nVeranstaltungsort:\nWerkzeugmaschinenlabor\, Manfred-Weck-Haus\nSteinbachstraße 19\, 52074 Aachen \nDas detaillierte Programm wird ca. 6 Wochen vor der Veranstaltung bekannt gegeben. \nDie Teilnehmerzahl ist begrenzt auf 24 Personen. \nDie Veranstaltung ist kostenfrei. Eine Anmeldung ist erforderlich. Sollten Sie verhindert sein\, benachrichtigen Sie uns bitte frühzeitig\, damit ein anderer Interessent teilnehmen kann. Vielen Dank! \nWeitere Informationen \nAnmeldung:\nAGIT mbH\nDoris Müller\nTel. 0241 963-1020\nd.mueller@agit.de \nAnsprechpartner:\nAGIT mbH\nGaby Mahr-Urfels\nTel. 0241 963-1035\ng.mahr-urfels@agit.de
URL:https://www.aachen.digital/en/event/sciencelink-fe-onsite-zu-gast-bei-exzellenzcluster-internet-of-production-iop/
LOCATION:Manfred-Weck-Haus\, Steinbachstraße 19\, Aachen\, 52074\, Deutschland
ATTACH;FMTTYPE=image/jpeg:https://www.aachen.digital/wp-content/uploads/2019/05/agit.jpg
END:VEVENT
BEGIN:VEVENT
DTSTART;VALUE=DATE:20190626
DTEND;VALUE=DATE:20190627
DTSTAMP:20260423T204329
CREATED:20190528T091130Z
LAST-MODIFIED:20190528T091458Z
UID:10005023-1561507200-1561593599@www.aachen.digital
SUMMARY:Fehler­ma­nage­ment 4.0 - Perfor­man­ce­stei­ge­rung durch SmartFM
DESCRIPTION:die Digi­ta­li­sie­rung findet zunehmend Einzug in alle Bereiche des Unter­neh­mens. Auch im Bereich des Quali­täts­ma­nage­ments lassen sich Poten­ziale erschließen\, zum Beispiel durch ein digitales Fehler­ma­nage­ment. \nWie dies aussehen kann\, wird auf der Fach­ta­gung „Fehler­ma­nage­ment 4.0: Perfor­man­ce­stei­ge­rung durch SmartFM“ am 26.06.2019 in Aachen erörtert. \nIm Rahmen des öffent­lich geför­derten Projektes „SmartFM“ wurde eine Lösung für das Fehler­ma­nage­ment bei kleinen und mittleren Unter­nehmen anhand einer mobilen Android-App entwi­ckelt. Die Ergeb­nisse des Projektes werden auf der Fach­ta­gung vorge­stellt. \nZudem erwarten Sie spannende Fach­vor­träge sowie inter­ak­tive Diskus­si­ons­runden zum Thema Digi­ta­li­sie­rung im Fehler­ma­nage­ment. Die Experten von Digital in NRW sind im Vortrags­pro­gramn der Tagung sowie in den Diskus­si­ons­runden beteiligt. Dabei stehen wir für Gespräche zu allen Themen rund um die Digi­ta­li­sie­rung Ihres Unter­nehmen – auch im Kontext Smartes Fehler­ma­nage­ment – zur Verfügung. \nWann: Mittwoch\, 26.06.2019 | 10:00 bis 15:30 Uhr\nWo: WZL der RWTH Aachen | Manfred-Weck-Haus\, Tagungsraum Süd | Steinbachstraße 19 | 52074 Aachen \nInformationen und Anmeldung \nDie Teilnahme an der Veran­stal­tung ist kostenlos und offen für alle\, die sich für die Digi­ta­li­sie­rung in der Produk­tion inter­es­sieren. Bei Interesse bitte wir um Ameldung unter diesem Link bis zum 12.06.2019. \nWeitere Fragen beat­wortet Ihnen Herr Dr. Jan Kukulies\, PRS Tech­no­logie GmbH per j.kukulies@prstg.de
URL:https://www.aachen.digital/en/event/fehlermanagement-4-0-performancesteigerung-durch-smartfm/
LOCATION:Manfred-Weck-Haus\, Steinbachstraße 19\, Aachen\, 52074\, Deutschland
ATTACH;FMTTYPE=image/jpeg:https://www.aachen.digital/wp-content/uploads/2018/09/AdobeStock_177732957.jpeg
END:VEVENT
END:VCALENDAR