BEGIN:VCALENDAR
VERSION:2.0
PRODID:-//digitalHUB Aachen - ECPv6.15.20//NONSGML v1.0//EN
CALSCALE:GREGORIAN
METHOD:PUBLISH
X-WR-CALNAME:digitalHUB Aachen
X-ORIGINAL-URL:https://www.aachen.digital/en/
X-WR-CALDESC:Events for digitalHUB Aachen
REFRESH-INTERVAL;VALUE=DURATION:PT1H
X-Robots-Tag:noindex
X-PUBLISHED-TTL:PT1H
BEGIN:VTIMEZONE
TZID:Europe/Berlin
BEGIN:DAYLIGHT
TZOFFSETFROM:+0100
TZOFFSETTO:+0200
TZNAME:CEST
DTSTART:20230326T010000
END:DAYLIGHT
BEGIN:STANDARD
TZOFFSETFROM:+0200
TZOFFSETTO:+0100
TZNAME:CET
DTSTART:20231029T010000
END:STANDARD
BEGIN:DAYLIGHT
TZOFFSETFROM:+0100
TZOFFSETTO:+0200
TZNAME:CEST
DTSTART:20240331T010000
END:DAYLIGHT
BEGIN:STANDARD
TZOFFSETFROM:+0200
TZOFFSETTO:+0100
TZNAME:CET
DTSTART:20241027T010000
END:STANDARD
BEGIN:DAYLIGHT
TZOFFSETFROM:+0100
TZOFFSETTO:+0200
TZNAME:CEST
DTSTART:20250330T010000
END:DAYLIGHT
BEGIN:STANDARD
TZOFFSETFROM:+0200
TZOFFSETTO:+0100
TZNAME:CET
DTSTART:20251026T010000
END:STANDARD
END:VTIMEZONE
BEGIN:VEVENT
DTSTART;TZID=Europe/Berlin:20240705T103000
DTEND;TZID=Europe/Berlin:20240705T120000
DTSTAMP:20260423T230356
CREATED:20240521T105816Z
LAST-MODIFIED:20240619T072650Z
UID:10006795-1720175400-1720180800@www.aachen.digital
SUMMARY:Seminar "Standort Ostbelgien"
DESCRIPTION:Die WFG Ostbelgien lädt zum Seminar zum Thema “Standort Ostbelgien” ein. \nWährend des Vortrags werden verschiedene Aspekte des Standorts Ostbelgien betrachtet\, darunter wirtschaftliche Möglichkeiten\, regionale Entwicklungschancen und strategische Partnerschaften. Es wird eine großartige Gelegenheit sein\, mehr über die einzigartigen Vorzüge dieses Standorts zu erfahren und potenzielle Geschäftsmöglichkeiten zu erkunden. \nAls besonderes Angebot erhalten alle Teilnehmerinnen und Teilnehmer im Anschluss ein kostenloses Mittagessen\, bestehend aus einer Portion belgischer Fritten und zusätzlich zwei belgischen Bieren gratis dazu. Dies bietet dir nicht nur die Möglichkeit\, sich zu stärken\, sondern auch in regionaler Atmosphäre weiter zu diskutieren und sich zu vernetzen. \nDieses Event ist Teil der STARTUP WEEK AACHEN. \nJetzt anmelden! \n  \nSTARTUP WEEK AACHEN: \nVom 01.07.2024 bis zum 05.07.2024 kommt die gesamte Startup-Szene der Aachener Region zusammen und teilt mit euch Know-how und spannende\, innovative Ideen für die Zukunft! In dieser Woche erwarten euch zahlreiche Veranstaltungen rund um die Themen Startup\, Wachstum\, Digitalisierung und Innovation. Das Angebot reicht von Workshops\, Keynotes und TalkUp Stories bis hin zum TOP-Event: #neuland x atec am 02. und 03.07.2024 (Aachener Technologie- und Entrepreneurship-Kongress). \nZur Webseite
URL:https://www.aachen.digital/en/event/seminar-standort-ostbelgien/
LOCATION:MANNEKENFRIT\, Aachener Straße 267\, Raeren\, 4730
ATTACH;FMTTYPE=image/jpeg:https://www.aachen.digital/wp-content/uploads/2024/06/stage-startupweek.jpg
END:VEVENT
END:VCALENDAR