BEGIN:VCALENDAR
VERSION:2.0
PRODID:-//digitalHUB Aachen - ECPv6.15.20//NONSGML v1.0//EN
CALSCALE:GREGORIAN
METHOD:PUBLISH
X-ORIGINAL-URL:https://www.aachen.digital/en/
X-WR-CALDESC:Events for digitalHUB Aachen
REFRESH-INTERVAL;VALUE=DURATION:PT1H
X-Robots-Tag:noindex
X-PUBLISHED-TTL:PT1H
BEGIN:VTIMEZONE
TZID:Europe/Berlin
BEGIN:DAYLIGHT
TZOFFSETFROM:+0100
TZOFFSETTO:+0200
TZNAME:CEST
DTSTART:20180325T010000
END:DAYLIGHT
BEGIN:STANDARD
TZOFFSETFROM:+0200
TZOFFSETTO:+0100
TZNAME:CET
DTSTART:20181028T010000
END:STANDARD
BEGIN:DAYLIGHT
TZOFFSETFROM:+0100
TZOFFSETTO:+0200
TZNAME:CEST
DTSTART:20190331T010000
END:DAYLIGHT
BEGIN:STANDARD
TZOFFSETFROM:+0200
TZOFFSETTO:+0100
TZNAME:CET
DTSTART:20191027T010000
END:STANDARD
BEGIN:DAYLIGHT
TZOFFSETFROM:+0100
TZOFFSETTO:+0200
TZNAME:CEST
DTSTART:20200329T010000
END:DAYLIGHT
BEGIN:STANDARD
TZOFFSETFROM:+0200
TZOFFSETTO:+0100
TZNAME:CET
DTSTART:20201025T010000
END:STANDARD
END:VTIMEZONE
BEGIN:VEVENT
DTSTART;TZID=Europe/Berlin:20190927T140000
DTEND;TZID=Europe/Berlin:20190927T160000
DTSTAMP:20260424T013445
CREATED:20190823T120621Z
LAST-MODIFIED:20190823T122400Z
UID:10004827-1569592800-1569600000@www.aachen.digital
SUMMARY:Von der Geschäftsidee zur starken\, wertvollen Marke
DESCRIPTION:Jeder Unternehmer hat eine klare\, hoffentlich alleinstellende Geschäftsidee. Aber das reicht nicht\, um sich im intensiven Wettbewerb um Kunden durchzusetzen. Für Euren Geschäftserfolg braucht Ihr eine starke Marke\, die mit ihren Leistungen und einem für Eure Kunden relevanten Nutzen merkfähig im Kopf Eurer Kunden verankert wird. \nIn diesem Workshop erhaltet Ihr Antwort auf die Frage wie Ihr es schafft\, über den Aufbau einer starken Marke den Geschäftserfolg dauerhaft zu sichern. \nDas sind die Themen: \n\nWas ist eine Marke – mehr als nur Branding\nWie komme ich von meiner Geschäftsidee zu meinem Kunden-relevanten Markenkern?\nWie baue ich auf dem Markenkern eine starke Marke in den Köpfen meiner Zielgruppe auf\n\nDas nehmt Ihr mit: \n\nVerständnis für die Bedeutung einer starken Marke und einem konsequenten Markenmanagement für nachhaltiges Wachstum\nModell zur Entwicklung des eigenen Markenkerns\nModell zum Aufbau einer starken Marke\n\nDas erwartet Euch: \n\nImpuls-Vortrag\nWorkshop – 1\,5 Stunden fallbezogenes Eintauchen in das Thema\nParcour mit Themeninseln\, die von den Teilnehmern schrittweise durchlaufen werden im Stil eines World-Cafés. An den Themeninseln vertieft Ihr die Themen\, tauscht Euch mit anderen Teilnehmern aus. Wir beantworten Eure Fragen und diskutieren mit Euch über Möglichkeiten und Lösungen\n\nKOSTENLOSE ANMELDUNG \n 
URL:https://www.aachen.digital/en/event/von-der-geschaeftsidee-zur-starken-wertvollen-marke/
LOCATION:Medien-Akademie Ruhr\, Friedrichstraße 47\, Essen\, 45128\, Deutschland
ATTACH;FMTTYPE=image/jpeg:https://www.aachen.digital/wp-content/uploads/2019/08/geschäftsidee-zur-marke-neu.jpg
END:VEVENT
BEGIN:VEVENT
DTSTART;TZID=Europe/Berlin:20190926T100000
DTEND;TZID=Europe/Berlin:20190926T120000
DTSTAMP:20260424T013445
CREATED:20190823T120719Z
LAST-MODIFIED:20190823T122340Z
UID:10004828-1569492000-1569499200@www.aachen.digital
SUMMARY:Blog und Breakfast: Erfolgreiche PR mit dem Corporate Blog
DESCRIPTION:Blogs bieten die Möglichkeit\, neue Kunden zu gewinnen und mit ihnen in den Dialog zu treten\, einen Expertenstatus aufzubauen und Sichtbarkeit im Netz zu generieren. Das sind nur drei von vielen guten Gründen\, warum sich ein Corporate Blog lohnt. \nBlog-Expertin Daniela Sprung zeigt Dir in einem Kurz-Workshop Best-Practices aus verschiedenen Branchen und gibt Tipps zu Technik\, Themenfindung und Texten. Bei Kaffee und belegten Brötchen kannst du alle Deine Fragen zum Bloggen stellen und dich mit anderen über Deine Erfahrungen austauschen. \nKOSTENLOSE ANMELDUNG
URL:https://www.aachen.digital/en/event/blog-und-breakfast-erfolgreiche-pr-mit-dem-corporate-blog/
LOCATION:Medien-Akademie Ruhr\, Friedrichstraße 47\, Essen\, 45128\, Deutschland
ATTACH;FMTTYPE=image/jpeg:https://www.aachen.digital/wp-content/uploads/2019/08/neu..-1.jpg
END:VEVENT
END:VCALENDAR