BEGIN:VCALENDAR
VERSION:2.0
PRODID:-//digitalHUB Aachen - ECPv6.15.20//NONSGML v1.0//EN
CALSCALE:GREGORIAN
METHOD:PUBLISH
X-ORIGINAL-URL:https://www.aachen.digital/en/
X-WR-CALDESC:Events for digitalHUB Aachen
REFRESH-INTERVAL;VALUE=DURATION:PT1H
X-Robots-Tag:noindex
X-PUBLISHED-TTL:PT1H
BEGIN:VTIMEZONE
TZID:Europe/Berlin
BEGIN:DAYLIGHT
TZOFFSETFROM:+0100
TZOFFSETTO:+0200
TZNAME:CEST
DTSTART:20190331T010000
END:DAYLIGHT
BEGIN:STANDARD
TZOFFSETFROM:+0200
TZOFFSETTO:+0100
TZNAME:CET
DTSTART:20191027T010000
END:STANDARD
BEGIN:DAYLIGHT
TZOFFSETFROM:+0100
TZOFFSETTO:+0200
TZNAME:CEST
DTSTART:20200329T010000
END:DAYLIGHT
BEGIN:STANDARD
TZOFFSETFROM:+0200
TZOFFSETTO:+0100
TZNAME:CET
DTSTART:20201025T010000
END:STANDARD
BEGIN:DAYLIGHT
TZOFFSETFROM:+0100
TZOFFSETTO:+0200
TZNAME:CEST
DTSTART:20210328T010000
END:DAYLIGHT
BEGIN:STANDARD
TZOFFSETFROM:+0200
TZOFFSETTO:+0100
TZNAME:CET
DTSTART:20211031T010000
END:STANDARD
END:VTIMEZONE
BEGIN:VEVENT
DTSTART;TZID=Europe/Berlin:20200130T180000
DTEND;TZID=Europe/Berlin:20200130T213000
DTSTAMP:20260424T002503
CREATED:20200103T104116Z
LAST-MODIFIED:20200103T104116Z
UID:10005499-1580407200-1580419800@www.aachen.digital
SUMMARY:Startup Grind Aachen: Gründertalk mit Michael Minis
DESCRIPTION:How to cooperate with other companies with Michael Minis\, CEO MOQO\nStartup Grind ist eine der größten globalen Startup-Communities\, die darauf abzielt\, Unternehmer auszubilden\, zu inspirieren und zu verbinden. Wir initiieren monatliche Veranstaltungen in mehr als 500 Städten und 120 Ländern mit erfolgreichen lokalen Gründern\, Innovatoren und Investoren\, die persönliche Geschichten und Erfahrungen auf dem Weg zum Aufbau großer Unternehmen austauschen. \nUnsere monatlichen Fire-side-chats\, Podiumsdiskussionen und jährlichen Konferenzen bieten reichlich Gelegenheit\, sich mit erstaunlichen Start-ups und den Menschen hinter ihnen zu verbinden\, ein starkes Support-Netzwerk zu nutzen\, sinnvolle Verbindungen zu knüpfen und Inspiration für die eigene bevorstehende Startup-Reise zu erhalten. \nTicket Information
URL:https://www.aachen.digital/en/event/startup-grind-aachen-gruendertalk-mit-michael-minis/
LOCATION:MOQO\, Vaalser Str. 17\, Aachen
ATTACH;FMTTYPE=image/jpeg:https://www.aachen.digital/wp-content/uploads/2020/01/stage-startupgrind_20_01-1.jpg
ORGANIZER;CN="digitalHUB Aachen":MAILTO:kontakt@hubaachen.de
END:VEVENT
END:VCALENDAR