BEGIN:VCALENDAR
VERSION:2.0
PRODID:-//digitalHUB Aachen - ECPv6.15.20//NONSGML v1.0//EN
CALSCALE:GREGORIAN
METHOD:PUBLISH
X-ORIGINAL-URL:https://www.aachen.digital/en/
X-WR-CALDESC:Events for digitalHUB Aachen
REFRESH-INTERVAL;VALUE=DURATION:PT1H
X-Robots-Tag:noindex
X-PUBLISHED-TTL:PT1H
BEGIN:VTIMEZONE
TZID:Europe/Berlin
BEGIN:DAYLIGHT
TZOFFSETFROM:+0100
TZOFFSETTO:+0200
TZNAME:CEST
DTSTART:20170326T010000
END:DAYLIGHT
BEGIN:STANDARD
TZOFFSETFROM:+0200
TZOFFSETTO:+0100
TZNAME:CET
DTSTART:20171029T010000
END:STANDARD
BEGIN:DAYLIGHT
TZOFFSETFROM:+0100
TZOFFSETTO:+0200
TZNAME:CEST
DTSTART:20180325T010000
END:DAYLIGHT
BEGIN:STANDARD
TZOFFSETFROM:+0200
TZOFFSETTO:+0100
TZNAME:CET
DTSTART:20181028T010000
END:STANDARD
BEGIN:DAYLIGHT
TZOFFSETFROM:+0100
TZOFFSETTO:+0200
TZNAME:CEST
DTSTART:20190331T010000
END:DAYLIGHT
BEGIN:STANDARD
TZOFFSETFROM:+0200
TZOFFSETTO:+0100
TZNAME:CET
DTSTART:20191027T010000
END:STANDARD
END:VTIMEZONE
BEGIN:VEVENT
DTSTART;TZID=Europe/Berlin:20181011T160000
DTEND;TZID=Europe/Berlin:20181011T190000
DTSTAMP:20260424T012532
CREATED:20180927T111357Z
LAST-MODIFIED:20190902T154947Z
UID:10004647-1539273600-1539284400@www.aachen.digital
SUMMARY:Digital. Praktisch. Nah. - Data Mining
DESCRIPTION:Industrie 4.0 verändert das Verständnis von Produk­tion\, Prozessen und Dienst­leis­tungen. Die Heraus­for­de­rungen\, die eine digitale Trans­for­ma­tion mit sich bringt\, sind dabei gerade für kleine und mittlere Unter­nehmen (#KMU) inhalt­li­chen sehr viel­fältig. Diesen Aspekt fokus­sieren wir in unserer Veran­stal­tungs­reihe „Digital. Praktisch. Nah.“ \nIn Koope­ra­tion mit Digital in NRW\, den Wirt­schafts­för­de­rungen\, der IHK Aachen und dem Digitalhub Aachen e.V. laden wir Sie dazu zur MVG GmbH nach Eschweiler zum Thema Data Mining ein. \nSie erhalten einen ersten Überblick über die Möglich­keiten\, die Digi­ta­li­sie­rung und Vernet­zung bieten. Außerdem präsen­tieren wir exis­tie­rende Lösungen und durch­ge­führte Projekte. Dadurch werden Sie befähigt\, Hand­lungs­felder auf dem Weg zur Industrie 4.0 für ihr Unter­nehmen zu iden­ti­fi­zieren und diese in Form einer Umset­zungs­pla­nung zu prio­ri­sieren. Damit gehen Sie bereits erste Schritte in Richtung Digi­ta­li­sie­rung von Produkten\, Produk­tion\, Prozessen und Dienst­leis­tungen. \nDarüber hinaus werden Sie über regionale Unter­stüt­zungs­an­ge­bote informiert und es werden Ihnen aktuelle Initia­tiven und Förder­pro­jekte für Industrie 4.0 Projekte im Mittel­stand vorgestellt. \nProgramm:\n– Begrüßung durch das einladende Unternehmen\n– Theorie zum Themenfeld „Data Mining“\n– Start up aus dem Bereich Data Mining stellt sich vor und gibt Praxisbeispiele für Unternehmen\n– Offener Austausch und Diskussion\n– Betriebsbesichtigung \nDie Veran­stal­tungs­reihe richtet sich an Fach- und Führungs­kräfte des Mittel­stands\, die an diesem Tag von den Möglich­keiten erfahren\, die sich aus Industrie 4.0 ergeben. Vorkennt­nisse im Bereich Industrie 4.0 sind nicht erfor­der­lich. \nDie Teilnahme an der Veran­stal­tung ist für KMU kosten­frei.\nAufgrund der begrenzten Teil­neh­mer­zahl bitte wir Sie um eine verbind­liche Anmeldung. \nWeitere Informationen zur Veranstaltungsreihe sowie zur Anmeldung entnehmen Sie bitte dem Flyer: http://bit.ly/2Hj6tjt sowie http://bit.ly/2HfHv4K \nHinweis: Bei der Veran­stal­tung werden ggf. Foto- und Film­auf­nahmen für die Homepage\, Print­me­dien und Social-Media-Kanäle ange­fer­tigt. Mit dem Betreten der Veran­stal­tungs­räume erfolgt die Einwil­li­gung der abge­bil­deten Personen zur unent­gelt­li­chen Veröf­fent­li­chung und zwar ohne dass es einer ausdrück­li­chen Erklärung bedarf. Sollte die betref­fende Person im Einzel­fall nicht mit der Veröf­fent­li­chung einver­standen sein\, wird um unmit­tel­bare Mitteilung gebeten.
URL:https://www.aachen.digital/en/event/digital-praktisch-nah-data-mining/
LOCATION:MVG Metallvertriebsgesellschaft mbH\, An der Wasserwiese 1\, Eschweiler\, 52249\, Deutschland
ATTACH;FMTTYPE=image/jpeg:https://www.aachen.digital/wp-content/uploads/2019/05/Digital-in-NRW.jpg
ORGANIZER;CN="digitalHUB Aachen":MAILTO:kontakt@hubaachen.de
END:VEVENT
END:VCALENDAR