BEGIN:VCALENDAR
VERSION:2.0
PRODID:-//digitalHUB Aachen - ECPv6.15.20//NONSGML v1.0//EN
CALSCALE:GREGORIAN
METHOD:PUBLISH
X-WR-CALNAME:digitalHUB Aachen
X-ORIGINAL-URL:https://www.aachen.digital/en/
X-WR-CALDESC:Events for digitalHUB Aachen
REFRESH-INTERVAL;VALUE=DURATION:PT1H
X-Robots-Tag:noindex
X-PUBLISHED-TTL:PT1H
BEGIN:VTIMEZONE
TZID:Europe/Berlin
BEGIN:DAYLIGHT
TZOFFSETFROM:+0100
TZOFFSETTO:+0200
TZNAME:CEST
DTSTART:20210328T010000
END:DAYLIGHT
BEGIN:STANDARD
TZOFFSETFROM:+0200
TZOFFSETTO:+0100
TZNAME:CET
DTSTART:20211031T010000
END:STANDARD
BEGIN:DAYLIGHT
TZOFFSETFROM:+0100
TZOFFSETTO:+0200
TZNAME:CEST
DTSTART:20220327T010000
END:DAYLIGHT
BEGIN:STANDARD
TZOFFSETFROM:+0200
TZOFFSETTO:+0100
TZNAME:CET
DTSTART:20221030T010000
END:STANDARD
BEGIN:DAYLIGHT
TZOFFSETFROM:+0100
TZOFFSETTO:+0200
TZNAME:CEST
DTSTART:20230326T010000
END:DAYLIGHT
BEGIN:STANDARD
TZOFFSETFROM:+0200
TZOFFSETTO:+0100
TZNAME:CET
DTSTART:20231029T010000
END:STANDARD
END:VTIMEZONE
BEGIN:VEVENT
DTSTART;TZID=Europe/Berlin:20220818T170000
DTEND;TZID=Europe/Berlin:20220818T190000
DTSTAMP:20260423T214412
CREATED:20220719T113514Z
LAST-MODIFIED:20220811T131457Z
UID:10006276-1660842000-1660849200@www.aachen.digital
SUMMARY:Projektmesse 2022
DESCRIPTION:Die Projektmesse findet im Vorfeld des Aktionstags der Wirtschaft (22.9.) statt. \nDie Idee: Auf dem Aktionstag der Wirtschaft stellen Unternehmen aus Aachen für einen Tag mindestens eine:n Mitarbeiter:in frei\, um konkrete Projekte für und mit einer gemeinnützigen Einrichtung ihrer Wahl zu realisieren. Geld ist Nebensache – vielmehr sind Ressourcen wie Zeit\, Wissen\, Kompetenz\, Kontakte\, Logistik\, etc. gefragt – Ein Tag für Begegnung\, Aktion\, Anerkennung\, Zusammenhalt und Freude. \nAuf der Projektmesse am 18. August stellen sich die sozialen Einrichtungen mit ihren Projektideen vor – so habt ihr die Möglichkeit\, die Vertreter:innen der sozialen Einrichtungen in einem persönlichen Gespräch kennenzulernen und euch für ein Projekt zu entscheiden. Wenn ihr euch für euch Projekt entschieden habt\, wird zwischen euch und der jeweiligen sozialen Einrichtung eine Online-Engagementvereinbarung geschlossen. Anschließend können die Vorbereitungen für die Umsetzung des Projektes beginnen. Solltet ihr jedoch kein passendes Projekt finden\, entstehen eurerseits natürlich keinerlei Verpflichtungen. Auf der Projektmesse geht es vorallem um das persönliche Kennenlernen auf Augenhöhe und die konkrete Vereinbarung der Projektpartnerschaften mit den sozialen Einrichtungen. \nAnmeldung zur Projektmesse\nbis zum 12. August über “Mitmachen”. \nUnser neues Mitglied impact konnection\, die es sich zum Ziel gesetzt hat\, Unternehmen\, Mitarbeiter:innen und gemeinnützige Organisationen zu vernetzen um dadurch unternehmerisches Ehrenamt (Corporate Volunteering) zu fördern\, ist Kooperationspartner des Events.
URL:https://www.aachen.digital/en/event/projektmesse-2022/
LOCATION:Nadelfabrik\, Reichsweg 30\, Aachen
ATTACH;FMTTYPE=image/jpeg:https://www.aachen.digital/wp-content/uploads/2022/07/Design-ohne-Titel-36.jpg
END:VEVENT
END:VCALENDAR