BEGIN:VCALENDAR
VERSION:2.0
PRODID:-//digitalHUB Aachen - ECPv6.15.20//NONSGML v1.0//EN
CALSCALE:GREGORIAN
METHOD:PUBLISH
X-ORIGINAL-URL:https://www.aachen.digital/en/
X-WR-CALDESC:Events for digitalHUB Aachen
REFRESH-INTERVAL;VALUE=DURATION:PT1H
X-Robots-Tag:noindex
X-PUBLISHED-TTL:PT1H
BEGIN:VTIMEZONE
TZID:Europe/Berlin
BEGIN:DAYLIGHT
TZOFFSETFROM:+0100
TZOFFSETTO:+0200
TZNAME:CEST
DTSTART:20180325T010000
END:DAYLIGHT
BEGIN:STANDARD
TZOFFSETFROM:+0200
TZOFFSETTO:+0100
TZNAME:CET
DTSTART:20181028T010000
END:STANDARD
BEGIN:DAYLIGHT
TZOFFSETFROM:+0100
TZOFFSETTO:+0200
TZNAME:CEST
DTSTART:20190331T010000
END:DAYLIGHT
BEGIN:STANDARD
TZOFFSETFROM:+0200
TZOFFSETTO:+0100
TZNAME:CET
DTSTART:20191027T010000
END:STANDARD
BEGIN:DAYLIGHT
TZOFFSETFROM:+0100
TZOFFSETTO:+0200
TZNAME:CEST
DTSTART:20200329T010000
END:DAYLIGHT
BEGIN:STANDARD
TZOFFSETFROM:+0200
TZOFFSETTO:+0100
TZNAME:CET
DTSTART:20201025T010000
END:STANDARD
END:VTIMEZONE
BEGIN:VEVENT
DTSTART;TZID=Europe/Berlin:20190219T130000
DTEND;TZID=Europe/Berlin:20190219T173000
DTSTAMP:20260424T001644
CREATED:20190205T092957Z
LAST-MODIFIED:20221213T132614Z
UID:10004718-1550581200-1550597400@www.aachen.digital
SUMMARY:Der smarte Weg zu „Smart Logistics“
DESCRIPTION:Die Logistikbranche profitiert enorm von den neuesten Technologien und wird mit zunehmenden Fortschritten weiter wachsen. \nDas ist einerseits eine große Herausforderung\, andererseits bietet es viele Möglichkeiten. Verbesserte Technologien haben die Produktivität in der Lieferkette erhöht und Kosten und Fehler minimiert. \nWas bedeutet für Sie die digitale Transformation? Und welche Unternehmen können Ihnen bei den ersten oder nächsten Schritten helfen? \nSie werden darüber informiert\, welche Chancen für Ihr Unternehmen bestehen: Niederländische\, deutsche und belgische Unternehmen teilen ihre Erfahrungen mit Ihnen. \nWährend der Veranstaltung bringen wir die Nachfrage mit dem Angebot und das Problem mit der Lösung in Form von grenzüberschreitenden Kooperationen zusammen. \nWeitere Infos sowie die Kontaktdaten zur kostenlosen Anmeldung finden Sie hier:\nDer smarte Weg zu „Smart Logistics“ \nDie Veranstaltung findet in Englisch statt. Der genaue Veranstaltungsort wird noch bekannt gegeben.
URL:https://www.aachen.digital/en/event/der-smarte-weg-zu-smart-logistics/
LOCATION:Niederlande
ATTACH;FMTTYPE=image/png:https://www.aachen.digital/wp-content/uploads/2019/01/Wirtschaftsstandort_Eus_logo.png
END:VEVENT
END:VCALENDAR