BEGIN:VCALENDAR
VERSION:2.0
PRODID:-//digitalHUB Aachen - ECPv6.15.20//NONSGML v1.0//EN
CALSCALE:GREGORIAN
METHOD:PUBLISH
X-WR-CALNAME:digitalHUB Aachen
X-ORIGINAL-URL:https://www.aachen.digital/en/
X-WR-CALDESC:Events for digitalHUB Aachen
REFRESH-INTERVAL;VALUE=DURATION:PT1H
X-Robots-Tag:noindex
X-PUBLISHED-TTL:PT1H
BEGIN:VTIMEZONE
TZID:Europe/Berlin
BEGIN:DAYLIGHT
TZOFFSETFROM:+0100
TZOFFSETTO:+0200
TZNAME:CEST
DTSTART:20180325T010000
END:DAYLIGHT
BEGIN:STANDARD
TZOFFSETFROM:+0200
TZOFFSETTO:+0100
TZNAME:CET
DTSTART:20181028T010000
END:STANDARD
BEGIN:DAYLIGHT
TZOFFSETFROM:+0100
TZOFFSETTO:+0200
TZNAME:CEST
DTSTART:20190331T010000
END:DAYLIGHT
BEGIN:STANDARD
TZOFFSETFROM:+0200
TZOFFSETTO:+0100
TZNAME:CET
DTSTART:20191027T010000
END:STANDARD
BEGIN:DAYLIGHT
TZOFFSETFROM:+0100
TZOFFSETTO:+0200
TZNAME:CEST
DTSTART:20200329T010000
END:DAYLIGHT
BEGIN:STANDARD
TZOFFSETFROM:+0200
TZOFFSETTO:+0100
TZNAME:CET
DTSTART:20201025T010000
END:STANDARD
END:VTIMEZONE
BEGIN:VEVENT
DTSTART;TZID=Europe/Berlin:20190402T153000
DTEND;TZID=Europe/Berlin:20190402T180000
DTSTAMP:20260423T221400
CREATED:20190206T152604Z
LAST-MODIFIED:20190214T142150Z
UID:10004954-1554219000-1554228000@www.aachen.digital
SUMMARY:Forschung "Made in NRW" – 5 Jahre Johannes-Rau-Forschungsgemeinschaft
DESCRIPTION:Am 2. April 2019 feiert die Johannes-Rau-Forschungsgemeinschaft ihr 5-jähriges Bestehen. Freunde\, Förderer\, Wegbegleiter und die interessierte Öffentlichkeit sind eingeladen\, diesen besonderen Tag mit der JRF in einer Festveranstaltung zu begehen. Abgerundet wird der Nachmittag durch eine Begleitausstellung zum Thema “Forschung und Kooperation in der JRF”\, bei der die Gäste mit allen 15 JRF-Instituten in den Austausch treten können. \nProgramm\n\n15:00 Uhr\nEinlass und Ausstellungsbesichtigung “Forschung und Kooperation in der JRF”\n15:30 Uhr\nEröffnung\, Grußworte und Impulse div. Redner\nz. B. der Landes- und Bundesregierung\, des Landtags und ausgewählter Institute\nanschließend\nPodiumsdiskussion zum Thema\n“Anwendungsorientierte Forschung zur Lösung großer gesellschaftlicher Herausforderungen – Perspektiven aus Wissenschaft\, Gesellschaft\, Wirtschaft und Politik.”\nca. 18:00 Uhr\nEmpfang & Ausstellung\n\nAusstellung “Forschung und Kooperation in der JRF”\n\nAlle 15 JRF-Institute stellen sich vor.\n\nDie FIR-Beteiligung an dieser Veranstaltung\n\nImpulsvortrag “Gesellschaft & Digitalisierung”\nProf. Dr.-Ing. Volker Stich\, Geschäftsführer des FIR e. V.\nDas FIR ist wissenschaftliches Gründungsmitglied der Johannes-Rau-Forschungsgemeinschaft.\n\nDer Eintritt ist frei. Weitere Infos zur Veranstaltung sowie zur Anmeldung finden Sie hier:\nForschung “Made in NRW” – 5 Jahre Johannes-Rau-Forschungsgemeinschaft
URL:https://www.aachen.digital/en/event/forschung-made-in-nrw-5-jahre-johannes-rau-forschungsgemeinschaft/
LOCATION:Nordrhein-Westfälische Akademie der Wissenschaften und der Künste\, Palmenstraße 16\, Düsseldorf\, 40217\, Deutschland
ATTACH;FMTTYPE=image/png:https://www.aachen.digital/wp-content/uploads/2019/02/FIR-Logo_125.png
END:VEVENT
END:VCALENDAR