BEGIN:VCALENDAR
VERSION:2.0
PRODID:-//digitalHUB Aachen - ECPv6.15.20//NONSGML v1.0//EN
CALSCALE:GREGORIAN
METHOD:PUBLISH
X-WR-CALNAME:digitalHUB Aachen
X-ORIGINAL-URL:https://www.aachen.digital/en/
X-WR-CALDESC:Events for digitalHUB Aachen
REFRESH-INTERVAL;VALUE=DURATION:PT1H
X-Robots-Tag:noindex
X-PUBLISHED-TTL:PT1H
BEGIN:VTIMEZONE
TZID:Europe/Berlin
BEGIN:DAYLIGHT
TZOFFSETFROM:+0100
TZOFFSETTO:+0200
TZNAME:CEST
DTSTART:20240331T010000
END:DAYLIGHT
BEGIN:STANDARD
TZOFFSETFROM:+0200
TZOFFSETTO:+0100
TZNAME:CET
DTSTART:20241027T010000
END:STANDARD
BEGIN:DAYLIGHT
TZOFFSETFROM:+0100
TZOFFSETTO:+0200
TZNAME:CEST
DTSTART:20250330T010000
END:DAYLIGHT
BEGIN:STANDARD
TZOFFSETFROM:+0200
TZOFFSETTO:+0100
TZNAME:CET
DTSTART:20251026T010000
END:STANDARD
BEGIN:DAYLIGHT
TZOFFSETFROM:+0100
TZOFFSETTO:+0200
TZNAME:CEST
DTSTART:20260329T010000
END:DAYLIGHT
BEGIN:STANDARD
TZOFFSETFROM:+0200
TZOFFSETTO:+0100
TZNAME:CET
DTSTART:20261025T010000
END:STANDARD
END:VTIMEZONE
BEGIN:VEVENT
DTSTART;TZID=Europe/Berlin:20250129T100000
DTEND;TZID=Europe/Berlin:20250129T133000
DTSTAMP:20260423T153845
CREATED:20250109T094639Z
LAST-MODIFIED:20250109T101452Z
UID:10007144-1738144800-1738157400@www.aachen.digital
SUMMARY:NRW.BANK GovTech DemoDay 2025 „Kommune meets Startup”
DESCRIPTION:Wie können Kommunen und Start-ups in NRW bei der Transformation und auf dem Weg zur Klimaneutralität stärker zusammenarbeiten?\nAuf dem NRW.BANK GovTech DemoDay werden die Expertise und technologische Innovationskraft von Start-ups und Scale-ups aus dem breiten Beratungs- und Finanzierungsnetzwerk der NRW.BANK gezeigt\, die durch öffentliche Kunden der NRW.BANK in die Entwicklung und zur Anwendung kommen können. \nZehn ausgewählte\, innovative Start-ups werden ihre Ideen auf der Bühne des DemoDay persönlich vorstellen. \nHolen Sie sich fachlichen Input für eine Zusammenarbeit und treffen Sie auf dem GovTech DemoDay innovative Start-ups sowie Entscheider:innen aus Kommunen und kommunalen Einrichtungen in NRW. \nHier anmelden und mehr erfahren \n 
URL:https://www.aachen.digital/en/event/nrw-bank-govtech-demoday-2025/
LOCATION:NRW.Bank Düsseldorf\, Kavalleriestraße 22\, Düsseldorf\, Nordrhein-\, 40213\, Germany
ATTACH;FMTTYPE=image/jpeg:https://www.aachen.digital/wp-content/uploads/2025/01/NRW.BANK-GovTech-Demo-Day-16zu9.jpg
END:VEVENT
END:VCALENDAR