BEGIN:VCALENDAR
VERSION:2.0
PRODID:-//digitalHUB Aachen - ECPv6.15.20//NONSGML v1.0//EN
CALSCALE:GREGORIAN
METHOD:PUBLISH
X-ORIGINAL-URL:https://www.aachen.digital/en/
X-WR-CALDESC:Events for digitalHUB Aachen
REFRESH-INTERVAL;VALUE=DURATION:PT1H
X-Robots-Tag:noindex
X-PUBLISHED-TTL:PT1H
BEGIN:VTIMEZONE
TZID:Europe/Berlin
BEGIN:DAYLIGHT
TZOFFSETFROM:+0100
TZOFFSETTO:+0200
TZNAME:CEST
DTSTART:20180325T010000
END:DAYLIGHT
BEGIN:STANDARD
TZOFFSETFROM:+0200
TZOFFSETTO:+0100
TZNAME:CET
DTSTART:20181028T010000
END:STANDARD
BEGIN:DAYLIGHT
TZOFFSETFROM:+0100
TZOFFSETTO:+0200
TZNAME:CEST
DTSTART:20190331T010000
END:DAYLIGHT
BEGIN:STANDARD
TZOFFSETFROM:+0200
TZOFFSETTO:+0100
TZNAME:CET
DTSTART:20191027T010000
END:STANDARD
BEGIN:DAYLIGHT
TZOFFSETFROM:+0100
TZOFFSETTO:+0200
TZNAME:CEST
DTSTART:20200329T010000
END:DAYLIGHT
BEGIN:STANDARD
TZOFFSETFROM:+0200
TZOFFSETTO:+0100
TZNAME:CET
DTSTART:20201025T010000
END:STANDARD
BEGIN:DAYLIGHT
TZOFFSETFROM:+0100
TZOFFSETTO:+0200
TZNAME:CEST
DTSTART:20210328T010000
END:DAYLIGHT
BEGIN:STANDARD
TZOFFSETFROM:+0200
TZOFFSETTO:+0100
TZNAME:CET
DTSTART:20211031T010000
END:STANDARD
BEGIN:DAYLIGHT
TZOFFSETFROM:+0100
TZOFFSETTO:+0200
TZNAME:CEST
DTSTART:20220327T010000
END:DAYLIGHT
BEGIN:STANDARD
TZOFFSETFROM:+0200
TZOFFSETTO:+0100
TZNAME:CET
DTSTART:20221030T010000
END:STANDARD
BEGIN:DAYLIGHT
TZOFFSETFROM:+0100
TZOFFSETTO:+0200
TZNAME:CEST
DTSTART:20230326T010000
END:DAYLIGHT
BEGIN:STANDARD
TZOFFSETFROM:+0200
TZOFFSETTO:+0100
TZNAME:CET
DTSTART:20231029T010000
END:STANDARD
BEGIN:DAYLIGHT
TZOFFSETFROM:+0100
TZOFFSETTO:+0200
TZNAME:CEST
DTSTART:20240331T010000
END:DAYLIGHT
BEGIN:STANDARD
TZOFFSETFROM:+0200
TZOFFSETTO:+0100
TZNAME:CET
DTSTART:20241027T010000
END:STANDARD
BEGIN:DAYLIGHT
TZOFFSETFROM:+0100
TZOFFSETTO:+0200
TZNAME:CEST
DTSTART:20250330T010000
END:DAYLIGHT
BEGIN:STANDARD
TZOFFSETFROM:+0200
TZOFFSETTO:+0100
TZNAME:CET
DTSTART:20251026T010000
END:STANDARD
BEGIN:DAYLIGHT
TZOFFSETFROM:+0100
TZOFFSETTO:+0200
TZNAME:CEST
DTSTART:20260329T010000
END:DAYLIGHT
BEGIN:STANDARD
TZOFFSETFROM:+0200
TZOFFSETTO:+0100
TZNAME:CET
DTSTART:20261025T010000
END:STANDARD
END:VTIMEZONE
BEGIN:VEVENT
DTSTART;TZID=Europe/Berlin:20250828T180000
DTEND;TZID=Europe/Berlin:20250829T000000
DTSTAMP:20260423T191642
CREATED:20250805T130720Z
LAST-MODIFIED:20250805T130720Z
UID:10007402-1756404000-1756425600@www.aachen.digital
SUMMARY:PIRATE Night 2025
DESCRIPTION:What is PIRATE Night? \nPIRATE Night is a raw\, unfiltered celebration of connection\, courage\, and community\, hosted in an unforgettable location. Born from the same spirit that made PIRATE Summit legendary\, this gathering is something different. It’s not a conference. It’s not a party. It’s a shared experience. One where everything feels a little more real\, a little more human. \nA gathering of those who celebrate entrepreneurship and want to meaningfully connect with others that do as well. \nNo badges\, no BS\, no VIPs. Just real conversations\, real fire\, and real people who believe in building things that matter. We bring together startup founders\, investors\, creatives\, and rebels for one night where roles don’t matter and egos are left at the door. \nExpect sparks from campfires\, from ideas\, and from unexpected connections. PIRATE Night is not the encore. It’s the heart of it all. \nWho is it for? \nPIRATE Night is designed for those who shape the future of business: Start-up Founders & Operators\, Investors & Business Angels\, Corporate Innovators & Mid-sized Enterprises\, Ecosystem Builders\, Connectors & Creatives. We welcome people who don’t just attend events — but ignite conversations\, spark collaborations\, and co-create change. \nWhat makes PIRATE Night different? \nForget name tags and stiff handshakes. PIRATE Night is about human encounters over polished pitches. Think: \n\nA curated content block with sharp insights & fast-fire ideas\nImmersive show elements: from fire rituals to rhythmic ceremonies\nLive music and artistic performances\nOpen spaces for organic networking\n\n2025 Theme: #SteerTheMachine \nThis year\, PIRATE Night is not just about what’s new. It’s about what matters. AI is moving fast. It’s helping us create\, automate\, and rethink the way we build. It gives us superpowers. But it also challenges the pace\, the processes\, and the principles we rely on. That’s why the theme for 2025 is #SteerTheMachine. \nWe’re not afraid of AI. We’re fascinated by it. But fascination comes with responsibility. We’re asking the bigger questions. The human questions. \n\nWhat happens when machines can build anything?\nWhich choices are too important to automate?\nWhere do we want to maintain agency\, and where are we ready to hand it over?\n\nThis isn’t humans versus AI. It’s humans with AI\, but only if we stay intentional. At PIRATE Night\, we’ll explore what this means for startups\, for teams\, and for society. Expect honest conversations\, sharp perspectives\, and moments that invite you to pause\, reflect\, and take the wheel. The future belongs to those who choose their direction. Let’s #SteerTheMachine. \nVC Think Tank \nThis year at PIRATE Night\, we’re carving out space just for VCs. The VC Think Tank is an invite-only session happening on-site right before the main PIRATE Night program kicks off. It’s designed by venture capitalists\, for venture capitalists. No pitches. No panels. No keynotes. Just real\, off-the-record conversations about what’s shaping venture today. This is a peer-level space for open exchange. Expect curated breakouts\, sharp insights\, and the kind of conversations that rarely happen in public. \nApply to join here.\nParticipation is free\, but a PIRATE Night ticket is required. \nTickets: No One Comes Alone \nPIRATE Night is all about connection. And the best connections happen when you share the moment. That’s why tickets come in bundles only. Bring your co-founder\, your investor\, your mentor\, or that one person you’ve been meaning to catch up with. Come as a pair. Or as a crew. \nWant to support the mission? Grab a Supporter or Patron Ticket to help others join the night. \nFlying in from abroad? We’ve got you. Reach out and we’ll make it happen. \nWhy Attend? Because the world doesn’t need more panels. It needs more places to connect with purpose. And PIRATE Night is exactly that. Join us and become part of the energy that transforms conversations into collaborations. \nMore Information: https://piratesummit.com/pirate-night/ \nGet in touch with the team: participate@piratesummit.com
URL:https://www.aachen.digital/en/event/pirate-night-2025/
LOCATION:Odonien\, Hornstraße 85\, Köln\, 50823\, Deutschland
ATTACH;FMTTYPE=image/jpeg:https://www.aachen.digital/wp-content/uploads/2025/08/Pirate-Night-.jpg
END:VEVENT
BEGIN:VEVENT
DTSTART;TZID=Europe/Berlin:20240905T173000
DTEND;TZID=Europe/Berlin:20240905T233000
DTSTAMP:20260423T191642
CREATED:20240805T100226Z
LAST-MODIFIED:20240805T100226Z
UID:10006843-1725557400-1725579000@www.aachen.digital
SUMMARY:PIRATE NIGHT - Reunion for the PIRATE Summit community
DESCRIPTION:Get ready to hoist the sails for PIRATE Night – the reunion of the PIRATE Summit community! \nMark your calendars for September 5th\, 2024\, because we’re dropping anchor at our beloved Odonien in Cologne\, Germany. It’s going to be a night to remember! \nPicture this: a cozy gathering of like-minded souls from the startup world. We’re talking entrepreneurs\, investors\, and all of you wonderful folks who make the ecosystem thrive. It’s all about connecting\, celebrating\, and having a blast together! \nWe’re cooking up a storm with: \n\nA mouth-watering barbecue\nAn open bar\nRoaring fires to watch and gather around\nA few inspiring keynotes to spark your imagination\nA treasure chest of surprises and fun activities\nThe legendary PIRATE party\nIt’s shaping up to be a classic PIRATE-style evening\, full of warm-heartedness\, laughter\, inspiration\, and maybe a little bit of mischief.\n\nOh\, and here’s the best part: your ticket includes ALL food\, drinks\, and entertainment. \nFind out more & book a Ticket
URL:https://www.aachen.digital/en/event/pirate-night-reunion-for-the-pirate-summit-community/
LOCATION:Odonien\, Hornstraße 85\, Köln\, 50823\, Deutschland
ATTACH;FMTTYPE=image/jpeg:https://www.aachen.digital/wp-content/uploads/2024/08/Pirate-night-stage.jpg
END:VEVENT
BEGIN:VEVENT
DTSTART;VALUE=DATE:20230627
DTEND;VALUE=DATE:20230630
DTSTAMP:20260423T191642
CREATED:20230110T134735Z
LAST-MODIFIED:20230619T083230Z
UID:10006391-1687824000-1688083199@www.aachen.digital
SUMMARY:PIRATE Summit 2023
DESCRIPTION:#RaiseYourself\nPIRATE Summit is the yearly gathering of entrepreneurs that love to solve real problems and build durable businesses.\nAlthough technology is discussed at PIRATE Summit\, it actually isn’t a tech conference. It is a conference for those that understand that they are the captain of their life. After all\, life is a possibility\, and it is what you make of it.\nAs such\, PIRATE Summit is more a conference about entrepreneurship. About exploring the world and ourselves and shaping it into something better.\nOn June 27th the final start-ups of the OUT OF THE BOX.NRW competition will pitch once again in front of the jury and the audience and compete for a total of 50\,000 euros in prize money. The winner will be announced at the PIRATE Summit.\nGet more informations!
URL:https://www.aachen.digital/en/event/pirate-summit-2023/
LOCATION:Odonien\, Hornstraße 85\, Köln\, 50823\, Deutschland
ATTACH;FMTTYPE=image/jpeg:https://www.aachen.digital/wp-content/uploads/2023/01/PirateSummit-2023--scaled.jpg
END:VEVENT
BEGIN:VEVENT
DTSTART;TZID=Europe/Berlin:20220907T180000
DTEND;TZID=Europe/Berlin:20220907T210000
DTSTAMP:20260423T191642
CREATED:20220815T144652Z
LAST-MODIFIED:20220901T100454Z
UID:10006291-1662573600-1662584400@www.aachen.digital
SUMMARY:OUT OF THE BOX.NRW AWARD 2022
DESCRIPTION:Im Rahmen des PIRATE SUMMIT
URL:https://www.aachen.digital/en/event/out-of-the-box-nrw-award-2022/
LOCATION:Odonien\, Hornstraße 85\, Köln\, 50823\, Deutschland
ATTACH;FMTTYPE=image/jpeg:https://www.aachen.digital/wp-content/uploads/2022/08/pirate-summit-OOTB-stage.jpg
END:VEVENT
BEGIN:VEVENT
DTSTART;TZID=Europe/Berlin:20220906T140000
DTEND;TZID=Europe/Berlin:20220907T220000
DTSTAMP:20260423T191642
CREATED:20220427T113823Z
LAST-MODIFIED:20220815T151137Z
UID:10006233-1662472800-1662588000@www.aachen.digital
SUMMARY:PIRATE Summit 2022
DESCRIPTION:#RaiseYourself  \nPIRATE Summit is the yearly gathering of entrepreneurs that love to solve real problems and build durable businesses. \nAlthough technology is discussed at PIRATE Summit\, it actually isn’t a tech conference. It is a conference for those that understand that they are the captain of their life. After all\, life is a possibility\, and it is what you make of it. \nAs such\, PIRATE Summit is more a conference about entrepreneurship. About exploring the world and ourselves and shaping it into something better. \nOn the 7. September the ten final start-ups of the OUT OF THE BOX.NRW competition will pitch once again in front of the jury and the audience and compete for a total of 50\,000 euros in prize money. The winner will be announced at the  PIRATE Summit. \nGet more informations! \n 
URL:https://www.aachen.digital/en/event/pirate-summit-2022/
LOCATION:Odonien\, Hornstraße 85\, Köln\, 50823\, Deutschland
ATTACH;FMTTYPE=image/jpeg:https://www.aachen.digital/wp-content/uploads/2022/04/pirate-summit-stage.jpg
END:VEVENT
BEGIN:VEVENT
DTSTART;VALUE=DATE:20190626
DTEND;VALUE=DATE:20190629
DTSTAMP:20260423T191642
CREATED:20190606T111817Z
LAST-MODIFIED:20190606T111817Z
UID:10005331-1561507200-1561766399@www.aachen.digital
SUMMARY:Pirate Summit
DESCRIPTION:The PIRATE Summit\nPIRATE Summit brings together the movers and shakers of the digital world.\nWe’re Europe’s largest invitation-only conference for early-stage startups\, investors\, and corporate executives.\nThe PIRATE Summit represents true grassroots entrepreneurship: authentic\, crazy & real. \n#intheblack\nWhen we were thinking about building a startup conference in 2010 we wanted to organize it around the people that have the urge to create something meaningful. At their own pace. Around founders. And that’s why we called it PIRATE Summit.\nBeing profitable should be cool and celebrated. We need more founders that are proud of it and talk about it that way. Founders that build businesses on their own terms. That’s why we made #intheblack the overarching theme for PIRATE Summit 2019. \nAgenda\, Tickets & alle Infos
URL:https://www.aachen.digital/en/event/pirate-summit/
LOCATION:Odonien\, Hornstraße 85\, Köln\, 50823\, Deutschland
ATTACH;FMTTYPE=image/jpeg:https://www.aachen.digital/wp-content/uploads/2019/06/Pirate-Summit.jpg
END:VEVENT
END:VCALENDAR