BEGIN:VCALENDAR
VERSION:2.0
PRODID:-//digitalHUB Aachen - ECPv6.15.20//NONSGML v1.0//EN
CALSCALE:GREGORIAN
METHOD:PUBLISH
X-ORIGINAL-URL:https://www.aachen.digital/en/
X-WR-CALDESC:Events for digitalHUB Aachen
REFRESH-INTERVAL;VALUE=DURATION:PT1H
X-Robots-Tag:noindex
X-PUBLISHED-TTL:PT1H
BEGIN:VTIMEZONE
TZID:Europe/Berlin
BEGIN:DAYLIGHT
TZOFFSETFROM:+0100
TZOFFSETTO:+0200
TZNAME:CEST
DTSTART:20180325T010000
END:DAYLIGHT
BEGIN:STANDARD
TZOFFSETFROM:+0200
TZOFFSETTO:+0100
TZNAME:CET
DTSTART:20181028T010000
END:STANDARD
BEGIN:DAYLIGHT
TZOFFSETFROM:+0100
TZOFFSETTO:+0200
TZNAME:CEST
DTSTART:20190331T010000
END:DAYLIGHT
BEGIN:STANDARD
TZOFFSETFROM:+0200
TZOFFSETTO:+0100
TZNAME:CET
DTSTART:20191027T010000
END:STANDARD
BEGIN:DAYLIGHT
TZOFFSETFROM:+0100
TZOFFSETTO:+0200
TZNAME:CEST
DTSTART:20200329T010000
END:DAYLIGHT
BEGIN:STANDARD
TZOFFSETFROM:+0200
TZOFFSETTO:+0100
TZNAME:CET
DTSTART:20201025T010000
END:STANDARD
BEGIN:DAYLIGHT
TZOFFSETFROM:+0100
TZOFFSETTO:+0200
TZNAME:CEST
DTSTART:20210328T010000
END:DAYLIGHT
BEGIN:STANDARD
TZOFFSETFROM:+0200
TZOFFSETTO:+0100
TZNAME:CET
DTSTART:20211031T010000
END:STANDARD
BEGIN:DAYLIGHT
TZOFFSETFROM:+0100
TZOFFSETTO:+0200
TZNAME:CEST
DTSTART:20220327T010000
END:DAYLIGHT
BEGIN:STANDARD
TZOFFSETFROM:+0200
TZOFFSETTO:+0100
TZNAME:CET
DTSTART:20221030T010000
END:STANDARD
BEGIN:DAYLIGHT
TZOFFSETFROM:+0100
TZOFFSETTO:+0200
TZNAME:CEST
DTSTART:20230326T010000
END:DAYLIGHT
BEGIN:STANDARD
TZOFFSETFROM:+0200
TZOFFSETTO:+0100
TZNAME:CET
DTSTART:20231029T010000
END:STANDARD
BEGIN:DAYLIGHT
TZOFFSETFROM:+0100
TZOFFSETTO:+0200
TZNAME:CEST
DTSTART:20240331T010000
END:DAYLIGHT
BEGIN:STANDARD
TZOFFSETFROM:+0200
TZOFFSETTO:+0100
TZNAME:CET
DTSTART:20241027T010000
END:STANDARD
END:VTIMEZONE
BEGIN:VEVENT
DTSTART;TZID=Europe/Berlin:20230315T180000
DTEND;TZID=Europe/Berlin:20230315T210000
DTSTAMP:20260423T180258
CREATED:20230215T090628Z
LAST-MODIFIED:20230223T102141Z
UID:10006423-1678903200-1678914000@www.aachen.digital
SUMMARY:Impact Investing – eine Antwort auf die Krisen unserer Zeit?
DESCRIPTION:Unternehmen gestalten ihre eigene Zukunft durch wirksame und nachhaltige Investitionen. Aber auch die Zukunft unserer Gesellschaft\, unseres Miteinanders\, unseres Ökosystems. \nWie ermöglichen innovative Zukunftsinvestitionen und Geschäftsmodelle ein nachhaltiges Wirtschaften\, das Rendite\, Werte und Ökologie miteinander in Einklang bringt? \nDiese spannenden Zusammenhänge wird der Autor\, Unternehmer und Investor Stefan Fritz auf dem 6. Unternehmerdialog in Aachen aufzeigen. Denn unabhängig von gesetzlichen Vorgaben macht es Sinn\, Investitionen und Geschäftsmodelle von Unternehmen\, Startups und NGO dorthin zu lenken\, wo sie den größten Einfluss auf gesellschaftliche und ökologische Fragestellungen haben. So stehen werteorientiertes Unternehmertum und Social Entrepreneurship beim “Impact Investing” im Mittelpunkt. \nEs erwarten Sie spannende Impulse und Dialoge. \nZUR ANMELDUNG \nNutzen Sie für die Berichterstattung gerne den Hashtag #Unternehmerdialog23
URL:https://www.aachen.digital/en/event/impact-investing-eine-antwort-auf-die-krisen-unserer-zeit/
LOCATION:Ökumenische Citykirche St. Nikolaus\, An der Nikolauskirche 3\, Aachen\, 52062\, Deutschland
ATTACH;FMTTYPE=image/jpeg:https://www.aachen.digital/wp-content/uploads/2023/02/ImpactInvesting_stage.jpg
END:VEVENT
BEGIN:VEVENT
DTSTART;TZID=Europe/Berlin:20190605T180000
DTEND;TZID=Europe/Berlin:20190605T210000
DTSTAMP:20260423T180258
CREATED:20190528T071213Z
LAST-MODIFIED:20190528T072230Z
UID:10005017-1559757600-1559768400@www.aachen.digital
SUMMARY:Dialogtagung "Digitale Souveränität und Künstliche Intelligenz – Chancen\, Werte\, Regeln
DESCRIPTION:Digitale Souveränität und Künstliche Intelligenz – Chancen\, Werte\, Regeln \nDer digitale Wandel wirft große Fragen auf: Wie reagieren Wirtschaft und Gesellschaft auf die Veränderungen und gestalten selbstbewusst die Zukunft? Wie behalten sie dabei die Kontrolle über ihre Daten und über Entscheidungen intelligenter Maschinen?\nDer Druck\, sich über ethische und praktische Leitplanken zu verständigen\, wächst mit der rasanten Entwicklung Künstlicher Intelligenz und des Internets der Dinge erheblich. Digitale Souveränität auf der Basis europäischer und christlicher Werte ermöglicht individuelle und ökonomische Selbstbestimmtheit und Gestaltungskraft auf dem Weg in die Zukunft.\nWir freuen uns auf Sie und unseren interdisziplinären Dialog zu den Chancen\, Werten und Regeln digitaler Souveränität. \nDatum: Mittwoch\, 5. Juni 2019 18:00 – 21:00\nOrt: Ökumenische Citykirche St. Nikolaus\, An der Nikolauskirche 3\, 52062 Aachen\nAnmeldung per E-Mail an: fundraising@bistum-aachen.de \nWeitere Informationen \n*********\nSave the Date:\n13.6.2019: 6. Treffen der Fokusgruppe “Corporate Social Responsibility & Social Entrepreneurship” in der digitalCHURCH von 15-17 Uhr\n********** \n 
URL:https://www.aachen.digital/en/event/dialogtagung-digitale-souveraenitaet-und-kuenstliche-intelligenz-chancen-werte-regeln/
LOCATION:Ökumenische Citykirche St. Nikolaus\, An der Nikolauskirche 3\, Aachen\, 52062\, Deutschland
ATTACH;FMTTYPE=image/jpeg:https://www.aachen.digital/wp-content/uploads/2019/05/BIS12957_Einladungskarte_Unternehmerdialog_2019_RZ_web.jpg_1634885372.jpg
ORGANIZER;CN="Bistum Aachen":MAILTO:kommunikation@bistum-aachen.de
END:VEVENT
END:VCALENDAR