BEGIN:VCALENDAR
VERSION:2.0
PRODID:-//digitalHUB Aachen - ECPv6.15.20//NONSGML v1.0//EN
CALSCALE:GREGORIAN
METHOD:PUBLISH
X-WR-CALNAME:digitalHUB Aachen
X-ORIGINAL-URL:https://www.aachen.digital/en/
X-WR-CALDESC:Events for digitalHUB Aachen
REFRESH-INTERVAL;VALUE=DURATION:PT1H
X-Robots-Tag:noindex
X-PUBLISHED-TTL:PT1H
BEGIN:VTIMEZONE
TZID:Europe/Berlin
BEGIN:DAYLIGHT
TZOFFSETFROM:+0100
TZOFFSETTO:+0200
TZNAME:CEST
DTSTART:20200329T010000
END:DAYLIGHT
BEGIN:STANDARD
TZOFFSETFROM:+0200
TZOFFSETTO:+0100
TZNAME:CET
DTSTART:20201025T010000
END:STANDARD
BEGIN:DAYLIGHT
TZOFFSETFROM:+0100
TZOFFSETTO:+0200
TZNAME:CEST
DTSTART:20210328T010000
END:DAYLIGHT
BEGIN:STANDARD
TZOFFSETFROM:+0200
TZOFFSETTO:+0100
TZNAME:CET
DTSTART:20211031T010000
END:STANDARD
BEGIN:DAYLIGHT
TZOFFSETFROM:+0100
TZOFFSETTO:+0200
TZNAME:CEST
DTSTART:20220327T010000
END:DAYLIGHT
BEGIN:STANDARD
TZOFFSETFROM:+0200
TZOFFSETTO:+0100
TZNAME:CET
DTSTART:20221030T010000
END:STANDARD
BEGIN:DAYLIGHT
TZOFFSETFROM:+0100
TZOFFSETTO:+0200
TZNAME:CEST
DTSTART:20230326T010000
END:DAYLIGHT
BEGIN:STANDARD
TZOFFSETFROM:+0200
TZOFFSETTO:+0100
TZNAME:CET
DTSTART:20231029T010000
END:STANDARD
BEGIN:DAYLIGHT
TZOFFSETFROM:+0100
TZOFFSETTO:+0200
TZNAME:CEST
DTSTART:20240331T010000
END:DAYLIGHT
BEGIN:STANDARD
TZOFFSETFROM:+0200
TZOFFSETTO:+0100
TZNAME:CET
DTSTART:20241027T010000
END:STANDARD
BEGIN:DAYLIGHT
TZOFFSETFROM:+0100
TZOFFSETTO:+0200
TZNAME:CEST
DTSTART:20250330T010000
END:DAYLIGHT
BEGIN:STANDARD
TZOFFSETFROM:+0200
TZOFFSETTO:+0100
TZNAME:CET
DTSTART:20251026T010000
END:STANDARD
BEGIN:DAYLIGHT
TZOFFSETFROM:+0100
TZOFFSETTO:+0200
TZNAME:CEST
DTSTART:20260329T010000
END:DAYLIGHT
BEGIN:STANDARD
TZOFFSETFROM:+0200
TZOFFSETTO:+0100
TZNAME:CET
DTSTART:20261025T010000
END:STANDARD
BEGIN:DAYLIGHT
TZOFFSETFROM:+0100
TZOFFSETTO:+0200
TZNAME:CEST
DTSTART:20270328T010000
END:DAYLIGHT
BEGIN:STANDARD
TZOFFSETFROM:+0200
TZOFFSETTO:+0100
TZNAME:CET
DTSTART:20271031T010000
END:STANDARD
END:VTIMEZONE
BEGIN:VEVENT
DTSTART;TZID=Europe/Berlin:20260415T163000
DTEND;TZID=Europe/Berlin:20260415T180000
DTSTAMP:20260423T164148
CREATED:20260108T162620Z
LAST-MODIFIED:20260108T162620Z
UID:10007632-1776270600-1776276000@www.aachen.digital
SUMMARY:Fokusgruppentreffen Sustainability & Social Entrepreneurship
DESCRIPTION:Wir treffen uns regelmäßig jeden dritten Mittwoch im Monat zum Austausch zu aktuellen Trends und Themen\, zum Netzwerken und um Projekte und Ideen umzusetzen. Eingeladen sind Mitglieder der Fokusgruppe und des digitalHUB\, aber auch Nichtmitglieder wie Startups\, Initiativen und NGOs\, denen die Themen Sustainability und Social Entrepreneurship am Herzen liegen. \nDie Treffen finden hybrid von 16:30–18:00 Uhr statt. \nvor Ort: \ndigitalCHURCH – der Raum wird jeweils vor der Veranstaltung bekannt gegeben \nJülicher Str. 72a\, 52070 Aachen \nonline: \nOnline Besprechungslink \nANMELDUNG \n 
URL:https://www.aachen.digital/en/event/fokusgruppentreffen-sustainability-social-entrepreneurship/2026-04-15/
LOCATION:online & digitalHUB\, Jülicher Str. 72a\, Aachen\, 52070
ATTACH;FMTTYPE=image/webp:https://www.aachen.digital/wp-content/uploads/2026/01/fokusgruppentreffen-sustainability.webp
ORGANIZER;CN="digitalHUB Aachen":MAILTO:kontakt@hubaachen.de
END:VEVENT
BEGIN:VEVENT
DTSTART;TZID=Europe/Berlin:20260318T163000
DTEND;TZID=Europe/Berlin:20260318T180000
DTSTAMP:20260423T164148
CREATED:20260108T162620Z
LAST-MODIFIED:20260108T162620Z
UID:10007631-1773851400-1773856800@www.aachen.digital
SUMMARY:Fokusgruppentreffen Sustainability & Social Entrepreneurship
DESCRIPTION:Wir treffen uns regelmäßig jeden dritten Mittwoch im Monat zum Austausch zu aktuellen Trends und Themen\, zum Netzwerken und um Projekte und Ideen umzusetzen. Eingeladen sind Mitglieder der Fokusgruppe und des digitalHUB\, aber auch Nichtmitglieder wie Startups\, Initiativen und NGOs\, denen die Themen Sustainability und Social Entrepreneurship am Herzen liegen. \nDie Treffen finden hybrid von 16:30–18:00 Uhr statt. \nvor Ort: \ndigitalCHURCH – der Raum wird jeweils vor der Veranstaltung bekannt gegeben \nJülicher Str. 72a\, 52070 Aachen \nonline: \nOnline Besprechungslink \nANMELDUNG \n 
URL:https://www.aachen.digital/en/event/fokusgruppentreffen-sustainability-social-entrepreneurship/2026-03-18/
LOCATION:online & digitalHUB\, Jülicher Str. 72a\, Aachen\, 52070
ATTACH;FMTTYPE=image/webp:https://www.aachen.digital/wp-content/uploads/2026/01/fokusgruppentreffen-sustainability.webp
ORGANIZER;CN="digitalHUB Aachen":MAILTO:kontakt@hubaachen.de
END:VEVENT
BEGIN:VEVENT
DTSTART;TZID=Europe/Berlin:20260218T163000
DTEND;TZID=Europe/Berlin:20260218T180000
DTSTAMP:20260423T164148
CREATED:20260108T162620Z
LAST-MODIFIED:20260108T162620Z
UID:10007630-1771432200-1771437600@www.aachen.digital
SUMMARY:Fokusgruppentreffen Sustainability & Social Entrepreneurship
DESCRIPTION:Wir treffen uns regelmäßig jeden dritten Mittwoch im Monat zum Austausch zu aktuellen Trends und Themen\, zum Netzwerken und um Projekte und Ideen umzusetzen. Eingeladen sind Mitglieder der Fokusgruppe und des digitalHUB\, aber auch Nichtmitglieder wie Startups\, Initiativen und NGOs\, denen die Themen Sustainability und Social Entrepreneurship am Herzen liegen. \nDie Treffen finden hybrid von 16:30–18:00 Uhr statt. \nvor Ort: \ndigitalCHURCH – der Raum wird jeweils vor der Veranstaltung bekannt gegeben \nJülicher Str. 72a\, 52070 Aachen \nonline: \nOnline Besprechungslink \nANMELDUNG \n 
URL:https://www.aachen.digital/en/event/fokusgruppentreffen-sustainability-social-entrepreneurship/2026-02-18/
LOCATION:online & digitalHUB\, Jülicher Str. 72a\, Aachen\, 52070
ATTACH;FMTTYPE=image/webp:https://www.aachen.digital/wp-content/uploads/2026/01/fokusgruppentreffen-sustainability.webp
ORGANIZER;CN="digitalHUB Aachen":MAILTO:kontakt@hubaachen.de
END:VEVENT
BEGIN:VEVENT
DTSTART;TZID=Europe/Berlin:20260121T163000
DTEND;TZID=Europe/Berlin:20260121T180000
DTSTAMP:20260423T164148
CREATED:20260108T162620Z
LAST-MODIFIED:20260108T162620Z
UID:10007618-1769013000-1769018400@www.aachen.digital
SUMMARY:Fokusgruppentreffen Sustainability & Social Entrepreneurship
DESCRIPTION:Wir treffen uns regelmäßig jeden dritten Mittwoch im Monat zum Austausch zu aktuellen Trends und Themen\, zum Netzwerken und um Projekte und Ideen umzusetzen. Eingeladen sind Mitglieder der Fokusgruppe und des digitalHUB\, aber auch Nichtmitglieder wie Startups\, Initiativen und NGOs\, denen die Themen Sustainability und Social Entrepreneurship am Herzen liegen. \nDie Treffen finden hybrid von 16:30–18:00 Uhr statt. \nvor Ort: \ndigitalCHURCH – der Raum wird jeweils vor der Veranstaltung bekannt gegeben \nJülicher Str. 72a\, 52070 Aachen \nonline: \nOnline Besprechungslink \nANMELDUNG \n 
URL:https://www.aachen.digital/en/event/fokusgruppentreffen-sustainability-social-entrepreneurship/2026-01-21/
LOCATION:online & digitalHUB\, Jülicher Str. 72a\, Aachen\, 52070
ATTACH;FMTTYPE=image/webp:https://www.aachen.digital/wp-content/uploads/2026/01/fokusgruppentreffen-sustainability.webp
ORGANIZER;CN="digitalHUB Aachen":MAILTO:kontakt@hubaachen.de
END:VEVENT
BEGIN:VEVENT
DTSTART;TZID=Europe/Berlin:20251015T163000
DTEND;TZID=Europe/Berlin:20251015T180000
DTSTAMP:20260423T164148
CREATED:20250923T085634Z
LAST-MODIFIED:20251114T141828Z
UID:10007432-1760545800-1760551200@www.aachen.digital
SUMMARY:Treffen der Fokusgruppe Sustainability & Social Entrepreneurship
DESCRIPTION:Wir treffen uns regelmäßig jeden dritten Mittwoch im Monat zum Austausch zu aktuellen Trends und Themen\, zum Netzwerken und um Projekte und Ideen umzusetzen. Eingeladen sind Mitglieder der Fokusgruppe und des DigitalHUB\, aber auch Nichtmitglieder wie Startups\, Initiativen und NGOs\, denen die Themen Sustainability und Social Entrepreneurship am Herzen liegen. \nDie Treffen finden hybrid von 16:30–18:00 Uhr statt: \nVor Ort: \nDigitalChurch – der Raum wird jeweils vor der Veranstaltung bekannt gegeben \nJülicher Str. 72a\, 52070 Aachen \nANMELDUNG \nOnline Besprechungslink: \nhttps://teams.live.com/meet/9353033177099?p=ObuhYoUMflBlq4MwSY 
URL:https://www.aachen.digital/en/event/treffen-der-fokusgruppe-sustainability-social-entrepreneurship/
LOCATION:online & digitalHUB\, Jülicher Str. 72a\, Aachen\, 52070
ATTACH;FMTTYPE=image/jpeg:https://www.aachen.digital/wp-content/uploads/2025/09/Design-ohne-Titel-3.jpg
ORGANIZER;CN="digitalHUB Aachen":MAILTO:kontakt@hubaachen.de
END:VEVENT
BEGIN:VEVENT
DTSTART;TZID=Europe/Berlin:20210921T190000
DTEND;TZID=Europe/Berlin:20210921T210000
DTSTAMP:20260423T164148
CREATED:20210913T131901Z
LAST-MODIFIED:20210913T133112Z
UID:10006012-1632250800-1632258000@www.aachen.digital
SUMMARY:Wahlforum von Aachener Nachrichten und Aachener Zeitung
DESCRIPTION:Bundestagswahl in Aachen: Lokalredaktion fühlt Kandidatinnen und Kandidaten auf den Zahn
URL:https://www.aachen.digital/en/event/wahlforum-von-aachener-nachrichten-und-aachener-zeitung/
LOCATION:online & digitalHUB\, Jülicher Str. 72a\, Aachen\, 52070
ATTACH;FMTTYPE=image/jpeg:https://www.aachen.digital/wp-content/uploads/2021/09/AdobeStock_431673955-scaled.jpeg
END:VEVENT
END:VCALENDAR