BEGIN:VCALENDAR
VERSION:2.0
PRODID:-//digitalHUB Aachen - ECPv6.15.20//NONSGML v1.0//EN
CALSCALE:GREGORIAN
METHOD:PUBLISH
X-WR-CALNAME:digitalHUB Aachen
X-ORIGINAL-URL:https://www.aachen.digital/en/
X-WR-CALDESC:Events for digitalHUB Aachen
REFRESH-INTERVAL;VALUE=DURATION:PT1H
X-Robots-Tag:noindex
X-PUBLISHED-TTL:PT1H
BEGIN:VTIMEZONE
TZID:Europe/Berlin
BEGIN:DAYLIGHT
TZOFFSETFROM:+0100
TZOFFSETTO:+0200
TZNAME:CEST
DTSTART:20210328T010000
END:DAYLIGHT
BEGIN:STANDARD
TZOFFSETFROM:+0200
TZOFFSETTO:+0100
TZNAME:CET
DTSTART:20211031T010000
END:STANDARD
BEGIN:DAYLIGHT
TZOFFSETFROM:+0100
TZOFFSETTO:+0200
TZNAME:CEST
DTSTART:20220327T010000
END:DAYLIGHT
BEGIN:STANDARD
TZOFFSETFROM:+0200
TZOFFSETTO:+0100
TZNAME:CET
DTSTART:20221030T010000
END:STANDARD
BEGIN:DAYLIGHT
TZOFFSETFROM:+0100
TZOFFSETTO:+0200
TZNAME:CEST
DTSTART:20230326T010000
END:DAYLIGHT
BEGIN:STANDARD
TZOFFSETFROM:+0200
TZOFFSETTO:+0100
TZNAME:CET
DTSTART:20231029T010000
END:STANDARD
END:VTIMEZONE
BEGIN:VEVENT
DTSTART;TZID=Europe/Berlin:20220609T163000
DTEND;TZID=Europe/Berlin:20220609T180000
DTSTAMP:20260424T131246
CREATED:20220426T104024Z
LAST-MODIFIED:20220519T124300Z
UID:10006222-1654792200-1654797600@www.aachen.digital
SUMMARY:Plan los! Ausgeschlafen in die Zukunft
DESCRIPTION:Eigentlich bist du ständig müde? Kaffee\, Energydrinks und Cola sind deine besten Freunde\, um einigermaßen fit und wach zu bleiben? Du willst mehr Sport machen und mit der gesunden Ernährung hapert’s auch?! \nIn der dritten Videoshow unserer Eventserie Plan los! – sponsored by AXA machen wir dich fit für deinen Karrierestart. Wir zeigen dir\, was dir zu gutem Schlaf und mehr Wohlbefinden verhilft und wie du es zukünftig schaffst\, Ernährung\, Schlaf und Fitness neben Schule und Berufsstart unter einen Hut zu bekommen. Getreu dem Motto healthy mind – healthy life bekommst du jede Menge Input und Lifehacks für deine gesunde Zukunft von unseren Gästen. \nWeitere Informationen: hier
URL:https://www.aachen.digital/en/event/plan-los-ausgeschlafen-in-die-zukunft/
LOCATION:online
ATTACH;FMTTYPE=image/jpeg:https://www.aachen.digital/wp-content/uploads/2022/04/6-1.jpg
END:VEVENT
BEGIN:VEVENT
DTSTART;TZID=Europe/Berlin:20220607T123000
DTEND;TZID=Europe/Berlin:20220607T130000
DTSTAMP:20260424T131246
CREATED:20220519T135430Z
LAST-MODIFIED:20220523T091644Z
UID:10006247-1654605000-1654606800@www.aachen.digital
SUMMARY:Webinar: Mittelstand Innovativ & Digital
DESCRIPTION:Neue digitale Ideen einfach umsetzen: So entwickeln Sie Ihr Unternehmen mit dem Förderprogramm MID weiter.
URL:https://www.aachen.digital/en/event/webinar-mittelstand-innovativ-digital-2/
LOCATION:online
ATTACH;FMTTYPE=image/jpeg:https://www.aachen.digital/wp-content/uploads/2022/04/MID_Stage.jpg
END:VEVENT
BEGIN:VEVENT
DTSTART;TZID=Europe/Berlin:20220524T123000
DTEND;TZID=Europe/Berlin:20220524T130000
DTSTAMP:20260424T131246
CREATED:20220419T081124Z
LAST-MODIFIED:20220523T091937Z
UID:10006212-1653395400-1653397200@www.aachen.digital
SUMMARY:Webinar: Mittelstand Innovativ & Digital
DESCRIPTION:Neue digitale Ideen einfach umsetzen: So entwickeln Sie Ihr Unternehmen mit dem Förderprogramm MID weiter.
URL:https://www.aachen.digital/en/event/webinar-mittelstand-innovativ-digital/
LOCATION:online
ATTACH;FMTTYPE=image/jpeg:https://www.aachen.digital/wp-content/uploads/2022/04/MID_Stage.jpg
END:VEVENT
BEGIN:VEVENT
DTSTART;TZID=Europe/Berlin:20220520T090000
DTEND;TZID=Europe/Berlin:20220520T130000
DTSTAMP:20260424T131246
CREATED:20220506T124300Z
LAST-MODIFIED:20220506T124300Z
UID:10005679-1653037200-1653051600@www.aachen.digital
SUMMARY:Essential Startup Skills - Pitching
DESCRIPTION:GAIN SUPER POWERS WITH STARTUP SKILLS\nLernt in drei Workshops alles über die essentiellen Startup Skills: Customer Development\, Growth Hacking und Pitching. \n// Mitglieder des digitalHUB Aachen (Startups ab Business Mitgliedschaft & Mittelstand) können kostenlos teilnehmen – schreibt uns bei Interesse eine Mail an events@hubaachen.de // \nDie Hauptgründe für das Scheitern von Innovationen und Startups liegen darin\, dass man nicht weiß\, was die Kunden wirklich brauchen\, dass man sein Publikum nicht erreicht und dass man keine klare und verständliche Botschaft hat. \nIn 3 Workshops bieten wir euch an\, die fundamentalen Grundlagen kennen zu lernen. Die Methoden\, die wir in führenden Startup-Programmen und Innovationsprogrammen für Unternehmen lehren. \nDiese Workshops werden von Parkstad Limburg gesponsert\, um grenzüberschreitende digitale Unternehmen und Unternehmertum zu fördern.
URL:https://www.aachen.digital/en/event/essential-startup-skills-pitching/
LOCATION:online
ATTACH;FMTTYPE=image/jpeg:https://www.aachen.digital/wp-content/uploads/2022/04/startupspirit_stage.jpg
END:VEVENT
BEGIN:VEVENT
DTSTART;TZID=Europe/Berlin:20220519T130000
DTEND;TZID=Europe/Berlin:20220519T170000
DTSTAMP:20260424T131246
CREATED:20220506T121752Z
LAST-MODIFIED:20220506T121817Z
UID:10005678-1652965200-1652979600@www.aachen.digital
SUMMARY:Essential Startup Skills - Customer Development
DESCRIPTION:GAIN SUPER POWERS WITH STARTUP SKILLS\nLernt in drei Workshops alles über die essentiellen Startup Skills: Customer Development\, Growth Hacking und Pitching. \n// Mitglieder des digitalHUB Aachen (Startups ab Business Mitgliedschaft & Mittelstand) können kostenlos teilnehmen – schreibt uns bei Interesse eine Mail an events@hubaachen.de // \nDie Hauptgründe für das Scheitern von Innovationen und Startups liegen darin\, dass man nicht weiß\, was die Kunden wirklich brauchen\, dass man sein Publikum nicht erreicht und dass man keine klare und verständliche Botschaft hat. \nIn 3 Workshops bieten wir euch an\, die fundamentalen Grundlagen kennen zu lernen. Die Methoden\, die wir in führenden Startup-Programmen und Innovationsprogrammen für Unternehmen lehren. \nDiese Workshops werden von Parkstad Limburg gesponsert\, um grenzüberschreitende digitale Unternehmen und Unternehmertum zu fördern.
URL:https://www.aachen.digital/en/event/essential-startup-skills-customer-development/
LOCATION:online
ATTACH;FMTTYPE=image/jpeg:https://www.aachen.digital/wp-content/uploads/2022/04/startupspirit_stage.jpg
END:VEVENT
BEGIN:VEVENT
DTSTART;TZID=Europe/Berlin:20220518T150000
DTEND;TZID=Europe/Berlin:20220518T170000
DTSTAMP:20260424T131246
CREATED:20220411T084850Z
LAST-MODIFIED:20220429T134448Z
UID:10005647-1652886000-1652893200@www.aachen.digital
SUMMARY:EXISTENZIA - Online
DESCRIPTION:Erfolg ist das Ergebnis zielgerichteter und strategischer Arbeit\, die auf einem fundierten Wissen aufbaut. Gießen Sie Ihr stabiles Fundament für den Aufbau einer langfristig tragfähigen und gewinnbringenden Existenz. \nMachen Sie sich auf den Weg und melden Sie sich an! \nSeminargebühr incl. Seminarunterlagen und Teilnahmebescheinigung: 20 Euro \nAnmeldung \nDieses Event findet im Rahmen der STARTUP WEEK AACHEN 2022 statt.
URL:https://www.aachen.digital/en/event/existenzia-online-3/
LOCATION:online
ATTACH;FMTTYPE=image/jpeg:https://www.aachen.digital/wp-content/uploads/2022/04/exist_Gruenderregion_startupweek.jpg
ORGANIZER;CN="Gr%C3%BCnderRegion Aachen":MAILTO:info@gruenderregion.de
END:VEVENT
BEGIN:VEVENT
DTSTART;TZID=Europe/Berlin:20220516T100000
DTEND;TZID=Europe/Berlin:20220516T160000
DTSTAMP:20260424T131246
CREATED:20220407T105517Z
LAST-MODIFIED:20220505T135043Z
UID:10005644-1652695200-1652716800@www.aachen.digital
SUMMARY:Online-Sprechtag "Schutzrechte – Transfer – Förderung"
DESCRIPTION:Experts für Start-ups zum Intellectual Property\nBei unserem Online-Sprechtag zu „Intellectual Property“ bieten wir Start-ups Erstberatungen in verschiedenen Themen durch Experten an: \nAGIT mbH – Experten: Havva Coskun-Dogan\, Senior Consultant\, und Florian Deutz \nBeratung zu allen wichtigen Themen der wirtschaftlichen Umsetzung einer Erfindung: Wirtschaftlichkeit der Idee\, Geschäftsmodell\, F&E-Kooperationen\, Partner für das Prototyping\, Beratung zu Finanzierung. Hilfestellung zu Fördermöglichkeiten\, z. B. durch das Patentprogramm WIPANO\, das ZIM-Programm u. a. sowie bei der Erschließung anderer Finanzierungsquellen\, z.B. Business Angels und Venture Capital als auch bei der Erstellung von Vermarktungs- und/oder Gründungskonzepten. \nKÖNIG | NAEVEN | SCHMETZ Patent- & Rechtsanwälte – Experte: Dr. Ralf Naeven\, Patentanwalt\nBeratung von Start-ups\, kleinen und mittleren Unternehmen sowie Forschungseinrichtungen zu Fragen im Zusammenhang mit Patenten\, Marken\, Designrechten\, Urheberrecht und zum Wettbewerbsrecht. Eine sorgfältige Befassung mit diesen Themen – insbesondere während der Gründungsphase – schafft Freiheiten für die eigene unternehmerische Entwicklung und kann vor unangenehmen Eingriffen durch Wettbewerber schützen. In der Start-up-Phase bieten wir besonders günstige Konditionen an.\nDr. Ralf Naeven ist promovierter Physiker und seit mehr als 25 Jahren als deutscher Patent-anwalt sowie als Vertreter vor dem Europäischen Patentamt und dem für EU-weiten Schutz von Marken und Design zuständigen EUIPO (European Intellectual Property Office) zugelassen. \nPatent- und Normenzentrum PNZ der RWTH Aachen University – Experten: Team PNZ\nInformation und Beratung hinsichtlich einer individuellen Strategie zum Schutz des geistigen Eigentums insbesondere zur Bedeutung von Schutzrechtsrecherchen zur Vermeidung von Nachahmung und Rechtsstreitigkeiten. Dies beinhaltet Erläuterungen zu Schutzrechten\, Verfahren und Kosten; Planung des weiteren Vorgehens\, Fördermöglichkeiten\, Ansprechpartner; begleitete Recherche in Fachdatenbanken\, die professionelle Auftragsrecherche und Monitoring. \nZENIT GmbH – Experte: Benno Weißner\, Senior Consultant\nInformation über aktuelle Fördermöglichkeiten der EU\, Ersteinschätzung Ihrer Projektideen\, gemeinsame Erstellung des Fahrplans für das weitere Vorgehen\,\nInformation und Unterstützung zu den Themen Internationalisierung/ Geschäftspartnersuche über NRW.Europa. \nDie Vergabe von Einzelterminen erfolgt im Zeitraum von 10.00 – 16.00 Uhr. \nEine Terminvereinbarung ist erforderlich spätestens bis zum 12. Mai 2022 bei: \nAGIT mbH\nDaniela Pollin\nTel. 0241/963-1028\nd.pollin@agit.de \nAnmeldung \nDieses Event findet im Rahmen der STARTUP WEEK AACHEN 2022 statt.
URL:https://www.aachen.digital/en/event/online-sprechtag-schutzrechte-transfer-foerderung/
LOCATION:online
ATTACH;FMTTYPE=image/jpeg:https://www.aachen.digital/wp-content/uploads/2022/04/3.jpg
ORGANIZER;CN="AGIT mbH":MAILTO:info@agit.de
END:VEVENT
BEGIN:VEVENT
DTSTART;TZID=Europe/Berlin:20220512T150000
DTEND;TZID=Europe/Berlin:20220512T170000
DTSTAMP:20260424T131246
CREATED:20220329T083437Z
LAST-MODIFIED:20220427T120602Z
UID:10006176-1652367600-1652374800@www.aachen.digital
SUMMARY:Sprechstunde "Cyber-Sicherheit by netsharqs"
DESCRIPTION:Cybersicherheit in Unternehmen \nCyberangriffe – der Alptraum für CIOs und IT-Verantwortliche jeder Branche. Denn genau sie müssen den Datenschutz und die Informationssicherheit ihres Unternehmens verantworten. \nTrotz entsprechender Schutzmaßnahmen werden tatsächlich 65% aller Unternehmen Opfer eines Cyberangriffs (Quelle: Kriminologisches Forschungsinstitut Niedersachsen e.V.) Dabei müssen CIOs jederzeit die Einhaltung der Compliance-Anforderungen in der IT verantworten. \nDas Bundesamt für Sicherheit in der Informationstechnik (BSI) hält einen vollständigen Schutz vor Cyberrisiken nicht für erreichbar. Es geht primär darum\, durch organisatorische und technische Maßnahmen ein Mindestmaß an Cyber-Resilienz zu erreichen. \nZu diesem Sachverhalt zeigt netsharqs euch in einem persönlichen Termin unverbindlich auf\, welche Möglichkeiten sich bieten\, um die wichtigsten Maßnahmen technischer und organisatorischer Art in eurem Unternehmen durchzuführen. So sind beispielsweise Maßnahmen zur Vermeidung von Cyberangriffen als auch Maßnahmen während und nach einem Cyberangriff zu ergreifen\, um den Normalbetrieb möglichst schnell wiederherzustellen. Wir erläutern auch\, wie eine geeignete Cybersicherheitsstrategie für euer Unternehmen aussehen könnte. \nDie Termine dauern eine halbe Stunde pro Beratung. \nDiese Veranstaltung ist exklusiv für Mitglieder des digitalHUB Aachen. Der Einladungslink wird per E-Mail an unsere Mitglieder gesendet. Bei Rückfragen wendet euch an: events@hubaachen.de
URL:https://www.aachen.digital/en/event/sprechstunde-cyber-sicherheit-by-netsharqs-2/
LOCATION:online
ATTACH;FMTTYPE=image/jpeg:https://www.aachen.digital/wp-content/uploads/2021/10/Sprechstunde-netsharqs_stage.jpg
ORGANIZER;CN="digitalHUB Aachen":MAILTO:kontakt@hubaachen.de
END:VEVENT
BEGIN:VEVENT
DTSTART;TZID=Europe/Berlin:20220511T090000
DTEND;TZID=Europe/Berlin:20220511T130000
DTSTAMP:20260424T131246
CREATED:20220426T124347Z
LAST-MODIFIED:20220426T124347Z
UID:10006228-1652259600-1652274000@www.aachen.digital
SUMMARY:Aktionstag „Digitale Sicherheit im Betrieb – Einfach umgesetzt!“
DESCRIPTION:Unter dem Motto „Digitale Sicherheit im Betrieb – einfach umgesetzt!“ veranstaltet DIGITAL.SICHER.NRW – das Kompetenzzentrum für Cybersicherheit in der Wirtschaft in NRW – einen kostenlosen & virtuellen Aktionstag für kleine und mittlere Unternehmen in NRW. \nWährend der digitalen Veranstaltung wird den Teilnehmerinnen und Teilnehmern in acht praxisnahen Sessions vermittelt\, wie sich auch kleinere Unternehmen mit einfachen Mitteln effektiv vor Bedrohungen aus dem digitalen Raum schützen können. In den je 40-minütigen Sessions werden Themen behandelt wie: Die Absicherung der Website oder des Online-Shops\, die Erstellung sicherer Backups oder auch wie eine Sensibilisierung von Mitarbeitenden im Betrieb gelingt. \nDas vollständige Programm und die kostenfreie Anmeldung finden Sie: hier.
URL:https://www.aachen.digital/en/event/aktionstag-digitale-sicherheit-im-betrieb-einfach-umgesetzt/
LOCATION:online
ATTACH;FMTTYPE=image/jpeg:https://www.aachen.digital/wp-content/uploads/2022/04/Digital.Sicher.NRW_.jpg
END:VEVENT
BEGIN:VEVENT
DTSTART;TZID=Europe/Berlin:20220509T090000
DTEND;TZID=Europe/Berlin:20220509T170000
DTSTAMP:20260424T131246
CREATED:20220414T083750Z
LAST-MODIFIED:20220427T115840Z
UID:10006199-1652086800-1652115600@www.aachen.digital
SUMMARY:Sprechstunde von Allianz/Stollenwerk: Effektive und zeitgemäße Absicherung der Unternehmensrisiken von Startup bis KMU
DESCRIPTION:09.05.2022; 09:00 bis 17:00 Uhr\n8 Slots à 1 Stunde\nOnline via Zoom \nAuch bei jungen und dynamischen Unternehmen ist die effektive und kostengünstige Absicherung der wesentlichen Risiken essenziell für den nachhaltigen Geschäftserfolg. Achim Stollenwerk von Allianz/Stollenwerk gibt Ihnen im Zuge der Sprechstunde die Gelegenheit\, in einen ersten offenen und unverbindlichen Austausch über die spezifische Absicherungslage in Ihrem Unternehmen\, egal ob alt oder jung\, zu kommen. \nAnmeldung für Mitglieder unter events@hubaachen.de
URL:https://www.aachen.digital/en/event/sprechstunde-von-allianz-stollenwerk-effektive-und-zeitgemaesse-absicherung-der-unternehmensrisiken-von-startup-bis-kmu-2/
LOCATION:online
ATTACH;FMTTYPE=image/jpeg:https://www.aachen.digital/wp-content/uploads/2022/04/Sprechstunde-Allianz_stage.jpg
END:VEVENT
BEGIN:VEVENT
DTSTART;TZID=Europe/Berlin:20220427T090000
DTEND;TZID=Europe/Berlin:20220427T143000
DTSTAMP:20260424T131246
CREATED:20220127T114234Z
LAST-MODIFIED:20220414T102906Z
UID:10005584-1651050000-1651069800@www.aachen.digital
SUMMARY:Sprechstunde: Digital Analytics by e-dynamics
DESCRIPTION:Data. Insights. Impact: So optimieren Sie Ihren digitalen Auftritt durch Datenanalyse
URL:https://www.aachen.digital/en/event/sprechstunde-digital-analytics-by-e-dynamics-2/
LOCATION:online
ATTACH;FMTTYPE=image/jpeg:https://www.aachen.digital/wp-content/uploads/2021/10/Sprechstunde-eDynamics_stage-1.jpg
ORGANIZER;CN="digitalHUB Aachen":MAILTO:kontakt@hubaachen.de
END:VEVENT
BEGIN:VEVENT
DTSTART;VALUE=DATE:20220405
DTEND;VALUE=DATE:20220407
DTSTAMP:20260424T131246
CREATED:20220125T090843Z
LAST-MODIFIED:20220125T090843Z
UID:10005576-1649116800-1649289599@www.aachen.digital
SUMMARY:Oft vergessen - Planung von IT und Cyber-Security
DESCRIPTION:Insbesondere für Planer:innen\, Architekt:innen und Generalunternehmer:innen\, aber auch für Betreiber:innen wird es immer wichtiger\, frühzeitig auch die IT-Infrastruktur und Themen wir IT und Cyber-Security zu berücksichtigen. \nDurch Fehleinschätzungen oder fehlende Kollisionsplanung werden häufig intensive Abstimmungen mit den unterschiedlichsten Gewerken nötig\, die Verzögerungen oder Mehrkosten verursachen können. Dies gilt es zu vermeiden. \nDie Planung von IT- und Cyber-Security wird oft „vernachlässigt“\, nahezu „vergessen“ und „nachgeschoben“.\nModerne Smart Buildings verzeihen dies oft nicht und erfordern u.a. eine detailierte aktive wie passive IT-Infrastruktur\, eine Planung des Strombedarfs und der Funkdienste innerhalb des Gebäudes\, die weit über eine WLAN-Planung hinaus geht. \nSEMINAR (2 Tage\, hybrid) \nErste Einblicke ins Thema \nDiese Schulung vermittelt kompakt das Basiswissen zu moderner IT und Cyber-Security-Planung in der Bau- und Immobilienbranche. \nDer zweitägige Kurs wird organisiert durch den AACHEN BUILDING EXPERTS  in Zusammenarbeit mit ComConsult. \nOrt:\nDigitalCHURCH Aachen + Online \nTeilnahmegebühr:\n890 EUR zzg. MwSt. für digitalHUB-Mitglieder und ABE-Mitglieder / 1390 EUR zzgl. MwSt. für Nicht-Mitglieder \nHinweis: Teilnehmer:innen\, die auch das Einsteiger-Seminar gebucht haben\, erhalten 100 EUR Ermäßigung auf die o.g. Teilnahmegebühr des 2-Tages-Kurses. \nAnmeldung
URL:https://www.aachen.digital/en/event/oft-vergessen-planung-von-it-und-cyber-security/
LOCATION:online
ATTACH;FMTTYPE=image/jpeg:https://www.aachen.digital/wp-content/uploads/2022/01/ABE.jpg
END:VEVENT
BEGIN:VEVENT
DTSTART;TZID=Europe/Berlin:20220330T163000
DTEND;TZID=Europe/Berlin:20220330T180000
DTSTAMP:20260424T131246
CREATED:20220113T111843Z
LAST-MODIFIED:20220310T111403Z
UID:10006096-1648657800-1648663200@www.aachen.digital
SUMMARY:Urban Utopia Aachen - Karriere in der Kaiserstadt von morgen
DESCRIPTION:Du interessierst dich dafür\, wie Aachen in Zukunft aussehen soll? Du findest es spannend\, wie man Themen wie z.B. Klimaschutz\, Mobilität\, Wohnen und Digitalisierung zukünftig in Aachen umsetzen kann? Dann ist die neue Videoshow Urban Utopia Aachen – Karriere in der Kaiserstadt von morgen genau das Richtige für dich! \nAachen ist viel mehr als Uni\, Printen\, Thermalquellen und karolingische Baukunst! Aachen ist vor allem eins: Eine spannende und sich kontinuierliche weiterentwickelnde Stadt\, die junge Talente wie dich braucht\, um zukunftsfähig zu bleiben. \nIn der Videoshow erfährst du\, welchen Beitrag Startups\, Unternehmen\, Vereine & Initiativen aus Aachen und der Städteregion Aachen zur Gestaltung zukunftsfähiger Lebensräume leisten – und warum sie interessierte Talente wie dich dafür suchen. Sei dabei und gestalte Aachens Zukunft mit! \nWeitere Informationen & Anmeldung
URL:https://www.aachen.digital/en/event/urban-utopia-aachen-karriere-in-der-kaiserstadt-von-morgen/
LOCATION:online
ATTACH;FMTTYPE=image/jpeg:https://www.aachen.digital/wp-content/uploads/2022/01/Urban-Utopia-Aachen-2-1.jpg
END:VEVENT
BEGIN:VEVENT
DTSTART;TZID=Europe/Berlin:20220302T083000
DTEND;TZID=Europe/Berlin:20220302T130000
DTSTAMP:20260424T131246
CREATED:20210802T081354Z
LAST-MODIFIED:20220603T080712Z
UID:10005980-1646209800-1646226000@www.aachen.digital
SUMMARY:Workshop-Reihe "NewWork": #7 Purpose
DESCRIPTION:Ziel des letzten Termins unserer Workshop-Reihe ist es\, dem Sinn auf die Spur zu kommen und diesen explizit zu formulieren. Wofür werden wir (als Gruppe) gebraucht und wofür stehe ich (als Individuum) jeden Morgen auf? Die Antworten darauf bilden den Nukleus für die intrinsische Motivation der Mitarbeiter:innen und sind die Basis für ein zukunftsfähiges und nachhaltiges Geschäftsmodell\, das Kundinnen und Kunden begeistert. \nAnmeldung zum 02.03.2022\, 08:30 – 13:00 Uhr \nAlle Informationen zur Workshop-Reihe finden Sie hier.
URL:https://www.aachen.digital/en/event/7-purpose/
LOCATION:online
ATTACH;FMTTYPE=image/jpeg:https://www.aachen.digital/wp-content/uploads/2021/08/Flieger-4zu3-lila-07-07-07-1.jpg
ORGANIZER;CN="digitalHUB Aachen":MAILTO:kontakt@hubaachen.de
END:VEVENT
BEGIN:VEVENT
DTSTART;TZID=Europe/Berlin:20220217T150000
DTEND;TZID=Europe/Berlin:20220217T170000
DTSTAMP:20260424T131246
CREATED:20220127T105050Z
LAST-MODIFIED:20220221T101852Z
UID:10005583-1645110000-1645117200@www.aachen.digital
SUMMARY:Sprechstunde "Cyber-Sicherheit by netsharqs"
DESCRIPTION:Cybersicherheit in Unternehmen \nCyberangriffe – der Alptraum für CIOs und IT-Verantwortliche jeder Branche. Denn genau sie müssen den Datenschutz und die Informationssicherheit ihres Unternehmens verantworten. \nTrotz entsprechender Schutzmaßnahmen werden tatsächlich 65% aller Unternehmen Opfer eines Cyberangriffs (Quelle: Kriminologisches Forschungsinstitut Niedersachsen e.V.) Dabei müssen CIOs jederzeit die Einhaltung der Compliance-Anforderungen in der IT verantworten. \nDas Bundesamt für Sicherheit in der Informationstechnik (BSI) hält einen vollständigen Schutz vor Cyberrisiken nicht für erreichbar. Es geht primär darum\, durch organisatorische und technische Maßnahmen ein Mindestmaß an Cyber-Resilienz zu erreichen. \nZu diesem Sachverhalt zeigt netsharqs euch in einem persönlichen Termin unverbindlich auf\, welche Möglichkeiten sich bieten\, um die wichtigsten Maßnahmen technischer und organisatorischer Art in eurem Unternehmen durchzuführen. So sind beispielsweise Maßnahmen zur Vermeidung von Cyberangriffen als auch Maßnahmen während und nach einem Cyberangriff zu ergreifen\, um den Normalbetrieb möglichst schnell wiederherzustellen. Wir erläutern auch\, wie eine geeignete Cybersicherheitsstrategie für euer Unternehmen aussehen könnte. \nDie Termine dauern eine halbe Stunde pro Beratung. \nDiese Veranstaltung ist exklusiv für Mitglieder des digitalHUB Aachen. Der Einladungslink wird per E-Mail an unsere Mitglieder gesendet. Bei Rückfragen wendet euch an: events@hubaachen.de \n 
URL:https://www.aachen.digital/en/event/sprechstunde-cyber-sicherheit-by-netsharqs/
LOCATION:online
ATTACH;FMTTYPE=image/jpeg:https://www.aachen.digital/wp-content/uploads/2021/10/Sprechstunde-netsharqs_stage-1.jpg
ORGANIZER;CN="digitalHUB Aachen":MAILTO:kontakt@hubaachen.de
END:VEVENT
BEGIN:VEVENT
DTSTART;TZID=Europe/Berlin:20220215T190000
DTEND;TZID=Europe/Berlin:20220215T210000
DTSTAMP:20260424T131246
CREATED:20220208T135457Z
LAST-MODIFIED:20220208T135457Z
UID:10006106-1644951600-1644958800@www.aachen.digital
SUMMARY:Zwischenprämierung AC² - der Gründungswettbewerb
DESCRIPTION:Am 15. Februar findet die Zwischenprämierung von AC² – der Gründungswettbewerb teilzunehmen. Es werden die zehn aussichtsreichsten Gründungsvorhaben der ersten Wettbewerbsrunde präsentiert. Alle zehn Gründer:innen werden ihre Geschäftsideen live im Stream vorstellen\, und jeweils einen ca. 2 minütigen Pitch halten. Das Publikum wird im Anschluss den besten Pitch des Abends wählen\, und es wird ein Publikumspreis in Höhe von 250\,00 € vergeben. Im Anschluss an den Live-Stream haben Sie Gelegenheit\, die Gründer:innen in einem „Meet the TOP10“ vie Zoom kennen zu lernen. \nBevor die Pitches zu sehen sind\, freuen wir uns über kurze Grußbotschaften von StädteRegionsrat Dr. Tim Grüttemeier\, den Landräten Stephan Pusch\, Wolfgang Spelthahn und Markus Ramers\, sowie der Aachener Oberbürgermeisterin Sybille Keupen. \nDurch den Abend führt Moderator Christian Laudenberg (Geschäftsführer der GründerRegion). \nWeitere Informationen und die Anmeldung finden Sie hier.
URL:https://www.aachen.digital/en/event/workshop-pitch-pitchtraining-fuer-die-top10-phase-1-des-gruendungswettbewerbs/
LOCATION:online
ATTACH;FMTTYPE=image/jpeg:https://www.aachen.digital/wp-content/uploads/2021/11/AC²-Gruendung.jpg
ORGANIZER;CN="Gr%C3%BCnderRegion Aachen":MAILTO:info@gruenderregion.de
END:VEVENT
BEGIN:VEVENT
DTSTART;TZID=Europe/Berlin:20220203T190000
DTEND;TZID=Europe/Berlin:20220203T210000
DTSTAMP:20260424T131246
CREATED:20220118T130117Z
LAST-MODIFIED:20220131T115217Z
UID:10005575-1643914800-1643922000@www.aachen.digital
SUMMARY:Mitglieder ComeTogether
DESCRIPTION:Mit Petra Lüschen-Peters zum Thema: „Ende-zu-Ende Denken als Grundlage unternehmerischen Handelns“ \nRohstoffknappheit\, Fachkräftemangel\, Nachhaltigkeit\, Digitalisierung. All diese Herausforderungen müssen Unternehmen bewältigen\, damit sie langfristig erfolgreich bleiben. Wie gelingt es\, diese Schwierigkeiten zu meistern? Wie werden Menschen aus unterschiedlichen Bereichen an diesen Prozessen beteiligt? Und welche Rolle spielen Organisation und Unternehmenskultur? Diese Fragen möchten wir im nächsten Mitglieder ComeTogether mit Ihnen diskutieren. \nIm Anschluss an den Impulsvortrag gibt es wie immer viel Raum für Fragen und Diskussionen. \nAnmeldung über unsere\nMitgliederplattform
URL:https://www.aachen.digital/en/event/mitglieder-cometogether-3/
LOCATION:online
ATTACH;FMTTYPE=image/jpeg:https://www.aachen.digital/wp-content/uploads/2021/12/20191112_Cometogether_Visual_final.jpg
ORGANIZER;CN="digitalHUB Aachen":MAILTO:kontakt@hubaachen.de
END:VEVENT
BEGIN:VEVENT
DTSTART;TZID=Europe/Berlin:20220202T083000
DTEND;TZID=Europe/Berlin:20220202T130000
DTSTAMP:20260424T131246
CREATED:20210802T080916Z
LAST-MODIFIED:20220603T080720Z
UID:10005979-1643790600-1643806800@www.aachen.digital
SUMMARY:Workshop-Reihe "NewWork": #6 Achtsamkeit in Unternehmen
DESCRIPTION:Zukunfts-Skill emotionale Intelligenz\, Achtsamkeit oder Mindfulness – egal\, für welchen Ausdruck wir uns entscheiden: im Mittelpunkt all dieser Begriffe steht die Erkenntnis\, dass in der agilen Arbeitswelt oftmals das Loslassen von erlerntem Verhalten erforderlich ist. Die Transformation der Arbeitswelt verlangt ein hohes Maß an Achtsamkeit\, wenn die Veränderung erfolgreich und nicht „hoppladihopp“ vonstattengehen soll. \nGleichzeitig ist das Thema wesentlich vielschichtiger: der Abbau starrer Hierarchien\, stresssicherer Umgang mit einem hohen Maß an Komplexität und Schnelligkeit\, digital beschleunigte Kommunikation\, Führungskräfte in der Rolle von Coaches… Bei all diesen und weiteren Themen sind Menschen in Organisationen gefordert\, achtsam mit sich umzugehen. Im Workshop nähern wir uns dem Thema Achtsamkeit und die Teilnehmer:innen lernen leicht umsetzbare Methoden und Strategien für sich\, ihr Team oder das ganze Unternehmen kennen. \nAnmeldung zum 02.02.2022\, 08:30 – 13:00 Uhr \nAlle Informationen zur Workshop-Reihe finden Sie hier.
URL:https://www.aachen.digital/en/event/workshop-reihe-new-work-6-achtsamkeit-in-unternehmen/
LOCATION:online
ATTACH;FMTTYPE=image/jpeg:https://www.aachen.digital/wp-content/uploads/2021/08/MicrosoftTeams-image-5.jpg
ORGANIZER;CN="digitalHUB Aachen":MAILTO:kontakt@hubaachen.de
END:VEVENT
BEGIN:VEVENT
DTSTART;TZID=Europe/Berlin:20220126T123000
DTEND;TZID=Europe/Berlin:20220126T130000
DTSTAMP:20260424T131246
CREATED:20220113T082350Z
LAST-MODIFIED:20220217T094526Z
UID:10006093-1643200200-1643202000@www.aachen.digital
SUMMARY:sustainabilityBITS – Sustainability meets Data Science
DESCRIPTION:Sustainability als Datenherausforderung verstehen und angehen\nDie Fokusgruppe Sustainability & Social Entrepreneurship lädt zur fünften Ausgabe der „sustainabilityBITS“ ein. \n 
URL:https://www.aachen.digital/en/event/sustainabilitybits-sustainability-meets-data-science/
LOCATION:online
ATTACH;FMTTYPE=image/jpeg:https://www.aachen.digital/wp-content/uploads/2021/10/Stage-sustainabilityBITS-1.jpg
ORGANIZER;CN="digitalHUB Aachen":MAILTO:kontakt@hubaachen.de
END:VEVENT
BEGIN:VEVENT
DTSTART;TZID=Europe/Berlin:20220119T083000
DTEND;TZID=Europe/Berlin:20220119T130000
DTSTAMP:20260424T131246
CREATED:20210802T080458Z
LAST-MODIFIED:20220603T080728Z
UID:10005976-1642581000-1642597200@www.aachen.digital
SUMMARY:Workshop-Reihe "NewWork": #5 Retrospektiven 
DESCRIPTION:Die Retrospektive stellt ein optionales Ad-on der Workshop-Reihe „Mindset und agile Methoden“ dar. In einer Retrospektive schauen die Teilnehmer:innen gemeinsam zurück und bewerten\, was zuletzt in der Zusammenarbeit gut und was schlecht gelaufen ist. Zusammen werden unterschiedliche Sichtweisen auf Ereignisse eröffnet. Ziel ist es\, Positives zu erkennen und beizubehalten und Veränderungen gemeinsam anzugehen. Die Teilnehmer:innen lernen dabei die Grundlagen der Retrospektive kennen und werden befähigt\, diese in ihrem Team eigenständig durchzuführen. \nAnmeldung zum 19.01.2022\, 08:30 – 13:00 Uhr \nAlle Informationen zur Workshop-Reihe finden Sie hier.
URL:https://www.aachen.digital/en/event/workshop-reihe-new-work-5-retrospektiven/
LOCATION:online
ATTACH;FMTTYPE=image/jpeg:https://www.aachen.digital/wp-content/uploads/2021/08/Flieger-4zu3-tuerkis-02-02-02-2.jpg
ORGANIZER;CN="digitalHUB Aachen":MAILTO:kontakt@hubaachen.de
END:VEVENT
END:VCALENDAR