BEGIN:VCALENDAR
VERSION:2.0
PRODID:-//digitalHUB Aachen - ECPv6.15.20//NONSGML v1.0//EN
CALSCALE:GREGORIAN
METHOD:PUBLISH
X-WR-CALNAME:digitalHUB Aachen
X-ORIGINAL-URL:https://www.aachen.digital/en/
X-WR-CALDESC:Events for digitalHUB Aachen
REFRESH-INTERVAL;VALUE=DURATION:PT1H
X-Robots-Tag:noindex
X-PUBLISHED-TTL:PT1H
BEGIN:VTIMEZONE
TZID:Europe/Berlin
BEGIN:DAYLIGHT
TZOFFSETFROM:+0100
TZOFFSETTO:+0200
TZNAME:CEST
DTSTART:20180325T010000
END:DAYLIGHT
BEGIN:STANDARD
TZOFFSETFROM:+0200
TZOFFSETTO:+0100
TZNAME:CET
DTSTART:20181028T010000
END:STANDARD
BEGIN:DAYLIGHT
TZOFFSETFROM:+0100
TZOFFSETTO:+0200
TZNAME:CEST
DTSTART:20190331T010000
END:DAYLIGHT
BEGIN:STANDARD
TZOFFSETFROM:+0200
TZOFFSETTO:+0100
TZNAME:CET
DTSTART:20191027T010000
END:STANDARD
BEGIN:DAYLIGHT
TZOFFSETFROM:+0100
TZOFFSETTO:+0200
TZNAME:CEST
DTSTART:20200329T010000
END:DAYLIGHT
BEGIN:STANDARD
TZOFFSETFROM:+0200
TZOFFSETTO:+0100
TZNAME:CET
DTSTART:20201025T010000
END:STANDARD
END:VTIMEZONE
BEGIN:VEVENT
DTSTART;TZID=Europe/Berlin:20191030T180000
DTEND;TZID=Europe/Berlin:20191030T213000
DTSTAMP:20260424T021950
CREATED:20190924T082638Z
LAST-MODIFIED:20190924T082638Z
UID:10005421-1572458400-1572471000@www.aachen.digital
SUMMARY:Startup Grind Aachen: GründerTalk
DESCRIPTION:GründerTalk Podiumsdiskussion mit großartigen Gründern und Unternehmern aus Aachen\nStartup Grind ist eine globale Startup-Community\, die sich der Ausbildung\, Inspiration und Vernetzung von Unternehmern widmet. Wir veranstalten monatliche Veranstaltungen in mehr als 500 Städten und 120 Ländern\, bei denen erfolgreiche lokale Unternehmer\, Innovatoren\, Professoren und Investoren persönliche Geschichten und Erfahrungen über den Aufbau großer Unternehmen teilen. \nDieses Event wird in Kooperation mit der GründerRegion Aachen veranstaltet. Die Initiative GründerRegion Aachen wurde 1999 als Dachmarke für rund 40 Einrichtungen aus dem Bereich der Unternehmensförderung ins Leben gerufen. Ziel ist es\, die umfassenden Unterstützungsangebote der beteiligten Institutionen passgenau zu adressieren und den Beratungsprozess weiter zu optimieren. \nErleben Sie mit uns einen Abend voller inspirierender Geschichten und erhalten Sie Einblicke in den Kosmos von Gründung\, Unternehmertum und Innovation. Gelegenheiten zum Erfahrungsaustausch und Networking werden ebenfalls nicht zu kurz kommen! \nDie Veranstaltung ist kostenlos.
URL:https://www.aachen.digital/en/event/startup-grind-aachen-gruendertalk/
LOCATION:Opel Kohl\, Neuenhofstraße 166\, Aachen\, 52078\, Deutschland
ATTACH;FMTTYPE=image/jpeg:https://www.aachen.digital/wp-content/uploads/2019/09/startupgrind_kohl_stage.jpg
END:VEVENT
END:VCALENDAR