BEGIN:VCALENDAR
VERSION:2.0
PRODID:-//digitalHUB Aachen - ECPv6.15.20//NONSGML v1.0//EN
CALSCALE:GREGORIAN
METHOD:PUBLISH
X-ORIGINAL-URL:https://www.aachen.digital/en/
X-WR-CALDESC:Events for digitalHUB Aachen
REFRESH-INTERVAL;VALUE=DURATION:PT1H
X-Robots-Tag:noindex
X-PUBLISHED-TTL:PT1H
BEGIN:VTIMEZONE
TZID:Europe/Berlin
BEGIN:DAYLIGHT
TZOFFSETFROM:+0100
TZOFFSETTO:+0200
TZNAME:CEST
DTSTART:20240331T010000
END:DAYLIGHT
BEGIN:STANDARD
TZOFFSETFROM:+0200
TZOFFSETTO:+0100
TZNAME:CET
DTSTART:20241027T010000
END:STANDARD
BEGIN:DAYLIGHT
TZOFFSETFROM:+0100
TZOFFSETTO:+0200
TZNAME:CEST
DTSTART:20250330T010000
END:DAYLIGHT
BEGIN:STANDARD
TZOFFSETFROM:+0200
TZOFFSETTO:+0100
TZNAME:CET
DTSTART:20251026T010000
END:STANDARD
BEGIN:DAYLIGHT
TZOFFSETFROM:+0100
TZOFFSETTO:+0200
TZNAME:CEST
DTSTART:20260329T010000
END:DAYLIGHT
BEGIN:STANDARD
TZOFFSETFROM:+0200
TZOFFSETTO:+0100
TZNAME:CET
DTSTART:20261025T010000
END:STANDARD
END:VTIMEZONE
BEGIN:VEVENT
DTSTART;TZID=Europe/Berlin:20250628T123000
DTEND;TZID=Europe/Berlin:20250628T170000
DTSTAMP:20260423T203651
CREATED:20250506T063847Z
LAST-MODIFIED:20250506T064328Z
UID:10007315-1751113800-1751130000@www.aachen.digital
SUMMARY:Kleidertausch am Platanenplatz
DESCRIPTION:Kleidung tauschen statt kaufen! \nnAChhaltig angezogen veranstaltet zusammen mit der Fachschaft Biowisssenschaften einen kostenlosen Kleidertausch am Platanenplatz. \nEs dürfen beliebig viele saubere und einwandfreie Kleidungsstücke und Schuhe in Erwachsenengrößen mitgebracht und mitgenommen werden. Es wird nicht 1:1 getauscht; stattdessen wird die Kleidung auf den bereitstehenden Kleiderständern und Tischen verteilt. Die verschiedenen Kategorien (Shirts\, Jeans\, Kleider\, Röcke\, …) sind jeweils ausgeschrieben. Jede:r hat so die Möglichkeit\, sich etwas Passendes auszusuchen. Wenn Du gerade keine Kleidung abzugeben hast\, ist das kein Problem – Du kannst auch ohne selbst Kleidung mitzubringen zum Stöbern vorbeikommen und dir neue Teile aussuchen.\nJede:r ist willkommen\, egal welchen Geschlechts und welchen Alters. \nMehr erfahren!
URL:https://www.aachen.digital/en/event/kleidertausch-am-platanenplatz/
LOCATION:Platanenplatz\, Tempelergraben 64\, Aachen\, 52062\, Germany
ATTACH;FMTTYPE=image/jpeg:https://www.aachen.digital/wp-content/uploads/2025/05/Design-ohne-Titel-70.jpg
END:VEVENT
END:VCALENDAR