BEGIN:VCALENDAR
VERSION:2.0
PRODID:-//digitalHUB Aachen - ECPv6.15.20//NONSGML v1.0//EN
CALSCALE:GREGORIAN
METHOD:PUBLISH
X-WR-CALNAME:digitalHUB Aachen
X-ORIGINAL-URL:https://www.aachen.digital/en/
X-WR-CALDESC:Events for digitalHUB Aachen
REFRESH-INTERVAL;VALUE=DURATION:PT1H
X-Robots-Tag:noindex
X-PUBLISHED-TTL:PT1H
BEGIN:VTIMEZONE
TZID:Europe/Berlin
BEGIN:DAYLIGHT
TZOFFSETFROM:+0100
TZOFFSETTO:+0200
TZNAME:CEST
DTSTART:20210328T010000
END:DAYLIGHT
BEGIN:STANDARD
TZOFFSETFROM:+0200
TZOFFSETTO:+0100
TZNAME:CET
DTSTART:20211031T010000
END:STANDARD
BEGIN:DAYLIGHT
TZOFFSETFROM:+0100
TZOFFSETTO:+0200
TZNAME:CEST
DTSTART:20220327T010000
END:DAYLIGHT
BEGIN:STANDARD
TZOFFSETFROM:+0200
TZOFFSETTO:+0100
TZNAME:CET
DTSTART:20221030T010000
END:STANDARD
BEGIN:DAYLIGHT
TZOFFSETFROM:+0100
TZOFFSETTO:+0200
TZNAME:CEST
DTSTART:20230326T010000
END:DAYLIGHT
BEGIN:STANDARD
TZOFFSETFROM:+0200
TZOFFSETTO:+0100
TZNAME:CET
DTSTART:20231029T010000
END:STANDARD
END:VTIMEZONE
BEGIN:VEVENT
DTSTART;TZID=Europe/Berlin:20220824T140000
DTEND;TZID=Europe/Berlin:20220824T180000
DTSTAMP:20260423T230314
CREATED:20220822T084107Z
LAST-MODIFIED:20220822T084107Z
UID:10006300-1661349600-1661364000@www.aachen.digital
SUMMARY:How to Startup
DESCRIPTION:Du hast schon öfters mit dem Gedanken gespielt\, eine Idee zum Startup zu machen? Die Baubranche ist voller Herausforderungen und Möglichkeiten\, die nur darauf warten\, zu Startups transformiert zu werden. \nAm Startup Tag erhältst Du konkrete Einblicke in die ersten Schritte eines Startups. Erfahrende Gründer*innen aus der Baubranche erzählen live von ihren Erlebnissen und stehen für Fragen zu Verfügung. Im Rahmen des Workshops schauen wir auf Startup Potentiale in der Baubranche. Wie lassen sich diese Potentiale umsetzen? Ist die Umsetzbarkeit realistisch? Gemeinsam gehen wir Schritt für Schritt durch Ideenfindung\, Marktevaluierung bis zum Prototyping. \nEgal ob du bereits etwas über Startups weißt oder Neuling bist\, komm gerne vorbei und lass dich inspirieren. Hier für weitere Informationen und Agenda. \nZUR ANMELDUNG
URL:https://www.aachen.digital/en/event/how-to-startup/
LOCATION:Pop-Up Campus\, Theaterstraße 92\, Aachen\, Deutschland
ATTACH;FMTTYPE=image/jpeg:https://www.aachen.digital/wp-content/uploads/2022/08/AdobeStock_67844411-scaled.jpeg
END:VEVENT
END:VCALENDAR