BEGIN:VCALENDAR
VERSION:2.0
PRODID:-//digitalHUB Aachen - ECPv6.15.20//NONSGML v1.0//EN
CALSCALE:GREGORIAN
METHOD:PUBLISH
X-ORIGINAL-URL:https://www.aachen.digital/en/
X-WR-CALDESC:Events for digitalHUB Aachen
REFRESH-INTERVAL;VALUE=DURATION:PT1H
X-Robots-Tag:noindex
X-PUBLISHED-TTL:PT1H
BEGIN:VTIMEZONE
TZID:Europe/Berlin
BEGIN:DAYLIGHT
TZOFFSETFROM:+0100
TZOFFSETTO:+0200
TZNAME:CEST
DTSTART:20230326T010000
END:DAYLIGHT
BEGIN:STANDARD
TZOFFSETFROM:+0200
TZOFFSETTO:+0100
TZNAME:CET
DTSTART:20231029T010000
END:STANDARD
BEGIN:DAYLIGHT
TZOFFSETFROM:+0100
TZOFFSETTO:+0200
TZNAME:CEST
DTSTART:20240331T010000
END:DAYLIGHT
BEGIN:STANDARD
TZOFFSETFROM:+0200
TZOFFSETTO:+0100
TZNAME:CET
DTSTART:20241027T010000
END:STANDARD
BEGIN:DAYLIGHT
TZOFFSETFROM:+0100
TZOFFSETTO:+0200
TZNAME:CEST
DTSTART:20250330T010000
END:DAYLIGHT
BEGIN:STANDARD
TZOFFSETFROM:+0200
TZOFFSETTO:+0100
TZNAME:CET
DTSTART:20251026T010000
END:STANDARD
END:VTIMEZONE
BEGIN:VEVENT
DTSTART;TZID=Europe/Berlin:20240701T133000
DTEND;TZID=Europe/Berlin:20240701T173000
DTSTAMP:20260424T000747
CREATED:20240521T081253Z
LAST-MODIFIED:20240614T081211Z
UID:10006148-1719840600-1719855000@www.aachen.digital
SUMMARY:Pitch Day
DESCRIPTION:QUBUS PITCH DAYS – Das Event für kreative Köpfe & visionäre Projekte\nQUBUS Ostbelgien\, der Unternehmensinkubator der WFG für Projekt- & Ideenträger\, Jungunternehmen und Startups\, startet in diesem Jahr eine neue Veranstaltungsreihe: Teilnehmer:innen haben bei den sogenannten „PITCH DAYS“ die Möglichkeit\, ihre kreative Projektidee vor Fachleuten zu präsentieren und so Feedback und wertvolle Ratschläge für die Planung und Umsetzung ihrer Businessidee zu erhalten. \nBei diesen Treffen bringt Qubus Personen aus der Wirtschaft und engagierte Projektträger zusammen\, um inspirierende Synergien zu schaffen. Die Veranstaltung bietet somit eine einzigartige Plattform\, auf der Teilnehmer:innen sich nicht nur kennenlernen\, sondern auch wertvolle Einblicke austauschen und potenzielle Kooperationen ins Leben rufen können. In maximal 10-minütigen Präsentationen haben Einzelpersonen oder Gruppen die Möglichkeit\, ihre vielversprechenden Projektideen vorzustellen und Feedback zu erhalten. \nEgal\, ob man bereits konkrete Pläne für die Selbstständigkeit hat oder eine innovative oder kreative Geschäftsidee in die Realität umsetzen möchte\, die „Pitch Days“ bieten die ideale Plattform dafür. Wichtig ist\, dass du eine gute Idee hast. Diese Idee muss nicht unbedingt etwas Neues sein\, denn anders kann auch neu sein. \nDu fühlst dich angesprochen und möchtest deine Idee präsentieren? \nDieses Event ist Teil der STARTUP WEEK AACHEN. \nJetzt anmelden! \n  \nSTARTUP WEEK AACHEN: \nVom 01.07.2024 bis zum 05.07.2024 kommt die gesamte Startup-Szene der Aachener Region zusammen und teilt mit euch Know-how und spannende\, innovative Ideen für die Zukunft! In dieser Woche erwarten euch zahlreiche Veranstaltungen rund um die Themen Startup\, Wachstum\, Digitalisierung und Innovation. Das Angebot reicht von Workshops\, Keynotes und TalkUp Stories bis hin zum TOP-Event: #neuland x atec am 02. und 03.07.2024 (Aachener Technologie- und Entrepreneurship-Kongress). \nZur Webseite
URL:https://www.aachen.digital/en/event/pitch-day/
LOCATION:QUBUS Ostbelgien\, Quartum Business Center\, 3. Etage Hütte 79\, Euo\, Eupen\, B-4700
ATTACH;FMTTYPE=image/jpeg:https://www.aachen.digital/wp-content/uploads/2024/06/stage-startupweek.jpg
END:VEVENT
END:VCALENDAR