BEGIN:VCALENDAR
VERSION:2.0
PRODID:-//digitalHUB Aachen - ECPv6.15.20//NONSGML v1.0//EN
CALSCALE:GREGORIAN
METHOD:PUBLISH
X-ORIGINAL-URL:https://www.aachen.digital/en/
X-WR-CALDESC:Events for digitalHUB Aachen
REFRESH-INTERVAL;VALUE=DURATION:PT1H
X-Robots-Tag:noindex
X-PUBLISHED-TTL:PT1H
BEGIN:VTIMEZONE
TZID:Europe/Berlin
BEGIN:DAYLIGHT
TZOFFSETFROM:+0100
TZOFFSETTO:+0200
TZNAME:CEST
DTSTART:20220327T010000
END:DAYLIGHT
BEGIN:STANDARD
TZOFFSETFROM:+0200
TZOFFSETTO:+0100
TZNAME:CET
DTSTART:20221030T010000
END:STANDARD
BEGIN:DAYLIGHT
TZOFFSETFROM:+0100
TZOFFSETTO:+0200
TZNAME:CEST
DTSTART:20230326T010000
END:DAYLIGHT
BEGIN:STANDARD
TZOFFSETFROM:+0200
TZOFFSETTO:+0100
TZNAME:CET
DTSTART:20231029T010000
END:STANDARD
BEGIN:DAYLIGHT
TZOFFSETFROM:+0100
TZOFFSETTO:+0200
TZNAME:CEST
DTSTART:20240331T010000
END:DAYLIGHT
BEGIN:STANDARD
TZOFFSETFROM:+0200
TZOFFSETTO:+0100
TZNAME:CET
DTSTART:20241027T010000
END:STANDARD
END:VTIMEZONE
BEGIN:VEVENT
DTSTART;TZID=Europe/Berlin:20231012T153000
DTEND;TZID=Europe/Berlin:20231012T170000
DTSTAMP:20260423T220301
CREATED:20231002T080423Z
LAST-MODIFIED:20231002T103558Z
UID:10005965-1697124600-1697130000@www.aachen.digital
SUMMARY:Meet the Founder X Daniel Krauss (Flixbus)
DESCRIPTION:Willkommen zum neuen Format „ Meet the Founder“ \nHierbei wird AC.E euch ins Gespräch mit erfolgreichen Gründer:innen bringen\, denen ihr eure Fragen stellen könnt. \nDen Auftakt dieser neuen Reihe macht Daniel Krauss von Flixbus.\nDaniel Krauss kommt im Rahmen des Unternehmerpreises nach Aachen\, um die Laudatio für Susanne Klatten (BMW Großaktionärin) zu halten. Freut euch also auf eine spannende Q&A Runde mit Daniel Krauss im Krönungssaal der Stadt Aachen. \nWichtig !!! Die ersten 12 Personen\, die ein Ticket buchen\, haben die Chance\, ein exklusives Kombiticket für beide Veranstaltungen zu erhalten. \nZUR ANMELDUNG
URL:https://www.aachen.digital/en/event/meet-the-founder-x-daniel-krauss-flixbus/
LOCATION:Rathaus Aachen\, Markt\, Aachen\, 52062
ATTACH;FMTTYPE=image/jpeg:https://www.aachen.digital/wp-content/uploads/2023/10/meet-the-founder-stage.jpg
END:VEVENT
END:VCALENDAR