BEGIN:VCALENDAR
VERSION:2.0
PRODID:-//digitalHUB Aachen - ECPv6.15.20//NONSGML v1.0//EN
CALSCALE:GREGORIAN
METHOD:PUBLISH
X-WR-CALNAME:digitalHUB Aachen
X-ORIGINAL-URL:https://www.aachen.digital/en/
X-WR-CALDESC:Events for digitalHUB Aachen
REFRESH-INTERVAL;VALUE=DURATION:PT1H
X-Robots-Tag:noindex
X-PUBLISHED-TTL:PT1H
BEGIN:VTIMEZONE
TZID:Europe/Berlin
BEGIN:DAYLIGHT
TZOFFSETFROM:+0100
TZOFFSETTO:+0200
TZNAME:CEST
DTSTART:20190331T010000
END:DAYLIGHT
BEGIN:STANDARD
TZOFFSETFROM:+0200
TZOFFSETTO:+0100
TZNAME:CET
DTSTART:20191027T010000
END:STANDARD
BEGIN:DAYLIGHT
TZOFFSETFROM:+0100
TZOFFSETTO:+0200
TZNAME:CEST
DTSTART:20200329T010000
END:DAYLIGHT
BEGIN:STANDARD
TZOFFSETFROM:+0200
TZOFFSETTO:+0100
TZNAME:CET
DTSTART:20201025T010000
END:STANDARD
BEGIN:DAYLIGHT
TZOFFSETFROM:+0100
TZOFFSETTO:+0200
TZNAME:CEST
DTSTART:20210328T010000
END:DAYLIGHT
BEGIN:STANDARD
TZOFFSETFROM:+0200
TZOFFSETTO:+0100
TZNAME:CET
DTSTART:20211031T010000
END:STANDARD
BEGIN:DAYLIGHT
TZOFFSETFROM:+0100
TZOFFSETTO:+0200
TZNAME:CEST
DTSTART:20220327T010000
END:DAYLIGHT
BEGIN:STANDARD
TZOFFSETFROM:+0200
TZOFFSETTO:+0100
TZNAME:CET
DTSTART:20221030T010000
END:STANDARD
BEGIN:DAYLIGHT
TZOFFSETFROM:+0100
TZOFFSETTO:+0200
TZNAME:CEST
DTSTART:20230326T010000
END:DAYLIGHT
BEGIN:STANDARD
TZOFFSETFROM:+0200
TZOFFSETTO:+0100
TZNAME:CET
DTSTART:20231029T010000
END:STANDARD
BEGIN:DAYLIGHT
TZOFFSETFROM:+0100
TZOFFSETTO:+0200
TZNAME:CEST
DTSTART:20240331T010000
END:DAYLIGHT
BEGIN:STANDARD
TZOFFSETFROM:+0200
TZOFFSETTO:+0100
TZNAME:CET
DTSTART:20241027T010000
END:STANDARD
BEGIN:DAYLIGHT
TZOFFSETFROM:+0100
TZOFFSETTO:+0200
TZNAME:CEST
DTSTART:20250330T010000
END:DAYLIGHT
BEGIN:STANDARD
TZOFFSETFROM:+0200
TZOFFSETTO:+0100
TZNAME:CET
DTSTART:20251026T010000
END:STANDARD
END:VTIMEZONE
BEGIN:VEVENT
DTSTART;TZID=Europe/Berlin:20240228T090000
DTEND;TZID=Europe/Berlin:20240228T110000
DTSTAMP:20260423T204332
CREATED:20230918T112333Z
LAST-MODIFIED:20230918T112333Z
UID:10006541-1709110800-1709118000@www.aachen.digital
SUMMARY:Digital. Praktisch. Nah. - Digitalisierung in der Gastronomie
DESCRIPTION:Erfahren Sie\, welche Möglichkeiten der Digitalisierung sich in der Gastronomie bieten\, und erleben Sie den Servier-Roboter “Schröder” im Restaurant Indemann 1 in Aktion. \nDie Veranstaltung findet als Koope­ra­tion des digitalHUB Aachen e.V. zusammen mit der AGIT Aachener Gesell­schaft für Inno­va­tion und Tech­no­logie mbH und dem Mittelstand-Digital Zentrum Rheinland statt. Sie richtet sich an Fach- und Führungs­kräfte des Mittel­stands. Vorkennt­nisse sind nicht erfor­der­lich. \nAgenda \n\nBegrüßung durch den Gastgeber Haus Lerch GbR\nBegrüßung durch den Projektpartner „Digital. Praktisch. Nah.“ \, die Wirtschaftsförderung des Kreises Düren und AGIT mbH\nVorstellung des Mittelstand-Digital Zentrum Rheinland\, Philipp Hemmers (WZL der RWTH Aachen)\nDigitalisierung in der Gastronomie – aus der Forschung in die Praxis\, Malte Storm (WZL der RWTH Aachen)\nBest Practice Haus Lerch\nUnternehmensführung im Restaurant Indemann\nDiskussion & Netzwerken mit Brunch\n\nDie Veranstaltung findet in Präsenz statt. Die Teilnahme ist kostenfrei. Wir bitten um eine verbind­liche Anmeldung. \nAnmelden
URL:https://www.aachen.digital/en/event/digital-praktisch-nah-digitalisierung-in-der-gastronomie/
LOCATION:Restaurant Indemann\, Zum Indemann 1\, Inden\, 52459\, Deutschland
ATTACH;FMTTYPE=image/jpeg:https://www.aachen.digital/wp-content/uploads/2023/09/Digital-Praktisch-Nah-28.02.2024.jpg
END:VEVENT
BEGIN:VEVENT
DTSTART;TZID=Europe/Berlin:20200213T140000
DTEND;TZID=Europe/Berlin:20200213T180000
DTSTAMP:20260423T204332
CREATED:20200127T103956Z
LAST-MODIFIED:20200127T103956Z
UID:10005504-1581602400-1581616800@www.aachen.digital
SUMMARY:Interaktiver KMU-Workshop: Entwicklung von Innovationsstrategien
DESCRIPTION:Führende Unternehmen jeder Größe haben eine klare Innovationsstrategie\, die definiert\, wie Innovationen zum Erreichen ihrer Ziele beitragen. In der Veranstaltung führen wir Sie in unseren erprobten 10-Schritte Ansatz zur Entwicklung von Innovationsstrategien ein\, welcher mit verschiedenen Praxisbeispielen untermalt wird und sich an den speziellen Bedürfnissen kleiner und mittelständischer Unternehmen ausrichtet. Verschiedene Techniken und Werkzeuge werden vorgestellt und angewandt\, die sowohl zur Analyse der Unternehmensumwelt\, als auch der internen Anforderungen an eine Innovationsstrategie dienen\, um so ein solides Fundament für die eigene Innovationsstrategie zu entwickeln. \n\nProgramm:\n• Begrüßung: Vorstellung der Referenten und Teilnehmer und Einführung in das Thema \n• Impuls: Grundlagen der Innovationsstrategie und unternehmerische Bedeutung \n• Austausch: Innovationsstrategien in der Praxis \n• Workshop: Die externe Unternehmensanalyse als Fundament der Innovationsstrategie \n• Workshop: Die interne Unternehmensanalyse als Strukturgeber der Innovationsstrategie \n• Impuls: Die Innovationsstrategie – zentrale Bestandteile und Ihre Herleitung \n• Imbiss und Austausch \nReferent:\nMarius Müller\, IMP³rove Academy \nDie Veranstaltung ist kostenfrei!\nZur Anmeldung geht´s hier. \nBei Fragen wenden Sie sich bitte an Daniela Pollin\, AGIT mbH\, entweder telefonisch über die 0241/963-1028 oder per E-Mail an d.pollin@agit.de.
URL:https://www.aachen.digital/en/event/interaktiver-kmu-workshop-entwicklung-von-innovationsstrategien/
LOCATION:Restaurant Indemann\, Zum Indemann 1\, Inden\, 52459\, Deutschland
ATTACH;FMTTYPE=image/jpeg:https://www.aachen.digital/wp-content/uploads/2020/01/AdobeStock_93452229.jpeg
ORGANIZER;CN="AGIT mbH":MAILTO:info@agit.de
END:VEVENT
END:VCALENDAR