BEGIN:VCALENDAR
VERSION:2.0
PRODID:-//digitalHUB Aachen - ECPv6.15.20//NONSGML v1.0//EN
CALSCALE:GREGORIAN
METHOD:PUBLISH
X-WR-CALNAME:digitalHUB Aachen
X-ORIGINAL-URL:https://www.aachen.digital/en/
X-WR-CALDESC:Events for digitalHUB Aachen
REFRESH-INTERVAL;VALUE=DURATION:PT1H
X-Robots-Tag:noindex
X-PUBLISHED-TTL:PT1H
BEGIN:VTIMEZONE
TZID:Europe/Berlin
BEGIN:DAYLIGHT
TZOFFSETFROM:+0100
TZOFFSETTO:+0200
TZNAME:CEST
DTSTART:20180325T010000
END:DAYLIGHT
BEGIN:STANDARD
TZOFFSETFROM:+0200
TZOFFSETTO:+0100
TZNAME:CET
DTSTART:20181028T010000
END:STANDARD
BEGIN:DAYLIGHT
TZOFFSETFROM:+0100
TZOFFSETTO:+0200
TZNAME:CEST
DTSTART:20190331T010000
END:DAYLIGHT
BEGIN:STANDARD
TZOFFSETFROM:+0200
TZOFFSETTO:+0100
TZNAME:CET
DTSTART:20191027T010000
END:STANDARD
BEGIN:DAYLIGHT
TZOFFSETFROM:+0100
TZOFFSETTO:+0200
TZNAME:CEST
DTSTART:20200329T010000
END:DAYLIGHT
BEGIN:STANDARD
TZOFFSETFROM:+0200
TZOFFSETTO:+0100
TZNAME:CET
DTSTART:20201025T010000
END:STANDARD
BEGIN:DAYLIGHT
TZOFFSETFROM:+0100
TZOFFSETTO:+0200
TZNAME:CEST
DTSTART:20210328T010000
END:DAYLIGHT
BEGIN:STANDARD
TZOFFSETFROM:+0200
TZOFFSETTO:+0100
TZNAME:CET
DTSTART:20211031T010000
END:STANDARD
BEGIN:DAYLIGHT
TZOFFSETFROM:+0100
TZOFFSETTO:+0200
TZNAME:CEST
DTSTART:20220327T010000
END:DAYLIGHT
BEGIN:STANDARD
TZOFFSETFROM:+0200
TZOFFSETTO:+0100
TZNAME:CET
DTSTART:20221030T010000
END:STANDARD
BEGIN:DAYLIGHT
TZOFFSETFROM:+0100
TZOFFSETTO:+0200
TZNAME:CEST
DTSTART:20230326T010000
END:DAYLIGHT
BEGIN:STANDARD
TZOFFSETFROM:+0200
TZOFFSETTO:+0100
TZNAME:CET
DTSTART:20231029T010000
END:STANDARD
BEGIN:DAYLIGHT
TZOFFSETFROM:+0100
TZOFFSETTO:+0200
TZNAME:CEST
DTSTART:20240331T010000
END:DAYLIGHT
BEGIN:STANDARD
TZOFFSETFROM:+0200
TZOFFSETTO:+0100
TZNAME:CET
DTSTART:20241027T010000
END:STANDARD
BEGIN:DAYLIGHT
TZOFFSETFROM:+0100
TZOFFSETTO:+0200
TZNAME:CEST
DTSTART:20250330T010000
END:DAYLIGHT
BEGIN:STANDARD
TZOFFSETFROM:+0200
TZOFFSETTO:+0100
TZNAME:CET
DTSTART:20251026T010000
END:STANDARD
END:VTIMEZONE
BEGIN:VEVENT
DTSTART;TZID=Europe/Berlin:20240923T120000
DTEND;TZID=Europe/Berlin:20240923T150000
DTSTAMP:20260423T201521
CREATED:20240805T111810Z
LAST-MODIFIED:20240805T111810Z
UID:10006194-1727092800-1727103600@www.aachen.digital
SUMMARY:ruhrSTARTUPWEEK Kick Off | von Digital Marketing bis Branding
DESCRIPTION:Du hast Lust die ersten Schritte Richtung Digital Marketing zu machen oder bist du schon Vollprofi? Wir haben für jedes Level spannende Keynotes! \nStarte mit dem ruhrHUB in eine Woche voller Innovation\, Inspiration und Networking! Die ruhrSTARTUPWEEK 2024 beginnt mit einem spannenden Kick Off Event. \nBeim Kick Off dreht sich alles um Digital Marketing und Branding. \n\n12:00 Uhr – Lunch & Networking:\nGenieße ein leckeres Mittagessen und nutze die Gelegenheit\, um dich mit anderen Teilnehmer*innen auszutauschen und erste wertvolle Kontakte zu knüpfen.\n12:30 Uhr – Keynote: Leon Ruddat von SNOCKS entführt uns in die faszinierende Welt der Künstlichen Intelligenz im Digital Marketing. Erfahre aus erster Hand\, wie KI die Marketinglandschaft revolutioniert und welche Trends du unbedingt kennen solltest.\n13:45 Uhr – Parallele Workshops: Wähle aus drei spannenden Sessions die aus\, die dich am meisten interessiert\n15:00 Uhr – Ausklang:\n\nLass den Tag bei einem entspannten Get-together ausklingen. Tausche dich mit anderen Teilnehmer*innen aus und reflektiere gemeinsam die Eindrücke des Tages. \nVerpasse nicht den Startschuss zur ruhrSTARTUPWEEK 2024! Melde dich jetzt an und sei Teil einer Woche voller Innovation und einzigartiger Networking-Möglichkeiten \nJetzt anmelden
URL:https://www.aachen.digital/en/event/ruhrstartupweek-kick-off-von-digital-marketing-bis-branding/
LOCATION:ruhr:HUB GmbH\, Lindenallee 10\, Essen\, NRW\, 45127\, Deutschland
ATTACH;FMTTYPE=image/jpeg:https://www.aachen.digital/wp-content/uploads/2024/08/Design-ohne-Titel-25.jpg
ORGANIZER;CN="ruhrHUB":MAILTO:info@hub.ruhr
END:VEVENT
BEGIN:VEVENT
DTSTART;TZID=Europe/Berlin:20240815T173000
DTEND;TZID=Europe/Berlin:20240815T200000
DTSTAMP:20260423T201521
CREATED:20240805T111042Z
LAST-MODIFIED:20240805T111200Z
UID:10006844-1723743000-1723752000@www.aachen.digital
SUMMARY:ruhrSTARTUPNIGHT | The power of co-creation
DESCRIPTION:Dein perfektes Meet-Up für Networking in lockerer Runde: Dich erwartet ein Expert*innen-Impulsvortrag\, Start-Up Pitches und Networking bei Pizza und Getränken.\nWas du davon hast? Wir helfen dir dein Start-up aufs nächste Level zu bringen und alle Besucher*innen haben die Chance interessante Player aus dem Start-up Ökosystem kennenzulernen.\nWir sind gespannt auf Markus Schweers\, der aktuell auch an seiner Doktorarbeit schreibt und uns tiefe Einblicke in die Power of Co-Creation für Start-Ups gibt. Wir freuen uns auf seine Erfahrungen und Erkenntnisse und einen inspirierenden Abend. \nIm Anschluss pitchen 3 aufregende Start-ups: \n\nWorkstation 24-7\nShuhari (KI Lernvideos)\nReducd Wärmepumpen Innovation\n\nWillst du auch die Chance nutzen und dein Start-up vorstellen? Dann melde dich bei jelena.meyer.vicente@ruhrhub.de \nEinlass ist ab 17:30 Uhr und los geht’s mit dem Vortrag um 18 Uhr\, kommt also gerne schon etwas früher und schnappt euch die ersten Getränke und Snacks. \nHier anmelden
URL:https://www.aachen.digital/en/event/ruhrstartupnight-the-power-of-co-creation/
LOCATION:ruhr:HUB GmbH\, Lindenallee 10\, Essen\, NRW\, 45127\, Deutschland
ATTACH;FMTTYPE=image/jpeg:https://www.aachen.digital/wp-content/uploads/2024/08/Design-ohne-Titel-24.jpg
ORGANIZER;CN="ruhrHUB":MAILTO:info@hub.ruhr
END:VEVENT
BEGIN:VEVENT
DTSTART;VALUE=DATE:20190923
DTEND;VALUE=DATE:20190928
DTSTAMP:20260423T201521
CREATED:20190909T123535Z
LAST-MODIFIED:20190909T123535Z
UID:10005371-1569196800-1569628799@www.aachen.digital
SUMMARY:startupweek:RUHR
DESCRIPTION:#suw2019\nMade with POTTential – Erlebt mit uns die facettenreiche Start-up-Szene des Ruhrgebiets in einer Woche! Vom 23. bis zum 27. September 2019 erwarten Euch spannende Events in der kompletten Region rund um die Themen Entrepreneurship & Digitalisierung: von Workshops\, Impulsvorträgen und Meetups bis hin zu Pitches\, Messen und Networking-Veranstaltungen – hier ist für jeden etwas dabei. \nDas geht im Pott!\nUnzählige Initiativen schaffen unermüdlich Angebote für junge Gründer mit großen Ideen und Visionen. Etablierte Unternehmen machen sich auf den Weg zur digitalen Transformation und unternehmensübergreifende Projekte schaffen Raum für bisher nie dagewesene Produkte und Dienstleistungen. Und auch unsere Unis ermutigen und befähigen angehende Gründer und Querdenker zunehmend dazu\, ihre Heimat auf dem Weg zu einer der spannendsten Innovationsregionen Europas zu begleiten und aktiv mitzugestalten. \nWir als ruhr:HUB sind ein stolzer Teil dieser wachsenden Szene und laden alle dazu ein\, gemeinsam unseren digitalen Pott eine Woche lang zu präsentieren. Egal ob Unternehmen\, Initiative\, Start-up\, Grown-up oder solche\, die es werden wollen. Einfach mal die Szene live erleben und erfahren\, was sich alles im Bereich der digitalen Innovationen in der Region so tut: im Rahmen der nunmehr dritten startupweek:RUHR ist Raum dafür. \nWeitere Informationen und Programm hier. \nHIER GEHTS ZUR ANMELDUNG
URL:https://www.aachen.digital/en/event/startupweekruhr/
LOCATION:ruhr:HUB GmbH\, Lindenallee 10\, Essen\, NRW\, 45127\, Deutschland
ATTACH;FMTTYPE=image/jpeg:https://www.aachen.digital/wp-content/uploads/2019/09/bg-startupweek-save-16zu5.jpg
ORGANIZER;CN="ruhrHUB":MAILTO:info@hub.ruhr
END:VEVENT
END:VCALENDAR