BEGIN:VCALENDAR
VERSION:2.0
PRODID:-//digitalHUB Aachen - ECPv6.15.20//NONSGML v1.0//EN
CALSCALE:GREGORIAN
METHOD:PUBLISH
X-WR-CALNAME:digitalHUB Aachen
X-ORIGINAL-URL:https://www.aachen.digital/en/
X-WR-CALDESC:Events for digitalHUB Aachen
REFRESH-INTERVAL;VALUE=DURATION:PT1H
X-Robots-Tag:noindex
X-PUBLISHED-TTL:PT1H
BEGIN:VTIMEZONE
TZID:Europe/Berlin
BEGIN:DAYLIGHT
TZOFFSETFROM:+0100
TZOFFSETTO:+0200
TZNAME:CEST
DTSTART:20220327T010000
END:DAYLIGHT
BEGIN:STANDARD
TZOFFSETFROM:+0200
TZOFFSETTO:+0100
TZNAME:CET
DTSTART:20221030T010000
END:STANDARD
BEGIN:DAYLIGHT
TZOFFSETFROM:+0100
TZOFFSETTO:+0200
TZNAME:CEST
DTSTART:20230326T010000
END:DAYLIGHT
BEGIN:STANDARD
TZOFFSETFROM:+0200
TZOFFSETTO:+0100
TZNAME:CET
DTSTART:20231029T010000
END:STANDARD
BEGIN:DAYLIGHT
TZOFFSETFROM:+0100
TZOFFSETTO:+0200
TZNAME:CEST
DTSTART:20240331T010000
END:DAYLIGHT
BEGIN:STANDARD
TZOFFSETFROM:+0200
TZOFFSETTO:+0100
TZNAME:CET
DTSTART:20241027T010000
END:STANDARD
BEGIN:DAYLIGHT
TZOFFSETFROM:+0100
TZOFFSETTO:+0200
TZNAME:CEST
DTSTART:20250330T010000
END:DAYLIGHT
BEGIN:STANDARD
TZOFFSETFROM:+0200
TZOFFSETTO:+0100
TZNAME:CET
DTSTART:20251026T010000
END:STANDARD
END:VTIMEZONE
BEGIN:VEVENT
DTSTART;TZID=Europe/Berlin:20240417T183000
DTEND;TZID=Europe/Berlin:20240417T230000
DTSTAMP:20260423T204249
CREATED:20240327T090315Z
LAST-MODIFIED:20240327T092141Z
UID:10006116-1713378600-1713394800@www.aachen.digital
SUMMARY:Aachen Maker Meetup!
DESCRIPTION:Do you like doing “strange things with electricity”? Then come to the informal monthly Meetup! Bring a project if you like and chat with likeminded people. \nThis month\, there will be a presentation moderated by Johannes Grischa von Eckardstein with the following topic: “Solder-free reusable electronics\, reusable and sustainable: Presentation of the new Grionec system – electronic circuits in no time” \nThe system (Grionec.de) enables the construction of electronic circuits directly according to a circuit diagram without tools. It can be reused 500 – 1000 times and is suitable for teaching\, prototype construction\, research & development or in the hobby sector as well as\, if possible\, for installation in end products. \nAre you interested in joining? Then sign up here so there will be enough pizza and drinks for everyone!
URL:https://www.aachen.digital/en/event/aachen-maker-meetup-3/
LOCATION:RWTH-Informatikzentrum\, Ahornstr. 55\, Aachen\, 52074
ATTACH;FMTTYPE=image/jpeg:https://www.aachen.digital/wp-content/uploads/2024/03/17.-April_Aachen-Maker-Meetup_Grionec.jpg
END:VEVENT
BEGIN:VEVENT
DTSTART;TZID=Europe/Berlin:20240320T183000
DTEND;TZID=Europe/Berlin:20240320T230000
DTSTAMP:20260423T204249
CREATED:20240313T082813Z
LAST-MODIFIED:20240313T082813Z
UID:10006757-1710959400-1710975600@www.aachen.digital
SUMMARY:Aachen Maker Meetup!
DESCRIPTION:Do you like doing “strange things with electricity”? Then come to our informal monthly Meetup! Bring a project if you like and chat with likeminded people. \nOur next meetup will be shortly before Easter. Therefore\, we would like to fabricate our own easter decoration using the eggbot. \nYou can prepare your own designers for this or start with templates. To do so simply follow the instructions on our website. \nIf you would like to use the eggbot\, please remember to bring your eggs to the next meetup. \nOf course\, any other project you would like to bring along is welcome. \nLooking forward seeing you! \nPlease sign up for the event here  so we can order enough pizza and drinks! \n  \n  \n 
URL:https://www.aachen.digital/en/event/aachen-maker-meetup-2/
LOCATION:RWTH-Informatikzentrum\, Ahornstr. 55\, Aachen\, 52074
ATTACH;FMTTYPE=image/jpeg:https://www.aachen.digital/wp-content/uploads/2024/03/Maker-Meetup-Easter_Visual.jpg
END:VEVENT
BEGIN:VEVENT
DTSTART;TZID=Europe/Berlin:20240221T183000
DTEND;TZID=Europe/Berlin:20240221T230000
DTSTAMP:20260423T204249
CREATED:20240209T113315Z
LAST-MODIFIED:20240216T085922Z
UID:10006734-1708540200-1708556400@www.aachen.digital
SUMMARY:Aachen Maker Meetup!
DESCRIPTION:Do you like doing “strange things with electricity”? Then come to our informal monthly Meetup! Bring a project if you like and chat with likeminded people. \nThis month\, some students from this year’s master lab will present their cooperative rhythm games that feature a self-built controller (hci.ac/mcp). If you would like to check it out\, come along and play it. \nOf course\, any other project you would like to bring along is welcome. \nLooking forward seeing you! \nPlease sign up for the event here so we can order enough pizza and drinks!
URL:https://www.aachen.digital/en/event/aachen-maker-meetup/
LOCATION:RWTH-Informatikzentrum\, Ahornstr. 55\, Aachen\, 52074
ATTACH;FMTTYPE=image/jpeg:https://www.aachen.digital/wp-content/uploads/2024/02/Aachen-Maker-Meetup_Stage.jpg
END:VEVENT
BEGIN:VEVENT
DTSTART;TZID=Europe/Berlin:20231115T183000
DTEND;TZID=Europe/Berlin:20231115T230000
DTSTAMP:20260423T204249
CREATED:20231109T123046Z
LAST-MODIFIED:20231109T123046Z
UID:10006621-1700073000-1700089200@www.aachen.digital
SUMMARY:Monthly Meetup of Makers\, Artists\, Hackers
DESCRIPTION:Lithophanes – 3D Printing – Lasercutting – Pizza \nDo you like doing “strange things with elecricity?” Then come to the informal monthly Meetup! Bring a project if you like and chat with likeminded people. \nThis month they are going to show you the secret of lithophanes: How can you create a lithophane on your favorite photo? \nIf you would like to join please bring your favorite photo and your laptop and install Cura on your laptop beforehand. \nLooking forward seeing you! \nREGISTRATION
URL:https://www.aachen.digital/en/event/monthly-meetup-of-makers-artists-hackers-2/
LOCATION:RWTH-Informatikzentrum\, Ahornstr. 55\, Aachen\, 52074
ATTACH;FMTTYPE=image/jpeg:https://www.aachen.digital/wp-content/uploads/2023/10/meetup-stage.jpg
END:VEVENT
BEGIN:VEVENT
DTSTART;TZID=Europe/Berlin:20231018T163000
DTEND;TZID=Europe/Berlin:20231018T230000
DTSTAMP:20260423T204249
CREATED:20231012T093529Z
LAST-MODIFIED:20231012T095452Z
UID:10006608-1697646600-1697670000@www.aachen.digital
SUMMARY:Monthly Meetup of Makers\, Artists\, Hackers
DESCRIPTION:Meetup every 3rd Wednesday of the month from 18:30 until late. Special topics and any special guests for each month will be posted. \nThis month there are several topics to discuss: \n\nFirst look at the Arduino Uno R4 WiFi: The successor to the most successful microcontroller board of all time\, the Arduino Uno R3\, is here. We got a copy to play around with\, and Jan Borchers briefly explains what the newcomer can do.\nNews about the Öcheruhr: The project is picking up speed and there are a few first prototypes on display.\nThe deodorant lamp: If you have an empty deodorant roller\, Birgit Stolte has a chic upcycling idea.\n\nAs always\, your own projects are welcome! \nThey are DIY makers\, product designers\, electronics hackers\, artists\, 3D printer builders\, geek dads and their daughters – anybody from 9 to 99 doing “strange things with electricity”! \nThe meetups are very informal; just sign up for the evening here and bring a project you’ve been working on if you like. Usually most folks come from Germany\, but also people from the Netherlands and Belgium\, thanks to Aachen’s unique location\, plus frequently other nationalities. If you speak German or English you’ll be fine! Additionally\, there will be uploads of reports on the meetups to the website. \nREGISTRATION
URL:https://www.aachen.digital/en/event/monthly-meetup-of-makers-artists-hackers/
LOCATION:RWTH-Informatikzentrum\, Ahornstr. 55\, Aachen\, 52074
ATTACH;FMTTYPE=image/jpeg:https://www.aachen.digital/wp-content/uploads/2023/10/meetup-stage.jpg
END:VEVENT
END:VCALENDAR