BEGIN:VCALENDAR
VERSION:2.0
PRODID:-//digitalHUB Aachen - ECPv6.15.20//NONSGML v1.0//EN
CALSCALE:GREGORIAN
METHOD:PUBLISH
X-ORIGINAL-URL:https://www.aachen.digital/en/
X-WR-CALDESC:Events for digitalHUB Aachen
REFRESH-INTERVAL;VALUE=DURATION:PT1H
X-Robots-Tag:noindex
X-PUBLISHED-TTL:PT1H
BEGIN:VTIMEZONE
TZID:Europe/Berlin
BEGIN:DAYLIGHT
TZOFFSETFROM:+0100
TZOFFSETTO:+0200
TZNAME:CEST
DTSTART:20170326T010000
END:DAYLIGHT
BEGIN:STANDARD
TZOFFSETFROM:+0200
TZOFFSETTO:+0100
TZNAME:CET
DTSTART:20171029T010000
END:STANDARD
BEGIN:DAYLIGHT
TZOFFSETFROM:+0100
TZOFFSETTO:+0200
TZNAME:CEST
DTSTART:20180325T010000
END:DAYLIGHT
BEGIN:STANDARD
TZOFFSETFROM:+0200
TZOFFSETTO:+0100
TZNAME:CET
DTSTART:20181028T010000
END:STANDARD
BEGIN:DAYLIGHT
TZOFFSETFROM:+0100
TZOFFSETTO:+0200
TZNAME:CEST
DTSTART:20190331T010000
END:DAYLIGHT
BEGIN:STANDARD
TZOFFSETFROM:+0200
TZOFFSETTO:+0100
TZNAME:CET
DTSTART:20191027T010000
END:STANDARD
END:VTIMEZONE
BEGIN:VEVENT
DTSTART;TZID=Europe/Berlin:20181114T170000
DTEND;TZID=Europe/Berlin:20181114T233000
DTSTAMP:20260423T230543
CREATED:20181029T102700Z
LAST-MODIFIED:20181029T103220Z
UID:10004661-1542214800-1542238200@www.aachen.digital
SUMMARY:MaschBau Innovation Night
DESCRIPTION:Lerne bei der MaschBau Innovation Night im Schnelldurchlauf neue digitale Produkte und Lösungen für den Maschinenbau kennen und tausche dich mit Experten aus!­­­ \nDer digihub Düsseldorf/Rheinland lädt gemeinsam mit der WFMG – Wirtschaftsförderung Mönchengladbach am 14.11.2018 in den SMS Businesspark in Mönchengladbach ein. \nDas Programm und weitere Infos findest du unter https://digihub.de/veranstaltungen/maschbau
URL:https://www.aachen.digital/en/event/maschbau-innovation-night/
LOCATION:SMS Businesspark\, Blumenberger Str. 143-145\, Mönchengladbach\, NRW\, Deutschland
ATTACH;FMTTYPE=image/jpeg:https://www.aachen.digital/wp-content/uploads/2018/10/MaschBau-Innovation-Night.jpg
ORGANIZER;CN="digihub D%C3%BCsseldorf Rheinland":MAILTO:info@digihub.de
END:VEVENT
END:VCALENDAR