BEGIN:VCALENDAR
VERSION:2.0
PRODID:-//digitalHUB Aachen - ECPv6.15.20//NONSGML v1.0//EN
CALSCALE:GREGORIAN
METHOD:PUBLISH
X-ORIGINAL-URL:https://www.aachen.digital/en/
X-WR-CALDESC:Events for digitalHUB Aachen
REFRESH-INTERVAL;VALUE=DURATION:PT1H
X-Robots-Tag:noindex
X-PUBLISHED-TTL:PT1H
BEGIN:VTIMEZONE
TZID:Europe/Berlin
BEGIN:DAYLIGHT
TZOFFSETFROM:+0100
TZOFFSETTO:+0200
TZNAME:CEST
DTSTART:20170326T010000
END:DAYLIGHT
BEGIN:STANDARD
TZOFFSETFROM:+0200
TZOFFSETTO:+0100
TZNAME:CET
DTSTART:20171029T010000
END:STANDARD
BEGIN:DAYLIGHT
TZOFFSETFROM:+0100
TZOFFSETTO:+0200
TZNAME:CEST
DTSTART:20180325T010000
END:DAYLIGHT
BEGIN:STANDARD
TZOFFSETFROM:+0200
TZOFFSETTO:+0100
TZNAME:CET
DTSTART:20181028T010000
END:STANDARD
BEGIN:DAYLIGHT
TZOFFSETFROM:+0100
TZOFFSETTO:+0200
TZNAME:CEST
DTSTART:20190331T010000
END:DAYLIGHT
BEGIN:STANDARD
TZOFFSETFROM:+0200
TZOFFSETTO:+0100
TZNAME:CET
DTSTART:20191027T010000
END:STANDARD
BEGIN:DAYLIGHT
TZOFFSETFROM:+0100
TZOFFSETTO:+0200
TZNAME:CEST
DTSTART:20200329T010000
END:DAYLIGHT
BEGIN:STANDARD
TZOFFSETFROM:+0200
TZOFFSETTO:+0100
TZNAME:CET
DTSTART:20201025T010000
END:STANDARD
BEGIN:DAYLIGHT
TZOFFSETFROM:+0100
TZOFFSETTO:+0200
TZNAME:CEST
DTSTART:20210328T010000
END:DAYLIGHT
BEGIN:STANDARD
TZOFFSETFROM:+0200
TZOFFSETTO:+0100
TZNAME:CET
DTSTART:20211031T010000
END:STANDARD
BEGIN:DAYLIGHT
TZOFFSETFROM:+0100
TZOFFSETTO:+0200
TZNAME:CEST
DTSTART:20220327T010000
END:DAYLIGHT
BEGIN:STANDARD
TZOFFSETFROM:+0200
TZOFFSETTO:+0100
TZNAME:CET
DTSTART:20221030T010000
END:STANDARD
BEGIN:DAYLIGHT
TZOFFSETFROM:+0100
TZOFFSETTO:+0200
TZNAME:CEST
DTSTART:20230326T010000
END:DAYLIGHT
BEGIN:STANDARD
TZOFFSETFROM:+0200
TZOFFSETTO:+0100
TZNAME:CET
DTSTART:20231029T010000
END:STANDARD
BEGIN:DAYLIGHT
TZOFFSETFROM:+0100
TZOFFSETTO:+0200
TZNAME:CEST
DTSTART:20240331T010000
END:DAYLIGHT
BEGIN:STANDARD
TZOFFSETFROM:+0200
TZOFFSETTO:+0100
TZNAME:CET
DTSTART:20241027T010000
END:STANDARD
END:VTIMEZONE
BEGIN:VEVENT
DTSTART;TZID=Europe/Berlin:20230202T190000
DTEND;TZID=Europe/Berlin:20230202T210000
DTSTAMP:20260423T230543
CREATED:20230104T180033Z
LAST-MODIFIED:20230912T113542Z
UID:10006389-1675364400-1675371600@www.aachen.digital
SUMMARY:Mitglieder ComeTogether mit INTEWA
DESCRIPTION:Die Chance\, Nachhaltigkeit im Unternehmen richtig anzugehen \nBedingt durch Dürre\, Hitzeperioden und tödliche Überschwemmungen ist Wasser in den letzten Jahren vermehrt in den Fokus der Aufmerksamkeit gerückt. Im Sommer 2022 herrschte in Europa die schlimmste Dürre seit 500 Jahren\, das zeigt: Die Dringlichkeit für einen nachhaltigen Umgang mit Wasser ist groß. Wie man also im Unternehmen nachhaltiger mit der Ressource Wasser umgehen kann\, erfahrt ihr auf unserem nächsten Mitglieder ComeTogether mit INTEWA.
URL:https://www.aachen.digital/en/event/mitglieder-cometogether-4/
LOCATION:Stadtbad Aachen\, Blücherplatz 24\, Aachen\, NRW\, 52068\, Deutschland
ATTACH;FMTTYPE=image/jpeg:https://www.aachen.digital/wp-content/uploads/2023/01/ComeTogether-Stage-1.jpg
END:VEVENT
BEGIN:VEVENT
DTSTART;TZID=Europe/Berlin:20220915T140000
DTEND;TZID=Europe/Berlin:20220915T150000
DTSTAMP:20260423T230543
CREATED:20220822T122332Z
LAST-MODIFIED:20220908T122601Z
UID:10006301-1663250400-1663254000@www.aachen.digital
SUMMARY:Workshop #1 digitalSUMMIT: Kaffee plus Avocado minus Fahrrad
DESCRIPTION:Wie uns Umweltbilanzierung bereits im Alltag helfen kann\n\n\n\n\n\n\nDieser Workshop richtet sich an alle\, die ihr Leben und auch ihr Unternehmen mit Hilfe von Umweltbilanzierung nachhaltiger gestalten wollen. \nWas euch erwartet:  \nGemeinsam schauen wir uns an\, wie Entscheidungen in Prozessketten gleichermaßen aus ökologischer\, ökonomischer und sozialer Perspektive betrachten und damit die Umweltbilanz möglichst genau bestimmt werden kann. Außerdem diskutieren wir darüber\, warum es wichtig ist\, diese Strukturen auch auf Unternehmensprozesse zu übertragen. \nDer Workshop findet im Rahmen des digitalSUMMIT Aachen statt. \nInfos unter: www.digitalSUMMIT.ac
URL:https://www.aachen.digital/en/event/workshop-1-digitalsummit-kaffee-plus-avocado-minus-fahrrad/
LOCATION:Stadtbad Aachen\, Blücherplatz 24\, Aachen\, NRW\, 52068\, Deutschland
ATTACH;FMTTYPE=image/jpeg:https://www.aachen.digital/wp-content/uploads/2022/08/WS1_summit_stage-1.jpg
ORGANIZER;CN="digitalHUB Aachen":MAILTO:kontakt@hubaachen.de
END:VEVENT
BEGIN:VEVENT
DTSTART;TZID=Europe/Berlin:20180928T160000
DTEND;TZID=Europe/Berlin:20180928T180000
DTSTAMP:20260423T230543
CREATED:20180823T110547Z
LAST-MODIFIED:20181018T103843Z
UID:10004795-1538150400-1538157600@www.aachen.digital
SUMMARY:Workshop Digitale Geschäftsmodelle
DESCRIPTION:Wie werden wir 2025 arbeiten\, wohnen\, einkaufen\, kommunizieren\, produzieren\, gesund leben\, lernen und mobil sein? Die Experten des Kompetenzzentrums IT-Wirtschaft werden am 28. September in einem Workshop das Zukunftsthema Digitale Geschäftsmodelle aufgreifen und mit Ihnen in einem spannenden Rahmen diskutieren. \nIhre kostenlose Anmeldung erfolgt über die offizielle Internetseite unter diesem Link: Kompetenzzentrum IT-Wirtschaft \nVeranstalter: Kompetenzzentrum IT-Wirtschaft und digitalHUB
URL:https://www.aachen.digital/en/event/workshop-digitale-geschaeftsmodelle/
LOCATION:Stadtbad Aachen\, Blücherplatz 24\, Aachen\, NRW\, 52068\, Deutschland
ATTACH;FMTTYPE=image/png:https://www.aachen.digital/wp-content/uploads/2018/08/logo-it-Kompetenzzentrum.png
END:VEVENT
END:VCALENDAR